Workbook

Sheet Начало
A1: Fn | B1: LR/L | C1: mn' | D1: m'ш | E1: m'шS | F1: m'шR | G1: m'j | H1: Проверка | J1: b | K1: ϕ | L1: Рг | M1: Рг-Ро | N1: Pj | O1: (Рг-Ро)+Pj | P1: рад ϕ | Q1: рад b | R1: N | S1: Pш | T1: Z | U1: T | V1: tg(b) | W1: cos(b) | X1: cos(a+b)/cos(b) | Y1: sin(a+b)/cos(b)
A2: мм^2 | B2: - | C2: кг/м^2 | D2: кг/м^2 | E2: кг/м^2 | F2: кг/м^2 | G2: кг/м^2 | H2: =G3-H3 -> 0 | J2: 0 | K2: 0 | L2: 14 | M2: =L2-0.1 -> 13.9 | N2: =(-$G$3*$H$5*($H$6^2)*(COS(P2)+$H$7*COS(2*P2)))/10^6 -> -1.5621428 | O2: =M2+N2 -> 12.337857 | P2: =RADIANS(K2) -> 0 | Q2: =RADIANS(J2) -> 0 | R2: =O2*V2 -> 0 | S2: =O2*W2 -> 12.337857 | T2: =O2*X2 -> 12.337857 | U2: =O2*Y2 -> 0 | V2: =TAN(Q2) -> 0 | W2: =COS(Q2) -> 1 | X2: =(COS(P2+Q2))/COS(Q2) -> 1 | Y2: =(SIN(P2+Q2))/COS(Q2) -> 0
A3: 6000 | B3: =0.058/0.25 -> 0.232 | C3: =1.6*A7 -> 134.4 | D3: =1.75*A7 -> 147 | E3: =D3*B3 -> 34.104 | F3: =D3*(1-B3) -> 112.896 | G3: =C3+E3 -> 168.504 | H3: =C3+D3*B3 -> 168.504 | J3: 2.19 | K3: =K2+10 -> 10 | L3: 15.9 | M3: =L3-0.1 -> 15.8 | N3: =(-$G$3*$H$5*($H$6^2)*(COS(P3)+$H$7*COS(2*P3)))/10^6 -> -1.5268607 | O3: =M3+N3 -> 14.273139 | P3: =RADIANS(K3) -> 0.17453293 | Q3: =RADIANS(J3) -> 0.038222711 | R3: =O3*V3 -> 0.54582391 | S3: =O3*W3 -> 14.262714 | T3: =O3*X3 -> 13.961517 | U3: =O3*Y3 -> 2.9973593 | V3: =TAN(Q3) -> 0.038241336 | W3: =COS(Q3) -> 0.9992696 | X3: =(COS(P3+Q3))/COS(Q3) -> 0.97816721 | Y3: 0.21
J4: 4.34 | K4: =K3+10 -> 20 | L4: 15.1 | M4: =L4-0.1 -> 15 | N4: =(-$G$3*$H$5*($H$6^2)*(COS(P4)+$H$7*COS(2*P4)))/10^6 -> -1.4234795 | O4: =M4+N4 -> 13.57652 | P4: =RADIANS(K4) -> 0.34906585 | Q4: =RADIANS(J4) -> 0.07574729 | R4: =O4*V4 -> 1.030356 | S4: =O4*W4 -> 13.53759 | T4: =O4*X4 -> 12.405354 | U4: =O4*Y4 -> 5.5663734 | V4: =TAN(Q4) -> 0.075892493 | W4: =COS(Q4) -> 0.99713255 | X4: =(COS(P4+Q4))/COS(Q4) -> 0.91373586 | Y4: 0.41
A5: D | B5: mn | C5: mш | D5: mn'/D | E5: m'ш/D | G5: R= | H5: 0.049 | I5: м | J5: 6.41 | K5: =K4+10 -> 30 | L5: 8.7 | M5: =L5-0.1 -> 8.6 | N5: =(-$G$3*$H$5*($H$6^2)*(COS(P5)+$H$7*COS(2*P5)))/10^6 -> -1.2591516 | O5: =M5+N5 -> 7.3408484 | P5: =RADIANS(K5) -> 0.52359878 | Q5: =RADIANS(J5) -> 0.11187561 | R5: =O5*V5 -> 0.82470544 | S5: =O5*W5 -> 7.2949567 | T5: =O5*X5 -> 5.9450085 | U5: =O5*Y5 -> 4.3311005 | V5: =TAN(Q5) -> 0.1123447 | W5: =COS(Q5) -> 0.99374845 | X5: =(COS(P5+Q5))/COS(Q5) -> 0.80985305 | Y5: 0.59
A6: мм | B6: г | C6: г | D6: (кг/м^2)/мм | E6: (кг/м^2)/мм | G6: w= | H6: 397.733 | I6: рад/с | J6: 8.36 | K6: =K5+10 -> 40 | L6: 5.75 | M6: =L6-0.1 -> 5.65 | N6: =(-$G$3*$H$5*($H$6^2)*(COS(P6)+$H$7*COS(2*P6)))/10^6 -> -1.0450154 | O6: =M6+N6 -> 4.6049846 | P6: =RADIANS(K6) -> 0.6981317 | Q6: =RADIANS(J6) -> 0.14590953 | R6: =O6*V6 -> 0.67672032 | S6: =O6*W6 -> 4.5560524 | T6: =O6*X6 -> 3.0926354 | U6: =O6*Y6 -> 3.4537385 | V6: =TAN(Q6) -> 0.14695387 | W6: =COS(Q6) -> 0.98937408 | X6: =(COS(P6+Q6))/COS(Q6) -> 0.67158432 | Y6: 0.75
A7: 84 | B7: =C3*A3/1000 -> 806.4 | C7: =D3*A3/1000 -> 882 | D7: =C3/A7 -> 1.6 | E7: =D3/A7 -> 1.75 | G7: лямда= | H7: 0.196 | J7: 10.16 | K7: =K6+10 -> 50 | L7: 4.2 | M7: =L7-0.1 -> 4.1 | N7: =(-$G$3*$H$5*($H$6^2)*(COS(P7)+$H$7*COS(2*P7)))/10^6 -> -0.79511574 | O7: =M7+N7 -> 3.3048843 | P7: =RADIANS(K7) -> 0.87266463 | Q7: =RADIANS(J7) -> 0.17732545 | R7: =O7*V7 -> 0.59226089 | S7: =O7*W7 -> 3.2530604 | T7: =O7*X7 -> 1.6706405 | U7: =O7*Y7 -> 2.7430539 | V7: =TAN(Q7) -> 0.17920776 | W7: =COS(Q7) -> 0.984319 | X7: =(COS(P7+Q7))/COS(Q7) -> 0.5055065 | Y7: 0.83
J8: 11.37 | K8: =K7+10 -> 60 | L8: 2.9 | M8: =L8-0.1 -> 2.8 | N8: =(-$G$3*$H$5*($H$6^2)*(COS(P8)+$H$7*COS(2*P8)))/10^6 -> -0.52506806 | O8: =M8+N8 -> 2.2749319 | P8: =RADIANS(K8) -> 1.0471976 | Q8: =RADIANS(J8) -> 0.19844394 | R8: =O8*V8 -> 0.45746729 | S8: =O8*W8 -> 2.2302853 | T8: =O8*X8 -> 0.74128767 | U8: =O8*Y8 -> 2.1839347 | V8: =TAN(Q8) -> 0.20109054 | W8: =COS(Q8) -> 0.98037453 | X8: =(COS(P8+Q8))/COS(Q8) -> 0.32585048 | Y8: 0.96
J9: 12.37 | K9: =K8+10 -> 70 | L9: 2.2 | M9: =L9-0.1 -> 2.1 | N9: =(-$G$3*$H$5*($H$6^2)*(COS(P9)+$H$7*COS(2*P9)))/10^6 -> -0.25061607 | O9: =M9+N9 -> 1.8493839 | P9: =RADIANS(K9) -> 1.2217305 | Q9: =RADIANS(J9) -> 0.21589723 | R9: =O9*V9 -> 0.4055984 | S9: =O9*W9 -> 1.8064497 | T9: =O9*X9 -> 0.25138873 | U9: =O9*Y9 -> 1.8678778 | V9: =TAN(Q9) -> 0.21931541 | W9: =COS(Q9) -> 0.97678458 | X9: =(COS(P9+Q9))/COS(Q9) -> 0.13593107 | Y9: 1.01
J10: 13.14 | K10: =K9+10 -> 80 | L10: 1.7 | M10: =L10-0.1 -> 1.6 | N10: =(-$G$3*$H$5*($H$6^2)*(COS(P10)+$H$7*COS(2*P10)))/10^6 -> 0.013755707 | O10: =M10+N10 -> 1.6137557 | P10: =RADIANS(K10) -> 1.3962634 | Q10: =RADIANS(J10) -> 0.22933626 | R10: =O10*V10 -> 0.37672053 | S10: =O10*W10 -> 1.5715035 | T10: =O10*X10 -> -0.090771564 | U10: =O10*Y10 -> 1.6460308 | V10: =TAN(Q10) -> 0.23344335 | W10: =COS(Q10) -> 0.9738175 | X10: =(COS(P10+Q10))/COS(Q10) -> -0.05624864 | Y10: 1.02
J11: 13.27 | K11: =K10+10 -> 90 | L11: 1.4 | M11: =L11-0.1 -> 1.3 | N11: =(-$G$3*$H$5*($H$6^2)*(COS(P11)+$H$7*COS(2*P11)))/10^6 -> 0.25600333 | O11: =M11+N11 -> 1.5560033 | P11: =RADIANS(K11) -> 1.5707963 | Q11: =RADIANS(J11) -> 0.23160519 | R11: =O11*V11 -> 0.36696346 | S11: =O11*W11 -> 1.5144568 | T11: =O11*X11 -> -0.36696346 | U11: =O11*Y11 -> 1.5560033 | V11: =TAN(Q11) -> 0.23583719 | W11: =COS(Q11) -> 0.97329919 | X11: =(COS(P11+Q11))/COS(Q11) -> -0.23583719 | Y11: 1
J12: 13.14 | K12: =K11+10 -> 100 | L12: 1.25 | M12: =L12-0.1 -> 1.15 | N12: =(-$G$3*$H$5*($H$6^2)*(COS(P12)+$H$7*COS(2*P12)))/10^6 -> 0.46737318 | O12: =M12+N12 -> 1.6173732 | P12: =RADIANS(K12) -> 1.7453293 | Q12: =RADIANS(J12) -> 0.22933626 | R12: =O12*V12 -> 0.37756501 | S12: =O12*W12 -> 1.5750263 | T12: =O12*X12 -> -0.65268285 | U12: =O12*Y12 -> 1.5203308 | V12: =TAN(Q12) -> 0.23344335 | W12: =COS(Q12) -> 0.9738175 | X12: =(COS(P12+Q12))/COS(Q12) -> -0.403545 | Y12: 0.94
J13: 12.59 | K13: =K12+10 -> 110 | L13: 1 | M13: =L13-0.1 -> 0.9 | N13: =(-$G$3*$H$5*($H$6^2)*(COS(P13)+$H$7*COS(2*P13)))/10^6 -> 0.64283593 | O13: =M13+N13 -> 1.5428359 | P13: =RADIANS(K13) -> 1.9198622 | Q13: =RADIANS(J13) -> 0.21973695 | R13: =O13*V13 -> 0.34458197 | S13: =O13*W13 -> 1.5057382 | T13: =O13*X13 -> -0.8514821 | U13: =O13*Y13 -> 1.3268389 | V13: =TAN(Q13) -> 0.22334324 | W13: =COS(Q13) -> 0.97595482 | X13: =(COS(P13+Q13))/COS(Q13) -> -0.55189413 | Y13: 0.86
J14: 11.37 | K14: =K13+10 -> 120 | L14: 0.85 | M14: =L14-0.1 -> 0.75 | N14: =(-$G$3*$H$5*($H$6^2)*(COS(P14)+$H$7*COS(2*P14)))/10^6 -> 0.78107139 | O14: =M14+N14 -> 1.5310714 | P14: =RADIANS(K14) -> 2.0943951 | Q14: =RADIANS(J14) -> 0.19844394 | R14: =O14*V14 -> 0.30788397 | S14: =O14*W14 -> 1.5010234 | T14: =O14*X14 -> -1.032171 | U14: =O14*Y14 -> 1.1636143 | V14: =TAN(Q14) -> 0.20109054 | W14: =COS(Q14) -> 0.98037453 | X14: =(COS(P14+Q14))/COS(Q14) -> -0.67414952 | Y14: 0.76
J15: 10.16 | K15: =K14+10 -> 130 | L15: 0.8 | M15: =L15-0.1 -> 0.7 | N15: =(-$G$3*$H$5*($H$6^2)*(COS(P15)+$H$7*COS(2*P15)))/10^6 -> 0.88402477 | O15: =M15+N15 -> 1.5840248 | P15: =RADIANS(K15) -> 2.268928 | Q15: =RADIANS(J15) -> 0.17732545 | R15: =O15*V15 -> 0.28386952 | S15: =O15*W15 -> 1.5591857 | T15: =O15*X15 -> -1.2356482 | U15: =O15*Y15 -> 1.0137759 | V15: =TAN(Q15) -> 0.17920776 | W15: =COS(Q15) -> 0.984319 | X15: =(COS(P15+Q15))/COS(Q15) -> -0.78006872 | Y15: 0.64
J16: 8.36 | K16: =K15+10 -> 140 | L16: 0.75 | M16: =L16-0.1 -> 0.65 | N16: =(-$G$3*$H$5*($H$6^2)*(COS(P16)+$H$7*COS(2*P16)))/10^6 -> 0.95610636 | O16: =M16+N16 -> 1.6061064 | P16: =RADIANS(K16) -> 2.443461 | Q16: =RADIANS(J16) -> 0.14590953 | R16: =O16*V16 -> 0.23602355 | S16: =O16*W16 -> 1.58904 | T16: =O16*X16 -> -1.3820619 | U16: =O16*Y16 -> 0.8351753 | V16: =TAN(Q16) -> 0.14695387 | W16: =COS(Q16) -> 0.98937408 | X16: =(COS(P16+Q16))/COS(Q16) -> -0.86050457 | Y16: 0.52
J17: 6.41 | K17: =K16+10 -> 150 | L17: 0.7 | M17: =L17-0.1 -> 0.6 | N17: =(-$G$3*$H$5*($H$6^2)*(COS(P17)+$H$7*COS(2*P17)))/10^6 -> 1.0031483 | O17: =M17+N17 -> 1.6031483 | P17: =RADIANS(K17) -> 2.6179939 | Q17: =RADIANS(J17) -> 0.11187561 | R17: =O17*V17 -> 0.18010522 | S17: =O17*W17 -> 1.5931261 | T17: =O17*X17 -> -1.4784197 | U17: =O17*Y17 -> 0.62522783 | V17: =TAN(Q17) -> 0.1123447 | W17: =COS(Q17) -> 0.99374845 | X17: =(COS(P17+Q17))/COS(Q17) -> -0.92219776 | Y17: 0.39
J18: 4.34 | K18: =K17+10 -> 160 | L18: 0.65 | M18: =L18-0.1 -> 0.55 | N18: =(-$G$3*$H$5*($H$6^2)*(COS(P18)+$H$7*COS(2*P18)))/10^6 -> 1.0312597 | O18: =M18+N18 -> 1.5812597 | P18: =RADIANS(K18) -> 2.7925268 | Q18: =RADIANS(J18) -> 0.07574729 | R18: =O18*V18 -> 0.12000574 | S18: =O18*W18 -> 1.5767255 | T18: =O18*X18 -> -1.5269424 | U18: =O18*Y18 -> 0.41112751 | V18: =TAN(Q18) -> 0.075892493 | W18: =COS(Q18) -> 0.99713255 | X18: =(COS(P18+Q18))/COS(Q18) -> -0.96564938 | Y18: 0.26
J19: 2.19 | K19: =K18+10 -> 170 | L19: 0.5 | M19: =L19-0.1 -> 0.4 | N19: =(-$G$3*$H$5*($H$6^2)*(COS(P19)+$H$7*COS(2*P19)))/10^6 -> 1.0457318 | O19: =M19+N19 -> 1.4457318 | P19: =RADIANS(K19) -> 2.9670597 | Q19: =RADIANS(J19) -> 0.038222711 | R19: =O19*V19 -> 0.055286716 | S19: =O19*W19 -> 1.4446759 | T19: =O19*X19 -> -1.4333683 | U19: =O19*Y19 -> 0.18794514 | V19: =TAN(Q19) -> 0.038241336 | W19: =COS(Q19) -> 0.9992696 | X19: =(COS(P19+Q19))/COS(Q19) -> -0.99144829 | Y19: 0.13
... J73: -2.19 | K73: =K72+10 -> 710 | L73: 7.6 | M73: =L73-0.1 -> 7.5 | N73: =(-$G$3*$H$5*($H$6^2)*(COS(P73)+$H$7*COS(2*P73)))/10^6 -> -1.5268607 | O73: =M73+N73 -> 5.9731393 | P73: =RADIANS(K73) -> 12.391838 | Q73: =RADIANS(J73) -> -0.038222711 | R73: =O73*V73 -> -0.22842082 | S73: =O73*W73 -> 5.9687765 | T73: =O73*X73 -> 5.842729 | U73: =O73*Y73 -> 0.77650811 | V73: =TAN(Q73) -> -0.038241336 | W73: =COS(Q73) -> 0.9992696 | X73: =(COS(P73+Q73))/COS(Q73) -> 0.97816721 | Y73: 0.13
J76: Л | K76: 1 | M76: 4 | P76: 3 | R76: 2
J77: П | L77: 1 | N77: 4 | O77: 2 | Q77: 3

Sheet Главная динамическая таблица
G1: 1-й отсек | O1: 1-е колено | S1: 2-й отсек | AA1: 2-е колено | AE1: 3-й отсек | AM1: 3-е колено | AQ1: 4-й отсек | AY1: 4-е колено
A2: 1 | B2: 2 | C2: 3 | D2: 4 | E2: 5 | F2: 6 | G2: 7' | H2: 8' | I2: 7'' | J2: 8'' | K2: 9 | L2: 10 | M2: 11 | N2: 12 | O2: 13 | P2: 14 | Q2: 15 | R2: 16 | S2: 17' | T2: 18' | U2: 17'' | V2: 18'' | W2: 19 | X2: 20 | Y2: 21 | Z2: 22 | AA2: 23 | AB2: 24 | AC2: 25 | AD2: 26 | AE2: 27' | AF2: 28' | AG2: 27'' | AH2: 28'' | AI2: 29 | AJ2: 30 | AK2: 31 | AL2: 32 | AM2: 33 | AN2: 34 | AO2: 35 | AP2: 36 | AQ2: 37' | AR2: 38' | AS2: 37'' | AT2: 38'' | AU2: 39 | AV2: 40 | AW2: 41 | AX2: 42 | AY2: 43 | AZ2: 44 | BA2: 45 | BB2: 46 | BD2: tср = | BE2: =AVERAGE(AU6:AU77) -> 1.3163458 | BF2: МПа
A3: α | B3: ∑p | C3: tgβ | D3: sin(α+β)/cosβ | E3: cos(α+β)/cosβ | F3: N | G3: 1-й блок | I3: 2-й блок | K3: t | L3: z | M3: T | N3: Z | O3: 0,5M1ш | P3: М-1ш | Q3: М-Iш | R3: М-Iк | S3: 1-й блок | U3: 2-й блок | W3: t | X3: z | Y3: T | Z3: Z | AA3: 0,5M2ш | AB3: М-2ш | AC3: М-IIш | AD3: М-IIк | AE3: 1-й блок | AG3: 2-й блок | AI3: t | AJ3: z | AK3: T | AL3: Z | AM3: 0,5M3ш | AN3: М-3ш | AO3: М-IIIш | AP3: М-IIIк | AQ3: 1-й блок | AS3: 2-й блок | AU3: t | AV3: z | AW3: T | AX3: Z | AY3: 0,5M4ш | AZ3: М-4ш | BA3: М-IVш | BB3: М-IVк
G4: t' | H4: z' | I4: t'' | J4: z'' | S4: t' | T4: z' | U4: t'' | V4: z'' | AE4: t' | AF4: z' | AG4: t'' | AH4: z'' | AQ4: t' | AR4: z' | AS4: t'' | AT4: z''
A5: град | B5: МПа | F5: кН | G5: Мпа | M5: кН | O5: Н*м | S5: Мпа | Y5: кН | AA5: Нм | AE5: Мпа | AK5: кН | AM5: Нм | AQ5: Мпа | AW5: кН | AY5: Нм
A6: 0 | B6: =Начало!O2 -> 12.337857 | C6: =Начало!V2 -> 0 | D6: =Начало!Y2 -> 0 | E6: =Начало!X2 -> 1 | F6: =Начало!R2*Начало!$A$3/1000 -> 0 | G6: =B6*D6 -> 0 | H6: =B6*E6 -> 12.337857 | I6: =B69*D69 -> 0.55600333 | J6: =B69*E69 -> -0.13112627 | K6: =G6+I6 -> 0.55600333 | L6: =H6+J6 -> 12.206731 | M6: =K6*Начало!$A$3/1000 -> 3.33602 | N6: =L6*Начало!$A$3/1000 -> 73.240386 | O6: =P6/2 -> 81.73249 | P6: =M6*Начало!$H$5*1000 -> 163.46498 | Q6: =O6 -> 81.73249 | R6: =P6 -> 163.46498 | S6: =G15 -> 1.5560033 | T6: =H15 -> -0.36696346 | U6: =I51 -> 0 | V6: =J51 -> -1.4621428 | W6: =S6+U6 -> 1.5560033 | X6: =T6+V6 -> -1.8291062 | Y6: =W6*Начало!$A$3/1000 -> 9.33602 | Z6: =X6*Начало!$A$3/1000 -> -10.974637 | AA6: =AB6/2 -> 228.73249 | AB6: =Y6*Начало!$H$5*1000 -> 457.46498 | AC6: =R6+AA6 -> 392.19747 | AD6: =R6+AB6 -> 620.92996 | AE6: =G33 -> 0.35600333 | AF6: =H33 -> -0.083958827 | AG6: =G24 -> 0 | AH6: =H24 -> -1.1501361 | AI6: =AE6+AG6 -> 0.35600333 | AJ6: =AF6+AH6 -> -1.2340949 | AK6: =AI6*Начало!$A$3/1000 -> 2.13602 | AL6: =AJ6*Начало!$A$3/1000 -> -7.4045697 | AM6: =AN6/2 -> 52.33249 | AN6: =AK6*Начало!$H$5*1000 -> 104.66498 | AO6: =AD6+AM6 -> 673.26245 | AP6: =AD6+AN6 -> 725.59494 | AQ6: =G60 -> 0 | AR6: =H60 -> -1.1501361 | AS6: =G51 -> 0.35600333 | AT6: =H51 -> -0.083958827 | AU6: =AQ6+AS6 -> 0.35600333 | AV6: =AR6+AT6 -> -1.2340949 | AW6: =AU6*Начало!$A$3/1000 -> 2.13602 | AX6: =AV6*Начало!$A$3/1000 -> -7.4045697 | AY6: =AZ6/2 -> 52.33249 | AZ6: =AW6*Начало!$H$5*1000 -> 104.66498 | BA6: =AP6+AY6 -> 777.92743 | BB6: =AP6+AZ6 -> 830.25992
A7: 10 | B7: =Начало!O3 -> 14.273139 | C7: =Начало!V3 -> 0.038241336 | D7: =Начало!Y3 -> 0.21 | E7: =Начало!X3 -> 0.97816721 | F7: =Начало!R3*Начало!$A$3/1000 -> 3.2749435 | G7: =B7*D7 -> 2.9973593 | H7: =B7*E7 -> 13.961517 | I7: =B70*D70 -> 0.38893036 | J7: =B70*E70 -> -0.023273196 | K7: =G7+I7 -> 3.3862896 | L7: =H7+J7 -> 13.938244 | M7: =K7*Начало!$A$3/1000 -> 20.317738 | N7: =L7*Начало!$A$3/1000 -> 83.629462 | O7: =P7/2 -> 497.78457 | P7: =M7*Начало!$H$5*1000 -> 995.56915 | Q7: =O7 -> 497.78457 | R7: =P7 -> 995.56915 | S7: =G16 -> 1.5203308 | T7: =H16 -> -0.65268285 | U7: =I52 -> -0.29964075 | V7: =J52 -> -1.3957084 | W7: =S7+U7 -> 1.22069 | X7: =T7+V7 -> -2.0483912 | Y7: =W7*Начало!$A$3/1000 -> 7.3241402 | Z7: =X7*Начало!$A$3/1000 -> -12.290347 | AA7: =AB7/2 -> 179.44144 | AB7: =Y7*Начало!$H$5*1000 -> 358.88287 | AC7: =R7+AA7 -> 1175.0106 | AD7: =R7+AB7 -> 1354.452 | AE7: =G34 -> 0.10693036 | AF7: =H34 -> -0.0063986038 | AG7: =G25 -> 0.24060368 | AH7: =H25 -> -1.1359338 | AI7: =AE7+AG7 -> 0.34753405 | AJ7: =AF7+AH7 -> -1.1423325 | AK7: =AI7*Начало!$A$3/1000 -> 2.0852043 | AL7: =AJ7*Начало!$A$3/1000 -> -6.8539947 | AM7: =AN7/2 -> 51.087505 | AN7: =AK7*Начало!$H$5*1000 -> 102.17501 | AO7: =AD7+AM7 -> 1405.5395 | AP7: =AD7+AN7 -> 1456.627 | AQ7: =G61 -> 0.24060368 | AR7: =H61 -> -1.1359338 | AS7: =G52 -> 0.53333079 | AT7: =H52 -> -0.22896061 | AU7: =AQ7+AS7 -> 0.77393447 | AV7: =AR7+AT7 -> -1.3648945 | AW7: =AU7*Начало!$A$3/1000 -> 4.6436068 | AX7: =AV7*Начало!$A$3/1000 -> -8.1893667 | AY7: =AZ7/2 -> 113.76837 | AZ7: =AW7*Начало!$H$5*1000 -> 227.53673 | BA7: =AP7+AY7 -> 1570.3954 | BB7: =AP7+AZ7 -> 1684.1638
A8: 20 | B8: =Начало!O4 -> 13.57652 | C8: =Начало!V4 -> 0.075892493 | D8: =Начало!Y4 -> 0.41 | E8: =Начало!X4 -> 0.91373586 | F8: =Начало!R4*Начало!$A$3/1000 -> 6.1821359 | G8: =B8*D8 -> 5.5663734 | H8: =B8*E8 -> 12.405354 | I8: =B71*D71 -> 0.25747018 | J8: =B71*E71 -> 0.039562434 | K8: =G8+I8 -> 5.8238436 | L8: =H8+J8 -> 12.444916 | M8: =K8*Начало!$A$3/1000 -> 34.943061 | N8: =L8*Начало!$A$3/1000 -> 74.669496 | O8: =P8/2 -> 856.105 | P8: =M8*Начало!$H$5*1000 -> 1712.21 | Q8: =O8 -> 856.105 | R8: =P8 -> 1712.21 | S8: =G17 -> 1.3268389 | T8: =H17 -> -0.8514821 | U8: =I53 -> -0.54262661 | V8: =J53 -> -1.2093107 | W8: =S8+U8 -> 0.78421229 | X8: =T8+V8 -> -2.0607928 | Y8: =W8*Начало!$A$3/1000 -> 4.7052738 | Z8: =X8*Начало!$A$3/1000 -> -12.364757 | AA8: =AB8/2 -> 115.27921 | AB8: =Y8*Начало!$H$5*1000 -> 230.55841 | AC8: =R8+AA8 -> 1827.4892 | AD8: =R8+AB8 -> 1942.7684 | AE8: =G35 -> -0.12952982 | AF8: =H35 -> -0.019903334 | AG8: =G26 -> 0.46381647 | AH8: =H26 -> -1.0924002 | AI8: =AE8+AG8 -> 0.33428664 | AJ8: =AF8+AH8 -> -1.1123035 | AK8: =AI8*Начало!$A$3/1000 -> 2.0057199 | AL8: =AJ8*Начало!$A$3/1000 -> -6.6738212 | AM8: =AN8/2 -> 49.140137 | AN8: =AK8*Начало!$H$5*1000 -> 98.280273 | AO8: =AD8+AM8 -> 1991.9086 | AP8: =AD8+AN8 -> 2041.0487 | AQ8: =G62 -> 0.46381647 | AR8: =H62 -> -1.0924002 | AS8: =G53 -> 0.6388389 | AT8: =H53 -> -0.40996679 | AU8: =AQ8+AS8 -> 1.1026554 | AV8: =AR8+AT8 -> -1.502367 | AW8: =AU8*Начало!$A$3/1000 -> 6.6159322 | AX8: =AV8*Начало!$A$3/1000 -> -9.014202 | AY8: =AZ8/2 -> 162.09034 | AZ8: =AW8*Начало!$H$5*1000 -> 324.18068 | BA8: =AP8+AY8 -> 2203.139 | BB8: =AP8+AZ8 -> 2365.2294
A9: 30 | B9: =Начало!O5 -> 7.3408484 | C9: =Начало!V5 -> 0.1123447 | D9: =Начало!Y5 -> 0.59 | E9: =Начало!X5 -> 0.80985305 | F9: =Начало!R5*Начало!$A$3/1000 -> 4.9482327 | G9: =B9*D9 -> 4.3311005 | H9: =B9*E9 -> 5.9450085 | I9: =B72*D72 -> 0.17094828 | J9: =B72*E72 -> 0.073294182 | K9: =G9+I9 -> 4.5020488 | L9: =H9+J9 -> 6.0183027 | M9: =K9*Начало!$A$3/1000 -> 27.012293 | N9: =L9*Начало!$A$3/1000 -> 36.109816 | O9: =P9/2 -> 661.80118 | P9: =M9*Начало!$H$5*1000 -> 1323.6024 | Q9: =O9 -> 661.80118 | R9: =P9 -> 1323.6024 | S9: =G18 -> 1.1636143 | T9: =H18 -> -1.032171 | U9: =I54 -> -0.68389945 | V9: =J54 -> -0.93874247 | W9: =S9+U9 -> 0.47971481 | X9: =T9+V9 -> -1.9709135 | Y9: =W9*Начало!$A$3/1000 -> 2.8782888 | Z9: =X9*Начало!$A$3/1000 -> -11.825481 | AA9: =AB9/2 -> 70.518077 | AB9: =Y9*Начало!$H$5*1000 -> 141.03615 | AC9: =R9+AA9 -> 1394.1204 | AD9: =R9+AB9 -> 1464.6385 | AE9: =G36 -> -0.32305172 | AF9: =H36 -> -0.13850863 | AG9: =G27 -> 0.65085748 | AH9: =H27 -> -1.0173209 | AI9: =AE9+AG9 -> 0.32780576 | AJ9: =AF9+AH9 -> -1.1558295 | AK9: =AI9*Начало!$A$3/1000 -> 1.9668346 | AL9: =AJ9*Начало!$A$3/1000 -> -6.934977 | AM9: =AN9/2 -> 48.187447 | AN9: =AK9*Начало!$H$5*1000 -> 96.374893 | AO9: =AD9+AM9 -> 1512.826 | AP9: =AD9+AN9 -> 1561.0134 | AQ9: =G63 -> 0.65085748 | AR9: =H63 -> -1.0173209 | AS9: =G54 -> 0.66961426 | AT9: =H54 -> -0.59397385 | AU9: =AQ9+AS9 -> 1.3204717 | AV9: =AR9+AT9 -> -1.6112947 | AW9: =AU9*Начало!$A$3/1000 -> 7.9228304 | AX9: =AV9*Начало!$A$3/1000 -> -9.6677683 | AY9: =AZ9/2 -> 194.10935 | AZ9: =AW9*Начало!$H$5*1000 -> 388.21869 | BA9: =AP9+AY9 -> 1755.1227 | BB9: =AP9+AZ9 -> 1949.2321
A10: 40 | B10: =Начало!O6 -> 4.6049846 | C10: =Начало!V6 -> 0.14695387 | D10: =Начало!Y6 -> 0.75 | E10: =Начало!X6 -> 0.67158432 | F10: =Начало!R6*Начало!$A$3/1000 -> 4.0603219 | G10: =B10*D10 -> 3.4537385 | H10: =B10*E10 -> 3.0926354 | I10: =B73*D73 -> 0.19512592 | J10: =B73*E73 -> 0.15412097 | K10: =G10+I10 -> 3.6488644 | L10: =H10+J10 -> 3.2467564 | M10: =K10*Начало!$A$3/1000 -> 21.893186 | N10: =L10*Начало!$A$3/1000 -> 19.480539 | O10: =P10/2 -> 536.38307 | P10: =M10*Начало!$H$5*1000 -> 1072.7661 | Q10: =O10 -> 536.38307 | R10: =P10 -> 1072.7661 | S10: =G19 -> 1.0137759 | T10: =H19 -> -1.2356482 | U10: =I55 -> -0.70876153 | V10: =J55 -> -0.63465751 | W10: =S10+U10 -> 0.30501432 | X10: =T10+V10 -> -1.8703057 | Y10: =W10*Начало!$A$3/1000 -> 1.8300859 | Z10: =X10*Начало!$A$3/1000 -> -11.221834 | AA10: =AB10/2 -> 44.837104 | AB10: =Y10*Начало!$H$5*1000 -> 89.674209 | AC10: =R10+AA10 -> 1117.6032 | AD10: =R10+AB10 -> 1162.4403 | AE10: =G37 -> -0.44487408 | AF10: =H37 -> -0.35138553 | AG10: =G28 -> 0.79207977 | AH10: =H28 -> -0.90878435 | AI10: =AE10+AG10 -> 0.34720569 | AJ10: =AF10+AH10 -> -1.2601699 | AK10: =AI10*Начало!$A$3/1000 -> 2.0832341 | AL10: =AJ10*Начало!$A$3/1000 -> -7.5610192 | AM10: =AN10/2 -> 51.039237 | AN10: =AK10*Начало!$H$5*1000 -> 102.07847 | AO10: =AD10+AM10 -> 1213.4796 | AP10: =AD10+AN10 -> 1264.5188 | AQ10: =G64 -> 0.79957977 | AR10: =H64 -> -0.91738939 | AS10: =G55 -> 0.62977585 | AT10: =H55 -> -0.76760694 | AU10: =AQ10+AS10 -> 1.4293556 | AV10: =AR10+AT10 -> -1.6849963 | AW10: =AU10*Начало!$A$3/1000 -> 8.5761337 | AX10: =AV10*Начало!$A$3/1000 -> -10.109978 | AY10: =AZ10/2 -> 210.11528 | AZ10: =AW10*Начало!$H$5*1000 -> 420.23055 | BA10: =AP10+AY10 -> 1474.6341 | BB10: =AP10+AZ10 -> 1684.7494
A11: 50 | B11: =Начало!O7 -> 3.3048843 | C11: =Начало!V7 -> 0.17920776 | D11: =Начало!Y7 -> 0.83 | E11: =Начало!X7 -> 0.5055065 | F11: =Начало!R7*Начало!$A$3/1000 -> 3.5535654 | G11: =B11*D11 -> 2.7430539 | H11: =B11*E11 -> 1.6706405 | I11: =B74*D74 -> 0.340592 | J11: =B74*E74 -> 0.4398774 | K11: =G11+I11 -> 3.0836459 | L11: =H11+J11 -> 2.1105179 | M11: =K11*Начало!$A$3/1000 -> 18.501876 | N11: =L11*Начало!$A$3/1000 -> 12.663107 | O11: =P11/2 -> 453.29595 | P11: =M11*Начало!$H$5*1000 -> 906.59191 | Q11: =O11 -> 453.29595 | R11: =P11 -> 906.59191 | S11: =G20 -> 0.8351753 | T11: =H20 -> -1.3820619 | U11: =I56 -> -0.57694607 | V11: =J56 -> -0.35138553 | W11: =S11+U11 -> 0.25822924 | X11: =T11+V11 -> -1.7334474 | Y11: =W11*Начало!$A$3/1000 -> 1.5493754 | Z11: =X11*Начало!$A$3/1000 -> -10.400684 | AA11: =AB11/2 -> 37.959698 | AB11: =Y11*Начало!$H$5*1000 -> 75.919396 | AC11: =R11+AA11 -> 944.5516 | AD11: =R11+AB11 -> 982.5113 | AE11: =G38 -> -0.491408 | AF11: =H38 -> -0.63465751 | AG11: =G29 -> 0.81674056 | AH11: =H29 -> -0.76760694 | AI11: =AE11+AG11 -> 0.32533256 | AJ11: =AF11+AH11 -> -1.4022644 | AK11: =AI11*Начало!$A$3/1000 -> 1.9519954 | AL11: =AJ11*Начало!$A$3/1000 -> -8.4135867 | AM11: =AN11/2 -> 47.823886 | AN11: =AK11*Начало!$H$5*1000 -> 95.647772 | AO11: =AD11+AM11 -> 1030.3352 | AP11: =AD11+AN11 -> 1078.1591 | AQ11: =G65 -> 0.83334056 | AR11: =H65 -> -0.78320831 | AS11: =G56 -> 0.5491753 | AT11: =H56 -> -0.90878435 | AU11: =AQ11+AS11 -> 1.3825159 | AV11: =AR11+AT11 -> -1.6919927 | AW11: =AU11*Начало!$A$3/1000 -> 8.2950952 | AX11: =AV11*Начало!$A$3/1000 -> -10.151956 | AY11: =AZ11/2 -> 203.22983 | AZ11: =AW11*Начало!$H$5*1000 -> 406.45966 | BA11: =AP11+AY11 -> 1281.3889 | BB11: =AP11+AZ11 -> 1484.6187
A12: 60 | B12: =Начало!O8 -> 2.2749319 | C12: =Начало!V8 -> 0.20109054 | D12: =Начало!Y8 -> 0.96 | E12: =Начало!X8 -> 0.32585048 | F12: =Начало!R8*Начало!$A$3/1000 -> 2.7448038 | G12: =B12*D12 -> 2.1839347 | H12: =B12*E12 -> 0.74128767 | I12: =B75*D75 -> 0.75693087 | J12: =B75*E75 -> 1.571802 | K12: =G12+I12 -> 2.9408655 | L12: =H12+J12 -> 2.3130897 | M12: =K12*Начало!$A$3/1000 -> 17.645193 | N12: =L12*Начало!$A$3/1000 -> 13.878538 | O12: =P12/2 -> 432.30723 | P12: =M12*Начало!$H$5*1000 -> 864.61447 | Q12: =O12 -> 432.30723 | R12: =P12 -> 864.61447 | S12: =G21 -> 0.62522783 | T12: =H21 -> -1.4784197 | U12: =I57 -> -0.40806534 | V12: =J57 -> -0.13850863 | W12: =S12+U12 -> 0.21716249 | X12: =T12+V12 -> -1.6169284 | Y12: =W12*Начало!$A$3/1000 -> 1.302975 | Z12: =X12*Начало!$A$3/1000 -> -9.7015703 | AA12: =AB12/2 -> 31.922886 | AB12: =Y12*Начало!$H$5*1000 -> 63.845773 | AC12: =R12+AA12 -> 896.53735 | AD12: =R12+AB12 -> 928.46024 | AE12: =G39 -> -0.45206913 | AF12: =H39 -> -0.93874247 | AG12: =G30 -> 0.84582854 | AH12: =H30 -> -0.59397385 | AI12: =AE12+AG12 -> 0.39375941 | AJ12: =AF12+AH12 -> -1.5327163 | AK12: =AI12*Начало!$A$3/1000 -> 2.3625564 | AL12: =AJ12*Начало!$A$3/1000 -> -9.1962979 | AM12: =AN12/2 -> 57.882633 | AN12: =AK12*Начало!$H$5*1000 -> 115.76527 | AO12: =AD12+AM12 -> 986.34287 | AP12: =AD12+AN12 -> 1044.2255 | AQ12: =G66 -> 0.87462854 | AR12: =H66 -> -0.61419834 | AS12: =G57 -> 0.43022783 | AT12: =H57 -> -1.0173209 | AU12: =AQ12+AS12 -> 1.3048564 | AV12: =AR12+AT12 -> -1.6315192 | AW12: =AU12*Начало!$A$3/1000 -> 7.8291382 | AX12: =AV12*Начало!$A$3/1000 -> -9.7891152 | AY12: =AZ12/2 -> 191.81389 | AZ12: =AW12*Начало!$H$5*1000 -> 383.62777 | BA12: =AP12+AY12 -> 1236.0394 | BB12: =AP12+AZ12 -> 1427.8533
A13: 70 | B13: =Начало!O9 -> 1.8493839 | C13: =Начало!V9 -> 0.21931541 | D13: =Начало!Y9 -> 1.01 | E13: =Начало!X9 -> 0.13593107 | F13: =Начало!R9*Начало!$A$3/1000 -> 2.4335904 | G13: =B13*D13 -> 1.8678778 | H13: =B13*E13 -> 0.25138873 | I13: =B76*D76 -> 1.0078953 | J13: =B76*E76 -> 3.5421158 | K13: =G13+I13 -> 2.8757731 | L13: =H13+J13 -> 3.7935045 | M13: =K13*Начало!$A$3/1000 -> 17.254639 | N13: =L13*Начало!$A$3/1000 -> 22.761027 | O13: =P13/2 -> 422.73864 | P13: =M13*Начало!$H$5*1000 -> 845.47729 | Q13: =O13 -> 422.73864 | R13: =P13 -> 845.47729 | S13: =G22 -> 0.41112751 | T13: =H22 -> -1.5269424 | U13: =I58 -> -0.15212223 | V13: =J58 -> -0.020473404 | W13: =S13+U13 -> 0.25900528 | X13: =T13+V13 -> -1.5474158 | Y13: =W13*Начало!$A$3/1000 -> 1.5540317 | Z13: =X13*Начало!$A$3/1000 -> -9.284495 | AA13: =AB13/2 -> 38.073777 | AB13: =Y13*Начало!$H$5*1000 -> 76.147553 | AC13: =R13+AA13 -> 883.55106 | AD13: =R13+AB13 -> 921.62484 | AE13: =G40 -> -0.34410468 | AF13: =H40 -> -1.2093107 | AG13: =G31 -> 0.75026429 | AH13: =H31 -> -0.40715522 | AI13: =AE13+AG13 -> 0.40615961 | AJ13: =AF13+AH13 -> -1.6164659 | AK13: =AI13*Начало!$A$3/1000 -> 2.4369577 | AL13: =AJ13*Начало!$A$3/1000 -> -9.6987956 | AM13: =AN13/2 -> 59.705463 | AN13: =AK13*Начало!$H$5*1000 -> 119.41093 | AO13: =AD13+AM13 -> 981.3303 | AP13: =AD13+AN13 -> 1041.0358 | AQ13: =G67 -> 0.79066429 | AR13: =H67 -> -0.42907959 | AS13: =G58 -> 0.29412751 | AT13: =H58 -> -1.0924002 | AU13: =AQ13+AS13 -> 1.0847918 | AV13: =AR13+AT13 -> -1.5214798 | AW13: =AU13*Начало!$A$3/1000 -> 6.5087508 | AX13: =AV13*Начало!$A$3/1000 -> -9.1288788 | AY13: =AZ13/2 -> 159.4644 | AZ13: =AW13*Начало!$H$5*1000 -> 318.92879 | BA13: =AP13+AY13 -> 1200.5002 | BB13: =AP13+AZ13 -> 1359.9646
A14: 80 | B14: =Начало!O10 -> 1.6137557 | C14: =Начало!V10 -> 0.23344335 | D14: =Начало!Y10 -> 1.02 | E14: =Начало!X10 -> -0.05624864 | F14: =Начало!R10*Начало!$A$3/1000 -> 2.2603232 | G14: =B14*D14 -> 1.6460308 | H14: =B14*E14 -> -0.090771564 | I14: =B77*D77 -> 0.77650811 | J14: =B77*E77 -> 5.842729 | K14: =G14+I14 -> 2.4225389 | L14: =H14+J14 -> 5.7519575 | M14: =K14*Начало!$A$3/1000 -> 14.535234 | N14: =L14*Начало!$A$3/1000 -> 34.511745 | O14: =P14/2 -> 356.11322 | P14: =M14*Начало!$H$5*1000 -> 712.22645 | Q14: =O14 -> 356.11322 | R14: =P14 -> 712.22645 | S14: =G23 -> 0.18794514 | T14: =H23 -> -1.4333683 | U14: =I59 -> 0.11603082 | V14: =J59 -> -0.0063986038 | W14: =S14+U14 -> 0.30397596 | X14: =T14+V14 -> -1.4397669 | Y14: =W14*Начало!$A$3/1000 -> 1.8238557 | Z14: =X14*Начало!$A$3/1000 -> -8.6386016 | AA14: =AB14/2 -> 44.684466 | AB14: =Y14*Начало!$H$5*1000 -> 89.368931 | AC14: =R14+AA14 -> 756.91091 | AD14: =R14+AB14 -> 801.59538 | AE14: =G41 -> -0.18549189 | AF14: =H41 -> -1.3957084 | AG14: =G32 -> 0.57872064 | AH14: =H32 -> -0.22896061 | AI14: =AE14+AG14 -> 0.39322875 | AJ14: =AF14+AH14 -> -1.624669 | AK14: =AI14*Начало!$A$3/1000 -> 2.3593725 | AL14: =AJ14*Начало!$A$3/1000 -> -9.7480138 | AM14: =AN14/2 -> 57.804626 | AN14: =AK14*Начало!$H$5*1000 -> 115.60925 | AO14: =AD14+AM14 -> 859.4 | AP14: =AD14+AN14 -> 917.20463 | AQ14: =G68 -> 0.62972064 | AR14: =H68 -> -0.24913786 | AS14: =G59 -> 0.14894514 | AT14: =H59 -> -1.1359338 | AU14: =AQ14+AS14 -> 0.77866578 | AV14: =AR14+AT14 -> -1.3850717 | AW14: =AU14*Начало!$A$3/1000 -> 4.6719947 | AX14: =AV14*Начало!$A$3/1000 -> -8.3104302 | AY14: =AZ14/2 -> 114.46387 | AZ14: =AW14*Начало!$H$5*1000 -> 228.92774 | BA14: =AP14+AY14 -> 1031.6685 | BB14: =AP14+AZ14 -> 1146.1324
A15: 90 | B15: =Начало!O11 -> 1.5560033 | C15: =Начало!V11 -> 0.23583719 | D15: =Начало!Y11 -> 1 | E15: =Начало!X11 -> -0.23583719 | F15: =Начало!R11*Начало!$A$3/1000 -> 2.2017808 | G15: =B15*D15 -> 1.5560033 | H15: =B15*E15 -> -0.36696346 | I15: =B6*D6 -> 0 | J15: =B6*E6 -> 12.337857 | K15: =G15+I15 -> 1.5560033 | L15: =H15+J15 -> 11.970894 | M15: =K15*Начало!$A$3/1000 -> 9.33602 | N15: =L15*Начало!$A$3/1000 -> 71.825363 | O15: =P15/2 -> 228.73249 | P15: =M15*Начало!$H$5*1000 -> 457.46498 | Q15: =O15 -> 228.73249 | R15: =P15 -> 457.46498 | S15: =G24 -> 0 | T15: =H24 -> -1.1501361 | U15: =I60 -> 0.35600333 | V15: =J60 -> -0.083958827 | W15: =S15+U15 -> 0.35600333 | X15: =T15+V15 -> -1.2340949 | Y15: =W15*Начало!$A$3/1000 -> 2.13602 | Z15: =X15*Начало!$A$3/1000 -> -7.4045697 | AA15: =AB15/2 -> 52.33249 | AB15: =Y15*Начало!$H$5*1000 -> 104.66498 | AC15: =R15+AA15 -> 509.79747 | AD15: =R15+AB15 -> 562.12996 | AE15: =G42 -> 0 | AF15: =H42 -> -1.4621428 | AG15: =G33 -> 0.35600333 | AH15: =H33 -> -0.083958827 | AI15: =AE15+AG15 -> 0.35600333 | AJ15: =AF15+AH15 -> -1.5461016 | AK15: =AI15*Начало!$A$3/1000 -> 2.13602 | AL15: =AJ15*Начало!$A$3/1000 -> -9.2766097 | AM15: =AN15/2 -> 52.33249 | AN15: =AK15*Начало!$H$5*1000 -> 104.66498 | AO15: =AD15+AM15 -> 614.46245 | AP15: =AD15+AN15 -> 666.79494 | AQ15: =G69 -> 0.55600333 | AR15: =H69 -> -0.13112627 | AS15: =G60 -> 0 | AT15: =H60 -> -1.1501361 | AU15: =AQ15+AS15 -> 0.55600333 | AV15: =AR15+AT15 -> -1.2812624 | AW15: =AU15*Начало!$A$3/1000 -> 3.33602 | AX15: =AV15*Начало!$A$3/1000 -> -7.6875743 | AY15: =AZ15/2 -> 81.73249 | AZ15: =AW15*Начало!$H$5*1000 -> 163.46498 | BA15: =AP15+AY15 -> 748.52743 | BB15: =AP15+AZ15 -> 830.25992
A16: 100 | B16: =Начало!O12 -> 1.6173732 | C16: =Начало!V12 -> 0.23344335 | D16: =Начало!Y12 -> 0.94 | E16: =Начало!X12 -> -0.403545 | F16: =Начало!R12*Начало!$A$3/1000 -> 2.26539 | G16: =B16*D16 -> 1.5203308 | H16: =B16*E16 -> -0.65268285 | I16: =B7*D7 -> 2.9973593 | J16: =B7*E7 -> 13.961517 | K16: =G16+I16 -> 4.51769 | L16: =H16+J16 -> 13.308834 | M16: =K16*Начало!$A$3/1000 -> 27.10614 | N16: =L16*Начало!$A$3/1000 -> 79.853004 | O16: =P16/2 -> 664.10044 | P16: =M16*Начало!$H$5*1000 -> 1328.2009 | Q16: =O16 -> 664.10044 | R16: =P16 -> 1328.2009 | S16: =G25 -> 0.24060368 | T16: =H25 -> -1.1359338 | U16: =I61 -> 0.53333079 | V16: =J61 -> -0.22896061 | W16: =S16+U16 -> 0.77393447 | X16: =T16+V16 -> -1.3648945 | Y16: =W16*Начало!$A$3/1000 -> 4.6436068 | Z16: =X16*Начало!$A$3/1000 -> -8.1893667 | AA16: =AB16/2 -> 113.76837 | AB16: =Y16*Начало!$H$5*1000 -> 227.53673 | AC16: =R16+AA16 -> 1441.9692 | AD16: =R16+AB16 -> 1555.7376 | AE16: =G43 -> -0.29964075 | AF16: =H43 -> -1.3957084 | AG16: =G34 -> 0.10693036 | AH16: =H34 -> -0.0063986038 | AI16: =AE16+AG16 -> -0.19271038 | AJ16: =AF16+AH16 -> -1.402107 | AK16: =AI16*Начало!$A$3/1000 -> -1.1562623 | AL16: =AJ16*Начало!$A$3/1000 -> -8.4126418 | AM16: =AN16/2 -> -28.328426 | AN16: =AK16*Начало!$H$5*1000 -> -56.656852 | AO16: =AD16+AM16 -> 1527.4092 | AP16: =AD16+AN16 -> 1499.0808 | AQ16: =G70 -> 0.38893036 | AR16: =H70 -> -0.023273196 | AS16: =G61 -> 0.24060368 | AT16: =H61 -> -1.1359338 | AU16: =AQ16+AS16 -> 0.62953405 | AV16: =AR16+AT16 -> -1.159207 | AW16: =AU16*Начало!$A$3/1000 -> 3.7772043 | AX16: =AV16*Начало!$A$3/1000 -> -6.9552423 | AY16: =AZ16/2 -> 92.541505 | AZ16: =AW16*Начало!$H$5*1000 -> 185.08301 | BA16: =AP16+AY16 -> 1591.6223 | BB16: =AP16+AZ16 -> 1684.1638
A17: 110 | B17: =Начало!O13 -> 1.5428359 | C17: =Начало!V13 -> 0.22334324 | D17: =Начало!Y13 -> 0.86 | E17: =Начало!X13 -> -0.55189413 | F17: =Начало!R13*Начало!$A$3/1000 -> 2.0674918 | G17: =B17*D17 -> 1.3268389 | H17: =B17*E17 -> -0.8514821 | I17: =B8*D8 -> 5.5663734 | J17: =B8*E8 -> 12.405354 | K17: =G17+I17 -> 6.8932123 | L17: =H17+J17 -> 11.553871 | M17: =K17*Начало!$A$3/1000 -> 41.359274 | N17: =L17*Начало!$A$3/1000 -> 69.323229 | O17: =P17/2 -> 1013.3022 | P17: =M17*Начало!$H$5*1000 -> 2026.6044 | Q17: =O17 -> 1013.3022 | R17: =P17 -> 2026.6044 | S17: =G26 -> 0.46381647 | T17: =H26 -> -1.0924002 | U17: =I62 -> 0.6388389 | V17: =J62 -> -0.40996679 | W17: =S17+U17 -> 1.1026554 | X17: =T17+V17 -> -1.502367 | Y17: =W17*Начало!$A$3/1000 -> 6.6159322 | Z17: =X17*Начало!$A$3/1000 -> -9.014202 | AA17: =AB17/2 -> 162.09034 | AB17: =Y17*Начало!$H$5*1000 -> 324.18068 | AC17: =R17+AA17 -> 2188.6948 | AD17: =R17+AB17 -> 2350.7851 | AE17: =G44 -> -0.54262661 | AF17: =H44 -> -1.2093107 | AG17: =G35 -> -0.12952982 | AH17: =H35 -> -0.019903334 | AI17: =AE17+AG17 -> -0.67215643 | AJ17: =AF17+AH17 -> -1.229214 | AK17: =AI17*Начало!$A$3/1000 -> -4.0329386 | AL17: =AJ17*Начало!$A$3/1000 -> -7.3752843 | AM17: =AN17/2 -> -98.806995 | AN17: =AK17*Начало!$H$5*1000 -> -197.61399 | AO17: =AD17+AM17 -> 2251.9781 | AP17: =AD17+AN17 -> 2153.1711 | AQ17: =G71 -> 0.25747018 | AR17: =H71 -> 0.039562434 | AS17: =G62 -> 0.46381647 | AT17: =H62 -> -1.0924002 | AU17: =AQ17+AS17 -> 0.72128664 | AV17: =AR17+AT17 -> -1.0528378 | AW17: =AU17*Начало!$A$3/1000 -> 4.3277199 | AX17: =AV17*Начало!$A$3/1000 -> -6.3170266 | AY17: =AZ17/2 -> 106.02914 | AZ17: =AW17*Начало!$H$5*1000 -> 212.05827 | BA17: =AP17+AY17 -> 2259.2002 | BB17: =AP17+AZ17 -> 2365.2294
A18: 120 | B18: =Начало!O14 -> 1.5310714 | C18: =Начало!V14 -> 0.20109054 | D18: =Начало!Y14 -> 0.76 | E18: =Начало!X14 -> -0.67414952 | F18: =Начало!R14*Начало!$A$3/1000 -> 1.8473038 | G18: =B18*D18 -> 1.1636143 | H18: =B18*E18 -> -1.032171 | I18: =B9*D9 -> 4.3311005 | J18: =B9*E9 -> 5.9450085 | K18: =G18+I18 -> 5.4947148 | L18: =H18+J18 -> 4.9128374 | M18: =K18*Начало!$A$3/1000 -> 32.968289 | N18: =L18*Начало!$A$3/1000 -> 29.477025 | O18: =P18/2 -> 807.72308 | P18: =M18*Начало!$H$5*1000 -> 1615.4462 | Q18: =O18 -> 807.72308 | R18: =P18 -> 1615.4462 | S18: =G27 -> 0.65085748 | T18: =H27 -> -1.0173209 | U18: =I63 -> 0.66961426 | V18: =J63 -> -0.59397385 | W18: =S18+U18 -> 1.3204717 | X18: =T18+V18 -> -1.6112947 | Y18: =W18*Начало!$A$3/1000 -> 7.9228304 | Z18: =X18*Начало!$A$3/1000 -> -9.6677683 | AA18: =AB18/2 -> 194.10935 | AB18: =Y18*Начало!$H$5*1000 -> 388.21869 | AC18: =R18+AA18 -> 1809.5555 | AD18: =R18+AB18 -> 2003.6648 | AE18: =G45 -> -0.68389945 | AF18: =H45 -> -0.93874247 | AG18: =G36 -> -0.32305172 | AH18: =H36 -> -0.13850863 | AI18: =AE18+AG18 -> -1.0069512 | AJ18: =AF18+AH18 -> -1.0772511 | AK18: =AI18*Начало!$A$3/1000 -> -6.041707 | AL18: =AJ18*Начало!$A$3/1000 -> -6.4635066 | AM18: =AN18/2 -> -148.02182 | AN18: =AK18*Начало!$H$5*1000 -> -296.04365 | AO18: =AD18+AM18 -> 1855.643 | AP18: =AD18+AN18 -> 1707.6212 | AQ18: =G72 -> 0.17094828 | AR18: =H72 -> 0.073294182 | AS18: =G63 -> 0.65085748 | AT18: =H63 -> -1.0173209 | AU18: =AQ18+AS18 -> 0.82180576 | AV18: =AR18+AT18 -> -0.94402668 | AW18: =AU18*Начало!$A$3/1000 -> 4.9308346 | AX18: =AV18*Начало!$A$3/1000 -> -5.6641601 | AY18: =AZ18/2 -> 120.80545 | AZ18: =AW18*Начало!$H$5*1000 -> 241.61089 | BA18: =AP18+AY18 -> 1828.4266 | BB18: =AP18+AZ18 -> 1949.2321
A19: 130 | B19: =Начало!O15 -> 1.5840248 | C19: =Начало!V15 -> 0.17920776 | D19: =Начало!Y15 -> 0.64 | E19: =Начало!X15 -> -0.78006872 | F19: =Начало!R15*Начало!$A$3/1000 -> 1.7032171 | G19: =B19*D19 -> 1.0137759 | H19: =B19*E19 -> -1.2356482 | I19: =B10*D10 -> 3.4537385 | J19: =B10*E10 -> 3.0926354 | K19: =G19+I19 -> 4.4675143 | L19: =H19+J19 -> 1.8569873 | M19: =K19*Начало!$A$3/1000 -> 26.805086 | N19: =L19*Начало!$A$3/1000 -> 11.141924 | O19: =P19/2 -> 656.7246 | P19: =M19*Начало!$H$5*1000 -> 1313.4492 | Q19: =O19 -> 656.7246 | R19: =P19 -> 1313.4492 | S19: =G28 -> 0.79207977 | T19: =H28 -> -0.90878435 | U19: =I64 -> 0.62977585 | V19: =J64 -> -0.76760694 | W19: =S19+U19 -> 1.4218556 | X19: =T19+V19 -> -1.6763913 | Y19: =W19*Начало!$A$3/1000 -> 8.5311337 | Z19: =X19*Начало!$A$3/1000 -> -10.058348 | AA19: =AB19/2 -> 209.01278 | AB19: =Y19*Начало!$H$5*1000 -> 418.02555 | AC19: =R19+AA19 -> 1522.462 | AD19: =R19+AB19 -> 1731.4748 | AE19: =G46 -> -0.70876153 | AF19: =H46 -> -0.63465751 | AG19: =G37 -> -0.44487408 | AH19: =H37 -> -0.35138553 | AI19: =AE19+AG19 -> -1.1536356 | AJ19: =AF19+AH19 -> -0.98604304 | AK19: =AI19*Начало!$A$3/1000 -> -6.9218137 | AL19: =AJ19*Начало!$A$3/1000 -> -5.9162582 | AM19: =AN19/2 -> -169.58443 | AN19: =AK19*Начало!$H$5*1000 -> -339.16887 | AO19: =AD19+AM19 -> 1561.8903 | AP19: =AD19+AN19 -> 1392.3059 | AQ19: =G73 -> 0.19512592 | AR19: =H73 -> 0.15412097 | AS19: =G64 -> 0.79957977 | AT19: =H64 -> -0.91738939 | AU19: =AQ19+AS19 -> 0.99470569 | AV19: =AR19+AT19 -> -0.76326842 | AW19: =AU19*Начало!$A$3/1000 -> 5.9682341 | AX19: =AV19*Начало!$A$3/1000 -> -4.5796105 | AY19: =AZ19/2 -> 146.22174 | AZ19: =AW19*Начало!$H$5*1000 -> 292.44347 | BA19: =AP19+AY19 -> 1538.5276 | BB19: =AP19+AZ19 -> 1684.7494
A20: 140 | B20: =Начало!O16 -> 1.6061064 | C20: =Начало!V16 -> 0.14695387 | D20: =Начало!Y16 -> 0.52 | E20: =Начало!X16 -> -0.86050457 | F20: =Начало!R16*Начало!$A$3/1000 -> 1.4161413 | G20: =B20*D20 -> 0.8351753 | H20: =B20*E20 -> -1.3820619 | I20: =B11*D11 -> 2.7430539 | J20: =B11*E11 -> 1.6706405 | K20: =G20+I20 -> 3.5782292 | L20: =H20+J20 -> 0.28857863 | M20: =K20*Начало!$A$3/1000 -> 21.469375 | N20: =L20*Начало!$A$3/1000 -> 1.7314718 | O20: =P20/2 -> 525.9997 | P20: =M20*Начало!$H$5*1000 -> 1051.9994 | Q20: =O20 -> 525.9997 | R20: =P20 -> 1051.9994 | S20: =G29 -> 0.81674056 | T20: =H29 -> -0.76760694 | U20: =I65 -> 0.5491753 | V20: =J65 -> -0.90878435 | W20: =S20+U20 -> 1.3659159 | X20: =T20+V20 -> -1.6763913 | Y20: =W20*Начало!$A$3/1000 -> 8.1954952 | Z20: =X20*Начало!$A$3/1000 -> -10.058348 | AA20: =AB20/2 -> 200.78963 | AB20: =Y20*Начало!$H$5*1000 -> 401.57926 | AC20: =R20+AA20 -> 1252.789 | AD20: =R20+AB20 -> 1453.5787 | AE20: =G47 -> -0.57694607 | AF20: =H47 -> -0.35138553 | AG20: =G38 -> -0.491408 | AH20: =H38 -> -0.63465751 | AI20: =AE20+AG20 -> -1.0683541 | AJ20: =AF20+AH20 -> -0.98604304 | AK20: =AI20*Начало!$A$3/1000 -> -6.4101244 | AL20: =AJ20*Начало!$A$3/1000 -> -5.9162582 | AM20: =AN20/2 -> -157.04805 | AN20: =AK20*Начало!$H$5*1000 -> -314.09609 | AO20: =AD20+AM20 -> 1296.5306 | AP20: =AD20+AN20 -> 1139.4826 | AQ20: =G74 -> 0.340592 | AR20: =H74 -> 0.4398774 | AS20: =G65 -> 0.83334056 | AT20: =H65 -> -0.78320831 | AU20: =AQ20+AS20 -> 1.1739326 | AV20: =AR20+AT20 -> -0.34333091 | AW20: =AU20*Начало!$A$3/1000 -> 7.0435954 | AX20: =AV20*Начало!$A$3/1000 -> -2.0599855 | AY20: =AZ20/2 -> 172.56809 | AZ20: =AW20*Начало!$H$5*1000 -> 345.13617 | BA20: =AP20+AY20 -> 1312.0507 | BB20: =AP20+AZ20 -> 1484.6187
A21: 150 | B21: =Начало!O17 -> 1.6031483 | C21: =Начало!V17 -> 0.1123447 | D21: =Начало!Y17 -> 0.39 | E21: =Начало!X17 -> -0.92219776 | F21: =Начало!R17*Начало!$A$3/1000 -> 1.0806313 | G21: =B21*D21 -> 0.62522783 | H21: =B21*E21 -> -1.4784197 | I21: =B12*D12 -> 2.1839347 | J21: =B12*E12 -> 0.74128767 | K21: =G21+I21 -> 2.8091625 | L21: =H21+J21 -> -0.73713207 | M21: =K21*Начало!$A$3/1000 -> 16.854975 | N21: =L21*Начало!$A$3/1000 -> -4.4227924 | O21: =P21/2 -> 412.94689 | P21: =M21*Начало!$H$5*1000 -> 825.89377 | Q21: =O21 -> 412.94689 | R21: =P21 -> 825.89377 | S21: =G30 -> 0.84582854 | T21: =H30 -> -0.59397385 | U21: =I66 -> 0.43022783 | V21: =J66 -> -1.0173209 | W21: =S21+U21 -> 1.2760564 | X21: =T21+V21 -> -1.6112947 | Y21: =W21*Начало!$A$3/1000 -> 7.6563382 | Z21: =X21*Начало!$A$3/1000 -> -9.6677683 | AA21: =AB21/2 -> 187.58029 | AB21: =Y21*Начало!$H$5*1000 -> 375.16057 | AC21: =R21+AA21 -> 1013.4741 | AD21: =R21+AB21 -> 1201.0543 | AE21: =G48 -> -0.40806534 | AF21: =H48 -> -0.13850863 | AG21: =G39 -> -0.45206913 | AH21: =H39 -> -0.93874247 | AI21: =AE21+AG21 -> -0.86013446 | AJ21: =AF21+AH21 -> -1.0772511 | AK21: =AI21*Начало!$A$3/1000 -> -5.1608068 | AL21: =AJ21*Начало!$A$3/1000 -> -6.4635066 | AM21: =AN21/2 -> -126.43977 | AN21: =AK21*Начало!$H$5*1000 -> -252.87953 | AO21: =AD21+AM21 -> 1074.6146 | AP21: =AD21+AN21 -> 948.17481 | AQ21: =G75 -> 0.75693087 | AR21: =H75 -> 1.571802 | AS21: =G66 -> 0.87462854 | AT21: =H66 -> -0.61419834 | AU21: =AQ21+AS21 -> 1.6315594 | AV21: =AR21+AT21 -> 0.95760365 | AW21: =AU21*Начало!$A$3/1000 -> 9.7893564 | AX21: =AV21*Начало!$A$3/1000 -> 5.7456219 | AY21: =AZ21/2 -> 239.83923 | AZ21: =AW21*Начало!$H$5*1000 -> 479.67847 | BA21: =AP21+AY21 -> 1188.014 | BB21: =AP21+AZ21 -> 1427.8533
A22: 160 | B22: =Начало!O18 -> 1.5812597 | C22: =Начало!V18 -> 0.075892493 | D22: =Начало!Y18 -> 0.26 | E22: =Начало!X18 -> -0.96564938 | F22: =Начало!R18*Начало!$A$3/1000 -> 0.72003443 | G22: =B22*D22 -> 0.41112751 | H22: =B22*E22 -> -1.5269424 | I22: =B13*D13 -> 1.8678778 | J22: =B13*E13 -> 0.25138873 | K22: =G22+I22 -> 2.2790053 | L22: =H22+J22 -> -1.2755537 | M22: =K22*Начало!$A$3/1000 -> 13.674032 | N22: =L22*Начало!$A$3/1000 -> -7.6533222 | O22: =P22/2 -> 335.01378 | P22: =M22*Начало!$H$5*1000 -> 670.02755 | Q22: =O22 -> 335.01378 | R22: =P22 -> 670.02755 | S22: =G31 -> 0.75026429 | T22: =H31 -> -0.40715522 | U22: =I67 -> 0.29412751 | V22: =J67 -> -1.0924002 | W22: =S22+U22 -> 1.0443918 | X22: =T22+V22 -> -1.4995554 | Y22: =W22*Начало!$A$3/1000 -> 6.2663508 | Z22: =X22*Начало!$A$3/1000 -> -8.9973326 | AA22: =AB22/2 -> 153.5256 | AB22: =Y22*Начало!$H$5*1000 -> 307.05119 | AC22: =R22+AA22 -> 823.55315 | AD22: =R22+AB22 -> 977.07874 | AE22: =G49 -> -0.15212223 | AF22: =H49 -> -0.020473404 | AG22: =G40 -> -0.34410468 | AH22: =H40 -> -1.2093107 | AI22: =AE22+AG22 -> -0.49622691 | AJ22: =AF22+AH22 -> -1.2297841 | AK22: =AI22*Начало!$A$3/1000 -> -2.9773615 | AL22: =AJ22*Начало!$A$3/1000 -> -7.3787047 | AM22: =AN22/2 -> -72.945356 | AN22: =AK22*Начало!$H$5*1000 -> -145.89071 | AO22: =AD22+AM22 -> 904.13339 | AP22: =AD22+AN22 -> 831.18803 | AQ22: =G76 -> 1.0078953 | AR22: =H76 -> 3.5421158 | AS22: =G67 -> 0.79066429 | AT22: =H67 -> -0.42907959 | AU22: =AQ22+AS22 -> 1.7985596 | AV22: =AR22+AT22 -> 3.1130362 | AW22: =AU22*Начало!$A$3/1000 -> 10.791358 | AX22: =AV22*Начало!$A$3/1000 -> 18.678217 | AY22: =AZ22/2 -> 264.38826 | AZ22: =AW22*Начало!$H$5*1000 -> 528.77653 | BA22: =AP22+AY22 -> 1095.5763 | BB22: =AP22+AZ22 -> 1359.9646
A23: 170 | B23: =Начало!O19 -> 1.4457318 | C23: =Начало!V19 -> 0.038241336 | D23: =Начало!Y19 -> 0.13 | E23: =Начало!X19 -> -0.99144829 | F23: =Начало!R19*Начало!$A$3/1000 -> 0.33172029 | G23: =B23*D23 -> 0.18794514 | H23: =B23*E23 -> -1.4333683 | I23: =B14*D14 -> 1.6460308 | J23: =B14*E14 -> -0.090771564 | K23: =G23+I23 -> 1.833976 | L23: =H23+J23 -> -1.5241399 | M23: =K23*Начало!$A$3/1000 -> 11.003856 | N23: =L23*Начало!$A$3/1000 -> -9.1448394 | O23: =P23/2 -> 269.59447 | P23: =M23*Начало!$H$5*1000 -> 539.18893 | Q23: =O23 -> 269.59447 | R23: =P23 -> 539.18893 | S23: =G32 -> 0.57872064 | T23: =H32 -> -0.22896061 | U23: =I68 -> 0.14894514 | V23: =J68 -> -1.1359338 | W23: =S23+U23 -> 0.72766578 | X23: =T23+V23 -> -1.3648945 | Y23: =W23*Начало!$A$3/1000 -> 4.3659947 | Z23: =X23*Начало!$A$3/1000 -> -8.1893667 | AA23: =AB23/2 -> 106.96687 | AB23: =Y23*Начало!$H$5*1000 -> 213.93374 | AC23: =R23+AA23 -> 646.1558 | AD23: =R23+AB23 -> 753.12267 | AE23: =G50 -> 0.11603082 | AF23: =H50 -> -0.0063986038 | AG23: =G41 -> -0.18549189 | AH23: =H41 -> -1.3957084 | AI23: =AE23+AG23 -> -0.06946107 | AJ23: =AF23+AH23 -> -1.402107 | AK23: =AI23*Начало!$A$3/1000 -> -0.41676642 | AL23: =AJ23*Начало!$A$3/1000 -> -8.4126418 | AM23: =AN23/2 -> -10.210777 | AN23: =AK23*Начало!$H$5*1000 -> -20.421555 | AO23: =AD23+AM23 -> 742.91189 | AP23: =AD23+AN23 -> 732.70112 | AQ23: =G77 -> 0.77650811 | AR23: =H77 -> 5.842729 | AS23: =G68 -> 0.62972064 | AT23: =H68 -> -0.24913786 | AU23: =AQ23+AS23 -> 1.4062288 | AV23: =AR23+AT23 -> 5.5935912 | AW23: =AU23*Начало!$A$3/1000 -> 8.4373725 | AX23: =AV23*Начало!$A$3/1000 -> 33.561547 | AY23: =AZ23/2 -> 206.71563 | AZ23: =AW23*Начало!$H$5*1000 -> 413.43125 | BA23: =AP23+AY23 -> 939.41674 | BB23: =AP23+AZ23 -> 1146.1324
A24: 180 | B24: =Начало!O20 -> 1.1501361 | C24: =Начало!V20 -> 0 | D24: =Начало!Y20 -> 0 | E24: =Начало!X20 -> -1 | F24: =Начало!R20*Начало!$A$3/1000 -> 0 | G24: =B24*D24 -> 0 | H24: =B24*E24 -> -1.1501361 | I24: =B15*D15 -> 1.5560033 | J24: =B15*E15 -> -0.36696346 | K24: =G24+I24 -> 1.5560033 | L24: =H24+J24 -> -1.5170996 | M24: =K24*Начало!$A$3/1000 -> 9.33602 | N24: =L24*Начало!$A$3/1000 -> -9.1025975 | O24: =P24/2 -> 228.73249 | P24: =M24*Начало!$H$5*1000 -> 457.46498 | Q24: =O24 -> 228.73249 | R24: =P24 -> 457.46498 | S24: =G33 -> 0.35600333 | T24: =H33 -> -0.083958827 | U24: =I69 -> 0 | V24: =J69 -> -1.1501361 | W24: =S24+U24 -> 0.35600333 | X24: =T24+V24 -> -1.2340949 | Y24: =W24*Начало!$A$3/1000 -> 2.13602 | Z24: =X24*Начало!$A$3/1000 -> -7.4045697 | AA24: =AB24/2 -> 52.33249 | AB24: =Y24*Начало!$H$5*1000 -> 104.66498 | AC24: =R24+AA24 -> 509.79747 | AD24: =R24+AB24 -> 562.12996 | AE24: =G51 -> 0.35600333 | AF24: =H51 -> -0.083958827 | AG24: =G42 -> 0 | AH24: =H42 -> -1.4621428 | AI24: =AE24+AG24 -> 0.35600333 | AJ24: =AF24+AH24 -> -1.5461016 | AK24: =AI24*Начало!$A$3/1000 -> 2.13602 | AL24: =AJ24*Начало!$A$3/1000 -> -9.2766097 | AM24: =AN24/2 -> 52.33249 | AN24: =AK24*Начало!$H$5*1000 -> 104.66498 | AO24: =AD24+AM24 -> 614.46245 | AP24: =AD24+AN24 -> 666.79494 | AQ24: =G6 -> 0 | AR24: =H6 -> 12.337857 | AS24: =G69 -> 0.55600333 | AT24: =H69 -> -0.13112627 | AU24: =AQ24+AS24 -> 0.55600333 | AV24: =AR24+AT24 -> 12.206731 | AW24: =AU24*Начало!$A$3/1000 -> 3.33602 | AX24: =AV24*Начало!$A$3/1000 -> 73.240386 | AY24: =AZ24/2 -> 81.73249 | AZ24: =AW24*Начало!$H$5*1000 -> 163.46498 | BA24: =AP24+AY24 -> 748.52743 | BB24: =AP24+AZ24 -> 830.25992
A25: 190 | B25: =Начало!O21 -> 1.1457318 | C25: =Начало!V21 -> -0.038241336 | D25: =Начало!Y21 -> 0.21 | E25: =Начало!X21 -> -0.99144829 | F25: =Начало!R21*Начало!$A$3/1000 -> -0.26288589 | G25: =B25*D25 -> 0.24060368 | H25: =B25*E25 -> -1.1359338 | I25: =B16*D16 -> 1.5203308 | J25: =B16*E16 -> -0.65268285 | K25: =G25+I25 -> 1.7609345 | L25: =H25+J25 -> -1.7886167 | M25: =K25*Начало!$A$3/1000 -> 10.565607 | N25: =L25*Начало!$A$3/1000 -> -10.7317 | O25: =P25/2 -> 258.85737 | P25: =M25*Начало!$H$5*1000 -> 517.71473 | Q25: =O25 -> 258.85737 | R25: =P25 -> 517.71473 | S25: =G34 -> 0.10693036 | T25: =H34 -> -0.0063986038 | U25: =I70 -> 0.24060368 | V25: =J70 -> -1.1359338 | W25: =S25+U25 -> 0.34753405 | X25: =T25+V25 -> -1.1423325 | Y25: =W25*Начало!$A$3/1000 -> 2.0852043 | Z25: =X25*Начало!$A$3/1000 -> -6.8539947 | AA25: =AB25/2 -> 51.087505 | AB25: =Y25*Начало!$H$5*1000 -> 102.17501 | AC25: =R25+AA25 -> 568.80224 | AD25: =R25+AB25 -> 619.88974 | AE25: =G52 -> 0.53333079 | AF25: =H52 -> -0.22896061 | AG25: =G43 -> -0.29964075 | AH25: =H43 -> -1.3957084 | AI25: =AE25+AG25 -> 0.23369004 | AJ25: =AF25+AH25 -> -1.624669 | AK25: =AI25*Начало!$A$3/1000 -> 1.4021402 | AL25: =AJ25*Начало!$A$3/1000 -> -9.7480138 | AM25: =AN25/2 -> 34.352436 | AN25: =AK25*Начало!$H$5*1000 -> 68.704872 | AO25: =AD25+AM25 -> 654.24218 | AP25: =AD25+AN25 -> 688.59461 | AQ25: =G7 -> 2.9973593 | AR25: =H7 -> 13.961517 | AS25: =G70 -> 0.38893036 | AT25: =H70 -> -0.023273196 | AU25: =AQ25+AS25 -> 3.3862896 | AV25: =AR25+AT25 -> 13.938244 | AW25: =AU25*Начало!$A$3/1000 -> 20.317738 | AX25: =AV25*Начало!$A$3/1000 -> 83.629462 | AY25: =AZ25/2 -> 497.78457 | AZ25: =AW25*Начало!$H$5*1000 -> 995.56915 | BA25: =AP25+AY25 -> 1186.3792 | BB25: =AP25+AZ25 -> 1684.1638
A26: 200 | B26: =Начало!O22 -> 1.1312597 | C26: =Начало!V22 -> -0.075892493 | D26: =Начало!Y22 -> 0.41 | E26: =Начало!X22 -> -0.96564938 | F26: =Начало!R22*Начало!$A$3/1000 -> -0.5151247 | G26: =B26*D26 -> 0.46381647 | H26: =B26*E26 -> -1.0924002 | I26: =B17*D17 -> 1.3268389 | J26: =B17*E17 -> -0.8514821 | K26: =G26+I26 -> 1.7906554 | L26: =H26+J26 -> -1.9438823 | M26: =K26*Начало!$A$3/1000 -> 10.743932 | N26: =L26*Начало!$A$3/1000 -> -11.663294 | O26: =P26/2 -> 263.22634 | P26: =M26*Начало!$H$5*1000 -> 526.45268 | Q26: =O26 -> 263.22634 | R26: =P26 -> 526.45268 | S26: =G35 -> -0.12952982 | T26: =H35 -> -0.019903334 | U26: =I71 -> 0.46381647 | V26: =J71 -> -1.0924002 | W26: =S26+U26 -> 0.33428664 | X26: =T26+V26 -> -1.1123035 | Y26: =W26*Начало!$A$3/1000 -> 2.0057199 | Z26: =X26*Начало!$A$3/1000 -> -6.6738212 | AA26: =AB26/2 -> 49.140137 | AB26: =Y26*Начало!$H$5*1000 -> 98.280273 | AC26: =R26+AA26 -> 575.59281 | AD26: =R26+AB26 -> 624.73295 | AE26: =G53 -> 0.6388389 | AF26: =H53 -> -0.40996679 | AG26: =G44 -> -0.54262661 | AH26: =H44 -> -1.2093107 | AI26: =AE26+AG26 -> 0.096212293 | AJ26: =AF26+AH26 -> -1.6192775 | AK26: =AI26*Начало!$A$3/1000 -> 0.57727376 | AL26: =AJ26*Начало!$A$3/1000 -> -9.715665 | AM26: =AN26/2 -> 14.143207 | AN26: =AK26*Начало!$H$5*1000 -> 28.286414 | AO26: =AD26+AM26 -> 638.87616 | AP26: =AD26+AN26 -> 653.01937 | AQ26: =G8 -> 5.5663734 | AR26: =H8 -> 12.405354 | AS26: =G71 -> 0.25747018 | AT26: =H71 -> 0.039562434 | AU26: =AQ26+AS26 -> 5.8238436 | AV26: =AR26+AT26 -> 12.444916 | AW26: =AU26*Начало!$A$3/1000 -> 34.943061 | AX26: =AV26*Начало!$A$3/1000 -> 74.669496 | AY26: =AZ26/2 -> 856.105 | AZ26: =AW26*Начало!$H$5*1000 -> 1712.21 | BA26: =AP26+AY26 -> 1509.1244 | BB26: =AP26+AZ26 -> 2365.2294
A27: 210 | B27: =Начало!O23 -> 1.1031483 | C27: =Начало!V23 -> -0.1123447 | D27: =Начало!Y23 -> 0.59 | E27: =Начало!X23 -> -0.92219776 | F27: =Начало!R23*Начало!$A$3/1000 -> -0.7435972 | G27: =B27*D27 -> 0.65085748 | H27: =B27*E27 -> -1.0173209 | I27: =B18*D18 -> 1.1636143 | J27: =B18*E18 -> -1.032171 | K27: =G27+I27 -> 1.8144717 | L27: =H27+J27 -> -2.0494919 | M27: =K27*Начало!$A$3/1000 -> 10.88683 | N27: =L27*Начало!$A$3/1000 -> -12.296951 | O27: =P27/2 -> 266.72735 | P27: =M27*Начало!$H$5*1000 -> 533.45469 | Q27: =O27 -> 266.72735 | R27: =P27 -> 533.45469 | S27: =G36 -> -0.32305172 | T27: =H36 -> -0.13850863 | U27: =I72 -> 0.65085748 | V27: =J72 -> -1.0173209 | W27: =S27+U27 -> 0.32780576 | X27: =T27+V27 -> -1.1558295 | Y27: =W27*Начало!$A$3/1000 -> 1.9668346 | Z27: =X27*Начало!$A$3/1000 -> -6.934977 | AA27: =AB27/2 -> 48.187447 | AB27: =Y27*Начало!$H$5*1000 -> 96.374893 | AC27: =R27+AA27 -> 581.64214 | AD27: =R27+AB27 -> 629.82959 | AE27: =G54 -> 0.66961426 | AF27: =H54 -> -0.59397385 | AG27: =G45 -> -0.68389945 | AH27: =H45 -> -0.93874247 | AI27: =AE27+AG27 -> -0.014285193 | AJ27: =AF27+AH27 -> -1.5327163 | AK27: =AI27*Начало!$A$3/1000 -> -0.085711158 | AL27: =AJ27*Начало!$A$3/1000 -> -9.1962979 | AM27: =AN27/2 -> -2.0999234 | AN27: =AK27*Начало!$H$5*1000 -> -4.1998468 | AO27: =AD27+AM27 -> 627.72966 | AP27: =AD27+AN27 -> 625.62974 | AQ27: =G9 -> 4.3311005 | AR27: =H9 -> 5.9450085 | AS27: =G72 -> 0.17094828 | AT27: =H72 -> 0.073294182 | AU27: =AQ27+AS27 -> 4.5020488 | AV27: =AR27+AT27 -> 6.0183027 | AW27: =AU27*Начало!$A$3/1000 -> 27.012293 | AX27: =AV27*Начало!$A$3/1000 -> 36.109816 | AY27: =AZ27/2 -> 661.80118 | AZ27: =AW27*Начало!$H$5*1000 -> 1323.6024 | BA27: =AP27+AY27 -> 1287.4309 | BB27: =AP27+AZ27 -> 1949.2321
A28: 220 | B28: =Начало!O24 -> 1.0561064 | C28: =Начало!V24 -> -0.14695387 | D28: =Начало!Y24 -> 0.75 | E28: =Начало!X24 -> -0.86050457 | F28: =Начало!R24*Начало!$A$3/1000 -> -0.9311935 | G28: =B28*D28 -> 0.79207977 | H28: =B28*E28 -> -0.90878435 | I28: =B19*D19 -> 1.0137759 | J28: =B19*E19 -> -1.2356482 | K28: =G28+I28 -> 1.8058556 | L28: =H28+J28 -> -2.1444325 | M28: =K28*Начало!$A$3/1000 -> 10.835134 | N28: =L28*Начало!$A$3/1000 -> -12.866595 | O28: =P28/2 -> 265.46078 | P28: =M28*Начало!$H$5*1000 -> 530.92155 | Q28: =O28 -> 265.46078 | R28: =P28 -> 530.92155 | S28: =G37 -> -0.44487408 | T28: =H37 -> -0.35138553 | U28: =I73 -> 0.79957977 | V28: =J73 -> -0.91738939 | W28: =S28+U28 -> 0.35470569 | X28: =T28+V28 -> -1.2687749 | Y28: =W28*Начало!$A$3/1000 -> 2.1282341 | Z28: =X28*Начало!$A$3/1000 -> -7.6126495 | AA28: =AB28/2 -> 52.141737 | AB28: =Y28*Начало!$H$5*1000 -> 104.28347 | AC28: =R28+AA28 -> 583.06329 | AD28: =R28+AB28 -> 635.20502 | AE28: =G55 -> 0.62977585 | AF28: =H55 -> -0.76760694 | AG28: =G46 -> -0.70876153 | AH28: =H46 -> -0.63465751 | AI28: =AE28+AG28 -> -0.078985684 | AJ28: =AF28+AH28 -> -1.4022644 | AK28: =AI28*Начало!$A$3/1000 -> -0.4739141 | AL28: =AJ28*Начало!$A$3/1000 -> -8.4135867 | AM28: =AN28/2 -> -11.610896 | AN28: =AK28*Начало!$H$5*1000 -> -23.221791 | AO28: =AD28+AM28 -> 623.59413 | AP28: =AD28+AN28 -> 611.98323 | AQ28: =G10 -> 3.4537385 | AR28: =H10 -> 3.0926354 | AS28: =G73 -> 0.19512592 | AT28: =H73 -> 0.15412097 | AU28: =AQ28+AS28 -> 3.6488644 | AV28: =AR28+AT28 -> 3.2467564 | AW28: =AU28*Начало!$A$3/1000 -> 21.893186 | AX28: =AV28*Начало!$A$3/1000 -> 19.480539 | AY28: =AZ28/2 -> 536.38307 | AZ28: =AW28*Начало!$H$5*1000 -> 1072.7661 | BA28: =AP28+AY28 -> 1148.3663 | BB28: =AP28+AZ28 -> 1684.7494
A29: 230 | B29: =Начало!O25 -> 0.98402477 | C29: =Начало!V25 -> -0.17920776 | D29: =Начало!Y25 -> 0.83 | E29: =Начало!X25 -> -0.78006872 | F29: =Начало!R25*Начало!$A$3/1000 -> -1.0580692 | G29: =B29*D29 -> 0.81674056 | H29: =B29*E29 -> -0.76760694 | I29: =B20*D20 -> 0.8351753 | J29: =B20*E20 -> -1.3820619 | K29: =G29+I29 -> 1.6519159 | L29: =H29+J29 -> -2.1496688 | M29: =K29*Начало!$A$3/1000 -> 9.9114952 | N29: =L29*Начало!$A$3/1000 -> -12.898013 | O29: =P29/2 -> 242.83163 | P29: =M29*Начало!$H$5*1000 -> 485.66326 | Q29: =O29 -> 242.83163 | R29: =P29 -> 485.66326 | S29: =G38 -> -0.491408 | T29: =H38 -> -0.63465751 | U29: =I74 -> 0.83334056 | V29: =J74 -> -0.78320831 | W29: =S29+U29 -> 0.34193256 | X29: =T29+V29 -> -1.4178658 | Y29: =W29*Начало!$A$3/1000 -> 2.0515954 | Z29: =X29*Начало!$A$3/1000 -> -8.5071949 | AA29: =AB29/2 -> 50.264086 | AB29: =Y29*Начало!$H$5*1000 -> 100.52817 | AC29: =R29+AA29 -> 535.92735 | AD29: =R29+AB29 -> 586.19144 | AE29: =G56 -> 0.5491753 | AF29: =H56 -> -0.90878435 | AG29: =G47 -> -0.57694607 | AH29: =H47 -> -0.35138553 | AI29: =AE29+AG29 -> -0.027770762 | AJ29: =AF29+AH29 -> -1.2601699 | AK29: =AI29*Начало!$A$3/1000 -> -0.16662457 | AL29: =AJ29*Начало!$A$3/1000 -> -7.5610192 | AM29: =AN29/2 -> -4.082302 | AN29: =AK29*Начало!$H$5*1000 -> -8.1646039 | AO29: =AD29+AM29 -> 582.10913 | AP29: =AD29+AN29 -> 578.02683 | AQ29: =G11 -> 2.7430539 | AR29: =H11 -> 1.6706405 | AS29: =G74 -> 0.340592 | AT29: =H74 -> 0.4398774 | AU29: =AQ29+AS29 -> 3.0836459 | AV29: =AR29+AT29 -> 2.1105179 | AW29: =AU29*Начало!$A$3/1000 -> 18.501876 | AX29: =AV29*Начало!$A$3/1000 -> 12.663107 | AY29: =AZ29/2 -> 453.29595 | AZ29: =AW29*Начало!$H$5*1000 -> 906.59191 | BA29: =AP29+AY29 -> 1031.3228 | BB29: =AP29+AZ29 -> 1484.6187
A30: 240 | B30: =Начало!O26 -> 0.88107139 | C30: =Начало!V26 -> -0.20109054 | D30: =Начало!Y26 -> 0.96 | E30: =Начало!X26 -> -0.67414952 | F30: =Начало!R26*Начало!$A$3/1000 -> -1.0630507 | G30: =B30*D30 -> 0.84582854 | H30: =B30*E30 -> -0.59397385 | I30: =B21*D21 -> 0.62522783 | J30: =B21*E21 -> -1.4784197 | K30: =G30+I30 -> 1.4710564 | L30: =H30+J30 -> -2.0723936 | M30: =K30*Начало!$A$3/1000 -> 8.8263382 | N30: =L30*Начало!$A$3/1000 -> -12.434362 | O30: =P30/2 -> 216.24529 | P30: =M30*Начало!$H$5*1000 -> 432.49057 | Q30: =O30 -> 216.24529 | R30: =P30 -> 432.49057 | S30: =G39 -> -0.45206913 | T30: =H39 -> -0.93874247 | U30: =I75 -> 0.87462854 | V30: =J75 -> -0.61419834 | W30: =S30+U30 -> 0.42255941 | X30: =T30+V30 -> -1.5529408 | Y30: =W30*Начало!$A$3/1000 -> 2.5353564 | Z30: =X30*Начало!$A$3/1000 -> -9.3176448 | AA30: =AB30/2 -> 62.116233 | AB30: =Y30*Начало!$H$5*1000 -> 124.23247 | AC30: =R30+AA30 -> 494.6068 | AD30: =R30+AB30 -> 556.72304 | AE30: =G57 -> 0.43022783 | AF30: =H57 -> -1.0173209 | AG30: =G48 -> -0.40806534 | AH30: =H48 -> -0.13850863 | AI30: =AE30+AG30 -> 0.022162492 | AJ30: =AF30+AH30 -> -1.1558295 | AK30: =AI30*Начало!$A$3/1000 -> 0.13297495 | AL30: =AJ30*Начало!$A$3/1000 -> -6.934977 | AM30: =AN30/2 -> 3.2578863 | AN30: =AK30*Начало!$H$5*1000 -> 6.5157727 | AO30: =AD30+AM30 -> 559.98092 | AP30: =AD30+AN30 -> 563.23881 | AQ30: =G12 -> 2.1839347 | AR30: =H12 -> 0.74128767 | AS30: =G75 -> 0.75693087 | AT30: =H75 -> 1.571802 | AU30: =AQ30+AS30 -> 2.9408655 | AV30: =AR30+AT30 -> 2.3130897 | AW30: =AU30*Начало!$A$3/1000 -> 17.645193 | AX30: =AV30*Начало!$A$3/1000 -> 13.878538 | AY30: =AZ30/2 -> 432.30723 | AZ30: =AW30*Начало!$H$5*1000 -> 864.61447 | BA30: =AP30+AY30 -> 995.54604 | BB30: =AP30+AZ30 -> 1427.8533
A31: 250 | B31: =Начало!O27 -> 0.74283593 | C31: =Начало!V27 -> -0.21931541 | D31: =Начало!Y27 -> 1.01 | E31: =Начало!X27 -> -0.54810922 | F31: =Начало!R27*Начало!$A$3/1000 -> -0.97749221 | G31: =B31*D31 -> 0.75026429 | H31: =B31*E31 -> -0.40715522 | I31: =B22*D22 -> 0.41112751 | J31: =B22*E22 -> -1.5269424 | K31: =G31+I31 -> 1.1613918 | L31: =H31+J31 -> -1.9340976 | M31: =K31*Начало!$A$3/1000 -> 6.9683508 | N31: =L31*Начало!$A$3/1000 -> -11.604586 | O31: =P31/2 -> 170.7246 | P31: =M31*Начало!$H$5*1000 -> 341.44919 | Q31: =O31 -> 170.7246 | R31: =P31 -> 341.44919 | S31: =G40 -> -0.34410468 | T31: =H40 -> -1.2093107 | U31: =I76 -> 0.79066429 | V31: =J76 -> -0.42907959 | W31: =S31+U31 -> 0.44655961 | X31: =T31+V31 -> -1.6383903 | Y31: =W31*Начало!$A$3/1000 -> 2.6793577 | Z31: =X31*Начало!$A$3/1000 -> -9.8303418 | AA31: =AB31/2 -> 65.644263 | AB31: =Y31*Начало!$H$5*1000 -> 131.28853 | AC31: =R31+AA31 -> 407.09345 | AD31: =R31+AB31 -> 472.73772 | AE31: =G58 -> 0.29412751 | AF31: =H58 -> -1.0924002 | AG31: =G49 -> -0.15212223 | AH31: =H49 -> -0.020473404 | AI31: =AE31+AG31 -> 0.14200528 | AJ31: =AF31+AH31 -> -1.1128736 | AK31: =AI31*Начало!$A$3/1000 -> 0.85203169 | AL31: =AJ31*Начало!$A$3/1000 -> -6.6772416 | AM31: =AN31/2 -> 20.874777 | AN31: =AK31*Начало!$H$5*1000 -> 41.749553 | AO31: =AD31+AM31 -> 493.61249 | AP31: =AD31+AN31 -> 514.48727 | AQ31: =G13 -> 1.8678778 | AR31: =H13 -> 0.25138873 | AS31: =G76 -> 1.0078953 | AT31: =H76 -> 3.5421158 | AU31: =AQ31+AS31 -> 2.8757731 | AV31: =AR31+AT31 -> 3.7935045 | AW31: =AU31*Начало!$A$3/1000 -> 17.254639 | AX31: =AV31*Начало!$A$3/1000 -> 22.761027 | AY31: =AZ31/2 -> 422.73864 | AZ31: =AW31*Начало!$H$5*1000 -> 845.47729 | BA31: =AP31+AY31 -> 937.22591 | BB31: =AP31+AZ31 -> 1359.9646
A32: 260 | B32: =Начало!O28 -> 0.56737318 | C32: =Начало!V28 -> -0.23344335 | D32: =Начало!Y28 -> 1.02 | E32: =Начало!X28 -> -0.403545 | F32: =Начало!R28*Начало!$A$3/1000 -> -0.79469696 | G32: =B32*D32 -> 0.57872064 | H32: =B32*E32 -> -0.22896061 | I32: =B23*D23 -> 0.18794514 | J32: =B23*E23 -> -1.4333683 | K32: =G32+I32 -> 0.76666578 | L32: =H32+J32 -> -1.6623289 | M32: =K32*Начало!$A$3/1000 -> 4.5999947 | N32: =L32*Начало!$A$3/1000 -> -9.9739737 | O32: =P32/2 -> 112.69987 | P32: =M32*Начало!$H$5*1000 -> 225.39974 | Q32: =O32 -> 112.69987 | R32: =P32 -> 225.39974 | S32: =G41 -> -0.18549189 | T32: =H41 -> -1.3957084 | U32: =I77 -> 0.62972064 | V32: =J77 -> -0.24913786 | W32: =S32+U32 -> 0.44422875 | X32: =T32+V32 -> -1.6448462 | Y32: =W32*Начало!$A$3/1000 -> 2.6653725 | Z32: =X32*Начало!$A$3/1000 -> -9.8690773 | AA32: =AB32/2 -> 65.301626 | AB32: =Y32*Начало!$H$5*1000 -> 130.60325 | AC32: =R32+AA32 -> 290.70136 | AD32: =R32+AB32 -> 356.00299 | AE32: =G59 -> 0.14894514 | AF32: =H59 -> -1.1359338 | AG32: =G50 -> 0.11603082 | AH32: =H50 -> -0.0063986038 | AI32: =AE32+AG32 -> 0.26497596 | AJ32: =AF32+AH32 -> -1.1423325 | AK32: =AI32*Начало!$A$3/1000 -> 1.5898557 | AL32: =AJ32*Начало!$A$3/1000 -> -6.8539947 | AM32: =AN32/2 -> 38.951466 | AN32: =AK32*Начало!$H$5*1000 -> 77.902931 | AO32: =AD32+AM32 -> 394.95446 | AP32: =AD32+AN32 -> 433.90592 | AQ32: =G14 -> 1.6460308 | AR32: =H14 -> -0.090771564 | AS32: =G77 -> 0.77650811 | AT32: =H77 -> 5.842729 | AU32: =AQ32+AS32 -> 2.4225389 | AV32: =AR32+AT32 -> 5.7519575 | AW32: =AU32*Начало!$A$3/1000 -> 14.535234 | AX32: =AV32*Начало!$A$3/1000 -> 34.511745 | AY32: =AZ32/2 -> 356.11322 | AZ32: =AW32*Начало!$H$5*1000 -> 712.22645 | BA32: =AP32+AY32 -> 790.01914 | BB32: =AP32+AZ32 -> 1146.1324
A33: 270 | B33: =Начало!O29 -> 0.35600333 | C33: =Начало!V29 -> -0.23583719 | D33: =Начало!Y29 -> 1 | E33: =Начало!X29 -> -0.23583719 | F33: =Начало!R29*Начало!$A$3/1000 -> -0.50375296 | G33: =B33*D33 -> 0.35600333 | H33: =B33*E33 -> -0.083958827 | I33: =B24*D24 -> 0 | J33: =B24*E24 -> -1.1501361 | K33: =G33+I33 -> 0.35600333 | L33: =H33+J33 -> -1.2340949 | M33: =K33*Начало!$A$3/1000 -> 2.13602 | N33: =L33*Начало!$A$3/1000 -> -7.4045697 | O33: =P33/2 -> 52.33249 | P33: =M33*Начало!$H$5*1000 -> 104.66498 | Q33: =O33 -> 52.33249 | R33: =P33 -> 104.66498 | S33: =G42 -> 0 | T33: =H42 -> -1.4621428 | U33: =I6 -> 0.55600333 | V33: =J6 -> -0.13112627 | W33: =S33+U33 -> 0.55600333 | X33: =T33+V33 -> -1.593269 | Y33: =W33*Начало!$A$3/1000 -> 3.33602 | Z33: =X33*Начало!$A$3/1000 -> -9.5596143 | AA33: =AB33/2 -> 81.73249 | AB33: =Y33*Начало!$H$5*1000 -> 163.46498 | AC33: =R33+AA33 -> 186.39747 | AD33: =R33+AB33 -> 268.12996 | AE33: =G60 -> 0 | AF33: =H60 -> -1.1501361 | AG33: =G51 -> 0.35600333 | AH33: =H51 -> -0.083958827 | AI33: =AE33+AG33 -> 0.35600333 | AJ33: =AF33+AH33 -> -1.2340949 | AK33: =AI33*Начало!$A$3/1000 -> 2.13602 | AL33: =AJ33*Начало!$A$3/1000 -> -7.4045697 | AM33: =AN33/2 -> 52.33249 | AN33: =AK33*Начало!$H$5*1000 -> 104.66498 | AO33: =AD33+AM33 -> 320.46245 | AP33: =AD33+AN33 -> 372.79494 | AQ33: =G15 -> 1.5560033 | AR33: =H15 -> -0.36696346 | AS33: =G6 -> 0 | AT33: =H6 -> 12.337857 | AU33: =AQ33+AS33 -> 1.5560033 | AV33: =AR33+AT33 -> 11.970894 | AW33: =AU33*Начало!$A$3/1000 -> 9.33602 | AX33: =AV33*Начало!$A$3/1000 -> 71.825363 | AY33: =AZ33/2 -> 228.73249 | AZ33: =AW33*Начало!$H$5*1000 -> 457.46498 | BA33: =AP33+AY33 -> 601.52743 | BB33: =AP33+AZ33 -> 830.25992
A34: 280 | B34: =Начало!O30 -> 0.11375571 | C34: =Начало!V30 -> -0.23344335 | D34: =Начало!Y30 -> 0.94 | E34: =Начало!X30 -> -0.05624864 | F34: =Начало!R30*Начало!$A$3/1000 -> -0.15933308 | G34: =B34*D34 -> 0.10693036 | H34: =B34*E34 -> -0.0063986038 | I34: =B25*D25 -> 0.24060368 | J34: =B25*E25 -> -1.1359338 | K34: =G34+I34 -> 0.34753405 | L34: =H34+J34 -> -1.1423325 | M34: =K34*Начало!$A$3/1000 -> 2.0852043 | N34: =L34*Начало!$A$3/1000 -> -6.8539947 | O34: =P34/2 -> 51.087505 | P34: =M34*Начало!$H$5*1000 -> 102.17501 | Q34: =O34 -> 51.087505 | R34: =P34 -> 102.17501 | S34: =G43 -> -0.29964075 | T34: =H43 -> -1.3957084 | U34: =I7 -> 0.38893036 | V34: =J7 -> -0.023273196 | W34: =S34+U34 -> 0.089289618 | X34: =T34+V34 -> -1.4189816 | Y34: =W34*Начало!$A$3/1000 -> 0.53573771 | Z34: =X34*Начало!$A$3/1000 -> -8.5138893 | AA34: =AB34/2 -> 13.125574 | AB34: =Y34*Начало!$H$5*1000 -> 26.251148 | AC34: =R34+AA34 -> 115.30058 | AD34: =R34+AB34 -> 128.42616 | AE34: =G61 -> 0.24060368 | AF34: =H61 -> -1.1359338 | AG34: =G52 -> 0.53333079 | AH34: =H52 -> -0.22896061 | AI34: =AE34+AG34 -> 0.77393447 | AJ34: =AF34+AH34 -> -1.3648945 | AK34: =AI34*Начало!$A$3/1000 -> 4.6436068 | AL34: =AJ34*Начало!$A$3/1000 -> -8.1893667 | AM34: =AN34/2 -> 113.76837 | AN34: =AK34*Начало!$H$5*1000 -> 227.53673 | AO34: =AD34+AM34 -> 242.19452 | AP34: =AD34+AN34 -> 355.96289 | AQ34: =G16 -> 1.5203308 | AR34: =H16 -> -0.65268285 | AS34: =G7 -> 2.9973593 | AT34: =H7 -> 13.961517 | AU34: =AQ34+AS34 -> 4.51769 | AV34: =AR34+AT34 -> 13.308834 | AW34: =AU34*Начало!$A$3/1000 -> 27.10614 | AX34: =AV34*Начало!$A$3/1000 -> 79.853004 | AY34: =AZ34/2 -> 664.10044 | AZ34: =AW34*Начало!$H$5*1000 -> 1328.2009 | BA34: =AP34+AY34 -> 1020.0633 | BB34: =AP34+AZ34 -> 1684.1638
A35: 290 | B35: =Начало!O31 -> -0.15061607 | C35: =Начало!V31 -> -0.22334324 | D35: =Начало!Y31 -> 0.86 | E35: =Начало!X31 -> 0.13214615 | F35: =Начало!R31*Начало!$A$3/1000 -> 0.20183449 | G35: =B35*D35 -> -0.12952982 | H35: =B35*E35 -> -0.019903334 | I35: =B26*D26 -> 0.46381647 | J35: =B26*E26 -> -1.0924002 | K35: =G35+I35 -> 0.33428664 | L35: =H35+J35 -> -1.1123035 | M35: =K35*Начало!$A$3/1000 -> 2.0057199 | N35: =L35*Начало!$A$3/1000 -> -6.6738212 | O35: =P35/2 -> 49.140137 | P35: =M35*Начало!$H$5*1000 -> 98.280273 | Q35: =O35 -> 49.140137 | R35: =P35 -> 98.280273 | S35: =G44 -> -0.54262661 | T35: =H44 -> -1.2093107 | U35: =I8 -> 0.25747018 | V35: =J8 -> 0.039562434 | W35: =S35+U35 -> -0.28515643 | X35: =T35+V35 -> -1.1697483 | Y35: =W35*Начало!$A$3/1000 -> -1.7109386 | Z35: =X35*Начало!$A$3/1000 -> -7.0184896 | AA35: =AB35/2 -> -41.917995 | AB35: =Y35*Начало!$H$5*1000 -> -83.83599 | AC35: =R35+AA35 -> 56.362278 | AD35: =R35+AB35 -> 14.444283 | AE35: =G62 -> 0.46381647 | AF35: =H62 -> -1.0924002 | AG35: =G53 -> 0.6388389 | AH35: =H53 -> -0.40996679 | AI35: =AE35+AG35 -> 1.1026554 | AJ35: =AF35+AH35 -> -1.502367 | AK35: =AI35*Начало!$A$3/1000 -> 6.6159322 | AL35: =AJ35*Начало!$A$3/1000 -> -9.014202 | AM35: =AN35/2 -> 162.09034 | AN35: =AK35*Начало!$H$5*1000 -> 324.18068 | AO35: =AD35+AM35 -> 176.53462 | AP35: =AD35+AN35 -> 338.62496 | AQ35: =G17 -> 1.3268389 | AR35: =H17 -> -0.8514821 | AS35: =G8 -> 5.5663734 | AT35: =H8 -> 12.405354 | AU35: =AQ35+AS35 -> 6.8932123 | AV35: =AR35+AT35 -> 11.553871 | AW35: =AU35*Начало!$A$3/1000 -> 41.359274 | AX35: =AV35*Начало!$A$3/1000 -> 69.323229 | AY35: =AZ35/2 -> 1013.3022 | AZ35: =AW35*Начало!$H$5*1000 -> 2026.6044 | BA35: =AP35+AY35 -> 1351.9272 | BB35: =AP35+AZ35 -> 2365.2294
A36: 300 | B36: =Начало!O32 -> -0.42506806 | C36: =Начало!V32 -> -0.20109054 | D36: =Начало!Y32 -> 0.76 | E36: =Начало!X32 -> 0.32585048 | F36: =Начало!R32*Начало!$A$3/1000 -> 0.51286299 | G36: =B36*D36 -> -0.32305172 | H36: =B36*E36 -> -0.13850863 | I36: =B27*D27 -> 0.65085748 | J36: =B27*E27 -> -1.0173209 | K36: =G36+I36 -> 0.32780576 | L36: =H36+J36 -> -1.1558295 | M36: =K36*Начало!$A$3/1000 -> 1.9668346 | N36: =L36*Начало!$A$3/1000 -> -6.934977 | O36: =P36/2 -> 48.187447 | P36: =M36*Начало!$H$5*1000 -> 96.374893 | Q36: =O36 -> 48.187447 | R36: =P36 -> 96.374893 | S36: =G45 -> -0.68389945 | T36: =H45 -> -0.93874247 | U36: =I9 -> 0.17094828 | V36: =J9 -> 0.073294182 | W36: =S36+U36 -> -0.51295117 | X36: =T36+V36 -> -0.86544829 | Y36: =W36*Начало!$A$3/1000 -> -3.077707 | Z36: =X36*Начало!$A$3/1000 -> -5.1926897 | AA36: =AB36/2 -> -75.403823 | AB36: =Y36*Начало!$H$5*1000 -> -150.80765 | AC36: =R36+AA36 -> 20.971071 | AD36: =R36+AB36 -> -54.432752 | AE36: =G63 -> 0.65085748 | AF36: =H63 -> -1.0173209 | AG36: =G54 -> 0.66961426 | AH36: =H54 -> -0.59397385 | AI36: =AE36+AG36 -> 1.3204717 | AJ36: =AF36+AH36 -> -1.6112947 | AK36: =AI36*Начало!$A$3/1000 -> 7.9228304 | AL36: =AJ36*Начало!$A$3/1000 -> -9.6677683 | AM36: =AN36/2 -> 194.10935 | AN36: =AK36*Начало!$H$5*1000 -> 388.21869 | AO36: =AD36+AM36 -> 139.67659 | AP36: =AD36+AN36 -> 333.78594 | AQ36: =G18 -> 1.1636143 | AR36: =H18 -> -1.032171 | AS36: =G9 -> 4.3311005 | AT36: =H9 -> 5.9450085 | AU36: =AQ36+AS36 -> 5.4947148 | AV36: =AR36+AT36 -> 4.9128374 | AW36: =AU36*Начало!$A$3/1000 -> 32.968289 | AX36: =AV36*Начало!$A$3/1000 -> 29.477025 | AY36: =AZ36/2 -> 807.72308 | AZ36: =AW36*Начало!$H$5*1000 -> 1615.4462 | BA36: =AP36+AY36 -> 1141.509 | BB36: =AP36+AZ36 -> 1949.2321
A37: 310 | B37: =Начало!O33 -> -0.69511574 | C37: =Начало!V33 -> -0.17920776 | D37: =Начало!Y33 -> 0.64 | E37: =Начало!X33 -> 0.5055065 | F37: =Начало!R33*Начало!$A$3/1000 -> 0.7474208 | G37: =B37*D37 -> -0.44487408 | H37: =B37*E37 -> -0.35138553 | I37: =B28*D28 -> 0.79207977 | J37: =B28*E28 -> -0.90878435 | K37: =G37+I37 -> 0.34720569 | L37: =H37+J37 -> -1.2601699 | M37: =K37*Начало!$A$3/1000 -> 2.0832341 | N37: =L37*Начало!$A$3/1000 -> -7.5610192 | O37: =P37/2 -> 51.039237 | P37: =M37*Начало!$H$5*1000 -> 102.07847 | Q37: =O37 -> 51.039237 | R37: =P37 -> 102.07847 | S37: =G46 -> -0.70876153 | T37: =H46 -> -0.63465751 | U37: =I10 -> 0.19512592 | V37: =J10 -> 0.15412097 | W37: =S37+U37 -> -0.51363561 | X37: =T37+V37 -> -0.48053653 | Y37: =W37*Начало!$A$3/1000 -> -3.0818137 | Z37: =X37*Начало!$A$3/1000 -> -2.8832192 | AA37: =AB37/2 -> -75.504435 | AB37: =Y37*Начало!$H$5*1000 -> -151.00887 | AC37: =R37+AA37 -> 26.574039 | AD37: =R37+AB37 -> -48.930396 | AE37: =G64 -> 0.79957977 | AF37: =H64 -> -0.91738939 | AG37: =G55 -> 0.62977585 | AH37: =H55 -> -0.76760694 | AI37: =AE37+AG37 -> 1.4293556 | AJ37: =AF37+AH37 -> -1.6849963 | AK37: =AI37*Начало!$A$3/1000 -> 8.5761337 | AL37: =AJ37*Начало!$A$3/1000 -> -10.109978 | AM37: =AN37/2 -> 210.11528 | AN37: =AK37*Начало!$H$5*1000 -> 420.23055 | AO37: =AD37+AM37 -> 161.18488 | AP37: =AD37+AN37 -> 371.30016 | AQ37: =G19 -> 1.0137759 | AR37: =H19 -> -1.2356482 | AS37: =G10 -> 3.4537385 | AT37: =H10 -> 3.0926354 | AU37: =AQ37+AS37 -> 4.4675143 | AV37: =AR37+AT37 -> 1.8569873 | AW37: =AU37*Начало!$A$3/1000 -> 26.805086 | AX37: =AV37*Начало!$A$3/1000 -> 11.141924 | AY37: =AZ37/2 -> 656.7246 | AZ37: =AW37*Начало!$H$5*1000 -> 1313.4492 | BA37: =AP37+AY37 -> 1028.0248 | BB37: =AP37+AZ37 -> 1684.7494
A38: 320 | B38: =Начало!O34 -> -0.94501538 | C38: =Начало!V34 -> -0.14695387 | D38: =Начало!Y34 -> 0.52 | E38: =Начало!X34 -> 0.67158432 | F38: =Начало!R34*Начало!$A$3/1000 -> 0.83324201 | G38: =B38*D38 -> -0.491408 | H38: =B38*E38 -> -0.63465751 | I38: =B29*D29 -> 0.81674056 | J38: =B29*E29 -> -0.76760694 | K38: =G38+I38 -> 0.32533256 | L38: =H38+J38 -> -1.4022644 | M38: =K38*Начало!$A$3/1000 -> 1.9519954 | N38: =L38*Начало!$A$3/1000 -> -8.4135867 | O38: =P38/2 -> 47.823886 | P38: =M38*Начало!$H$5*1000 -> 95.647772 | Q38: =O38 -> 47.823886 | R38: =P38 -> 95.647772 | S38: =G47 -> -0.57694607 | T38: =H47 -> -0.35138553 | U38: =I11 -> 0.340592 | V38: =J11 -> 0.4398774 | W38: =S38+U38 -> -0.23635406 | X38: =T38+V38 -> 0.088491869 | Y38: =W38*Начало!$A$3/1000 -> -1.4181244 | Z38: =X38*Начало!$A$3/1000 -> 0.53095122 | AA38: =AB38/2 -> -34.744047 | AB38: =Y38*Начало!$H$5*1000 -> -69.488095 | AC38: =R38+AA38 -> 60.903725 | AD38: =R38+AB38 -> 26.159678 | AE38: =G65 -> 0.83334056 | AF38: =H65 -> -0.78320831 | AG38: =G56 -> 0.5491753 | AH38: =H56 -> -0.90878435 | AI38: =AE38+AG38 -> 1.3825159 | AJ38: =AF38+AH38 -> -1.6919927 | AK38: =AI38*Начало!$A$3/1000 -> 8.2950952 | AL38: =AJ38*Начало!$A$3/1000 -> -10.151956 | AM38: =AN38/2 -> 203.22983 | AN38: =AK38*Начало!$H$5*1000 -> 406.45966 | AO38: =AD38+AM38 -> 229.38951 | AP38: =AD38+AN38 -> 432.61934 | AQ38: =G20 -> 0.8351753 | AR38: =H20 -> -1.3820619 | AS38: =G11 -> 2.7430539 | AT38: =H11 -> 1.6706405 | AU38: =AQ38+AS38 -> 3.5782292 | AV38: =AR38+AT38 -> 0.28857863 | AW38: =AU38*Начало!$A$3/1000 -> 21.469375 | AX38: =AV38*Начало!$A$3/1000 -> 1.7314718 | AY38: =AZ38/2 -> 525.9997 | AZ38: =AW38*Начало!$H$5*1000 -> 1051.9994 | BA38: =AP38+AY38 -> 958.61904 | BB38: =AP38+AZ38 -> 1484.6187
A39: 330 | B39: =Начало!O35 -> -1.1591516 | C39: =Начало!V35 -> -0.1123447 | D39: =Начало!Y35 -> 0.39 | E39: =Начало!X35 -> 0.80985305 | F39: =Начало!R35*Начало!$A$3/1000 -> 0.78134727 | G39: =B39*D39 -> -0.45206913 | H39: =B39*E39 -> -0.93874247 | I39: =B30*D30 -> 0.84582854 | J39: =B30*E30 -> -0.59397385 | K39: =G39+I39 -> 0.39375941 | L39: =H39+J39 -> -1.5327163 | M39: =K39*Начало!$A$3/1000 -> 2.3625564 | N39: =L39*Начало!$A$3/1000 -> -9.1962979 | O39: =P39/2 -> 57.882633 | P39: =M39*Начало!$H$5*1000 -> 115.76527 | Q39: =O39 -> 57.882633 | R39: =P39 -> 115.76527 | S39: =G48 -> -0.40806534 | T39: =H48 -> -0.13850863 | U39: =I12 -> 0.75693087 | V39: =J12 -> 1.571802 | W39: =S39+U39 -> 0.34886554 | X39: =T39+V39 -> 1.4332934 | Y39: =W39*Начало!$A$3/1000 -> 2.0931932 | Z39: =X39*Начало!$A$3/1000 -> 8.5997602 | AA39: =AB39/2 -> 51.283234 | AB39: =Y39*Начало!$H$5*1000 -> 102.56647 | AC39: =R39+AA39 -> 167.0485 | AD39: =R39+AB39 -> 218.33173 | AE39: =G66 -> 0.87462854 | AF39: =H66 -> -0.61419834 | AG39: =G57 -> 0.43022783 | AH39: =H57 -> -1.0173209 | AI39: =AE39+AG39 -> 1.3048564 | AJ39: =AF39+AH39 -> -1.6315192 | AK39: =AI39*Начало!$A$3/1000 -> 7.8291382 | AL39: =AJ39*Начало!$A$3/1000 -> -9.7891152 | AM39: =AN39/2 -> 191.81389 | AN39: =AK39*Начало!$H$5*1000 -> 383.62777 | AO39: =AD39+AM39 -> 410.14562 | AP39: =AD39+AN39 -> 601.9595 | AQ39: =G21 -> 0.62522783 | AR39: =H21 -> -1.4784197 | AS39: =G12 -> 2.1839347 | AT39: =H12 -> 0.74128767 | AU39: =AQ39+AS39 -> 2.8091625 | AV39: =AR39+AT39 -> -0.73713207 | AW39: =AU39*Начало!$A$3/1000 -> 16.854975 | AX39: =AV39*Начало!$A$3/1000 -> -4.4227924 | AY39: =AZ39/2 -> 412.94689 | AZ39: =AW39*Начало!$H$5*1000 -> 825.89377 | BA39: =AP39+AY39 -> 1014.9064 | BB39: =AP39+AZ39 -> 1427.8533
A40: 340 | B40: =Начало!O36 -> -1.3234795 | C40: =Начало!V36 -> -0.075892493 | D40: =Начало!Y36 -> 0.26 | E40: =Начало!X36 -> 0.91373586 | F40: =Начало!R36*Начало!$A$3/1000 -> 0.60265297 | G40: =B40*D40 -> -0.34410468 | H40: =B40*E40 -> -1.2093107 | I40: =B31*D31 -> 0.75026429 | J40: =B31*E31 -> -0.40715522 | K40: =G40+I40 -> 0.40615961 | L40: =H40+J40 -> -1.6164659 | M40: =K40*Начало!$A$3/1000 -> 2.4369577 | N40: =L40*Начало!$A$3/1000 -> -9.6987956 | O40: =P40/2 -> 59.705463 | P40: =M40*Начало!$H$5*1000 -> 119.41093 | Q40: =O40 -> 59.705463 | R40: =P40 -> 119.41093 | S40: =G49 -> -0.15212223 | T40: =H49 -> -0.020473404 | U40: =I13 -> 1.0078953 | V40: =J13 -> 3.5421158 | W40: =S40+U40 -> 0.85577309 | X40: =T40+V40 -> 3.5216424 | Y40: =W40*Начало!$A$3/1000 -> 5.1346385 | Z40: =X40*Начало!$A$3/1000 -> 21.129854 | AA40: =AB40/2 -> 125.79864 | AB40: =Y40*Начало!$H$5*1000 -> 251.59729 | AC40: =R40+AA40 -> 245.20957 | AD40: =R40+AB40 -> 371.00821 | AE40: =G67 -> 0.79066429 | AF40: =H67 -> -0.42907959 | AG40: =G58 -> 0.29412751 | AH40: =H58 -> -1.0924002 | AI40: =AE40+AG40 -> 1.0847918 | AJ40: =AF40+AH40 -> -1.5214798 | AK40: =AI40*Начало!$A$3/1000 -> 6.5087508 | AL40: =AJ40*Начало!$A$3/1000 -> -9.1288788 | AM40: =AN40/2 -> 159.4644 | AN40: =AK40*Начало!$H$5*1000 -> 318.92879 | AO40: =AD40+AM40 -> 530.47261 | AP40: =AD40+AN40 -> 689.93701 | AQ40: =G22 -> 0.41112751 | AR40: =H22 -> -1.5269424 | AS40: =G13 -> 1.8678778 | AT40: =H13 -> 0.25138873 | AU40: =AQ40+AS40 -> 2.2790053 | AV40: =AR40+AT40 -> -1.2755537 | AW40: =AU40*Начало!$A$3/1000 -> 13.674032 | AX40: =AV40*Начало!$A$3/1000 -> -7.6533222 | AY40: =AZ40/2 -> 335.01378 | AZ40: =AW40*Начало!$H$5*1000 -> 670.02755 | BA40: =AP40+AY40 -> 1024.9508 | BB40: =AP40+AZ40 -> 1359.9646
A41: 350 | B41: =Начало!O37 -> -1.4268607 | C41: =Начало!V37 -> -0.038241336 | D41: =Начало!Y37 -> 0.13 | E41: =Начало!X37 -> 0.97816721 | F41: =Начало!R37*Начало!$A$3/1000 -> 0.32739035 | G41: =B41*D41 -> -0.18549189 | H41: =B41*E41 -> -1.3957084 | I41: =B32*D32 -> 0.57872064 | J41: =B32*E32 -> -0.22896061 | K41: =G41+I41 -> 0.39322875 | L41: =H41+J41 -> -1.624669 | M41: =K41*Начало!$A$3/1000 -> 2.3593725 | N41: =L41*Начало!$A$3/1000 -> -9.7480138 | O41: =P41/2 -> 57.804626 | P41: =M41*Начало!$H$5*1000 -> 115.60925 | Q41: =O41 -> 57.804626 | R41: =P41 -> 115.60925 | S41: =G50 -> 0.11603082 | T41: =H50 -> -0.0063986038 | U41: =I14 -> 0.77650811 | V41: =J14 -> 5.842729 | W41: =S41+U41 -> 0.89253893 | X41: =T41+V41 -> 5.8363304 | Y41: =W41*Начало!$A$3/1000 -> 5.3552336 | Z41: =X41*Начало!$A$3/1000 -> 35.017983 | AA41: =AB41/2 -> 131.20322 | AB41: =Y41*Начало!$H$5*1000 -> 262.40645 | AC41: =R41+AA41 -> 246.81248 | AD41: =R41+AB41 -> 378.0157 | AE41: =G68 -> 0.62972064 | AF41: =H68 -> -0.24913786 | AG41: =G59 -> 0.14894514 | AH41: =H59 -> -1.1359338 | AI41: =AE41+AG41 -> 0.77866578 | AJ41: =AF41+AH41 -> -1.3850717 | AK41: =AI41*Начало!$A$3/1000 -> 4.6719947 | AL41: =AJ41*Начало!$A$3/1000 -> -8.3104302 | AM41: =AN41/2 -> 114.46387 | AN41: =AK41*Начало!$H$5*1000 -> 228.92774 | AO41: =AD41+AM41 -> 492.47957 | AP41: =AD41+AN41 -> 606.94344 | AQ41: =G23 -> 0.18794514 | AR41: =H23 -> -1.4333683 | AS41: =G14 -> 1.6460308 | AT41: =H14 -> -0.090771564 | AU41: =AQ41+AS41 -> 1.833976 | AV41: =AR41+AT41 -> -1.5241399 | AW41: =AU41*Начало!$A$3/1000 -> 11.003856 | AX41: =AV41*Начало!$A$3/1000 -> -9.1448394 | AY41: =AZ41/2 -> 269.59447 | AZ41: =AW41*Начало!$H$5*1000 -> 539.18893 | BA41: =AP41+AY41 -> 876.5379 | BB41: =AP41+AZ41 -> 1146.1324
A42: 360 | B42: =Начало!O38 -> -1.4621428 | C42: =Начало!V38 -> 0 | D42: =Начало!Y38 -> 0 | E42: =Начало!X38 -> 1 | F42: =Начало!R38*Начало!$A$3/1000 -> 0 | G42: =B42*D42 -> 0 | H42: =B42*E42 -> -1.4621428 | I42: =B33*D33 -> 0.35600333 | J42: =B33*E33 -> -0.083958827 | K42: =G42+I42 -> 0.35600333 | L42: =H42+J42 -> -1.5461016 | M42: =K42*Начало!$A$3/1000 -> 2.13602 | N42: =L42*Начало!$A$3/1000 -> -9.2766097 | O42: =P42/2 -> 52.33249 | P42: =M42*Начало!$H$5*1000 -> 104.66498 | Q42: =O42 -> 52.33249 | R42: =P42 -> 104.66498 | S42: =G51 -> 0.35600333 | T42: =H51 -> -0.083958827 | U42: =I15 -> 0 | V42: =J15 -> 12.337857 | W42: =S42+U42 -> 0.35600333 | X42: =T42+V42 -> 12.253898 | Y42: =W42*Начало!$A$3/1000 -> 2.13602 | Z42: =X42*Начало!$A$3/1000 -> 73.52339 | AA42: =AB42/2 -> 52.33249 | AB42: =Y42*Начало!$H$5*1000 -> 104.66498 | AC42: =R42+AA42 -> 156.99747 | AD42: =R42+AB42 -> 209.32996 | AE42: =G69 -> 0.55600333 | AF42: =H69 -> -0.13112627 | AG42: =G60 -> 0 | AH42: =H60 -> -1.1501361 | AI42: =AE42+AG42 -> 0.55600333 | AJ42: =AF42+AH42 -> -1.2812624 | AK42: =AI42*Начало!$A$3/1000 -> 3.33602 | AL42: =AJ42*Начало!$A$3/1000 -> -7.6875743 | AM42: =AN42/2 -> 81.73249 | AN42: =AK42*Начало!$H$5*1000 -> 163.46498 | AO42: =AD42+AM42 -> 291.06245 | AP42: =AD42+AN42 -> 372.79494 | AQ42: =G24 -> 0 | AR42: =H24 -> -1.1501361 | AS42: =G15 -> 1.5560033 | AT42: =H15 -> -0.36696346 | AU42: =AQ42+AS42 -> 1.5560033 | AV42: =AR42+AT42 -> -1.5170996 | AW42: =AU42*Начало!$A$3/1000 -> 9.33602 | AX42: =AV42*Начало!$A$3/1000 -> -9.1025975 | AY42: =AZ42/2 -> 228.73249 | AZ42: =AW42*Начало!$H$5*1000 -> 457.46498 | BA42: =AP42+AY42 -> 601.52743 | BB42: =AP42+AZ42 -> 830.25992
A43: 370 | B43: =Начало!O39 -> -1.4268607 | C43: =Начало!V39 -> 0.038241336 | D43: =Начало!Y39 -> 0.21 | E43: =Начало!X39 -> 0.97816721 | F43: =Начало!R39*Начало!$A$3/1000 -> -0.32739035 | G43: =B43*D43 -> -0.29964075 | H43: =B43*E43 -> -1.3957084 | I43: =B34*D34 -> 0.10693036 | J43: =B34*E34 -> -0.0063986038 | K43: =G43+I43 -> -0.19271038 | L43: =H43+J43 -> -1.402107 | M43: =K43*Начало!$A$3/1000 -> -1.1562623 | N43: =L43*Начало!$A$3/1000 -> -8.4126418 | O43: =P43/2 -> -28.328426 | P43: =M43*Начало!$H$5*1000 -> -56.656852 | Q43: =O43 -> -28.328426 | R43: =P43 -> -56.656852 | S43: =G52 -> 0.53333079 | T43: =H52 -> -0.22896061 | U43: =I16 -> 2.9973593 | V43: =J16 -> 13.961517 | W43: =S43+U43 -> 3.53069 | X43: =T43+V43 -> 13.732556 | Y43: =W43*Начало!$A$3/1000 -> 21.18414 | Z43: =X43*Начало!$A$3/1000 -> 82.395338 | AA43: =AB43/2 -> 519.01144 | AB43: =Y43*Начало!$H$5*1000 -> 1038.0229 | AC43: =R43+AA43 -> 462.35458 | AD43: =R43+AB43 -> 981.36602 | AE43: =G70 -> 0.38893036 | AF43: =H70 -> -0.023273196 | AG43: =G61 -> 0.24060368 | AH43: =H61 -> -1.1359338 | AI43: =AE43+AG43 -> 0.62953405 | AJ43: =AF43+AH43 -> -1.159207 | AK43: =AI43*Начало!$A$3/1000 -> 3.7772043 | AL43: =AJ43*Начало!$A$3/1000 -> -6.9552423 | AM43: =AN43/2 -> 92.541505 | AN43: =AK43*Начало!$H$5*1000 -> 185.08301 | AO43: =AD43+AM43 -> 1073.9075 | AP43: =AD43+AN43 -> 1166.449 | AQ43: =G25 -> 0.24060368 | AR43: =H25 -> -1.1359338 | AS43: =G16 -> 1.5203308 | AT43: =H16 -> -0.65268285 | AU43: =AQ43+AS43 -> 1.7609345 | AV43: =AR43+AT43 -> -1.7886167 | AW43: =AU43*Начало!$A$3/1000 -> 10.565607 | AX43: =AV43*Начало!$A$3/1000 -> -10.7317 | AY43: =AZ43/2 -> 258.85737 | AZ43: =AW43*Начало!$H$5*1000 -> 517.71473 | BA43: =AP43+AY43 -> 1425.3064 | BB43: =AP43+AZ43 -> 1684.1638
A44: 380 | B44: =Начало!O40 -> -1.3234795 | C44: =Начало!V40 -> 0.075892493 | D44: =Начало!Y40 -> 0.41 | E44: =Начало!X40 -> 0.91373586 | F44: =Начало!R40*Начало!$A$3/1000 -> -0.60265297 | G44: =B44*D44 -> -0.54262661 | H44: =B44*E44 -> -1.2093107 | I44: =B35*D35 -> -0.12952982 | J44: =B35*E35 -> -0.019903334 | K44: =G44+I44 -> -0.67215643 | L44: =H44+J44 -> -1.229214 | M44: =K44*Начало!$A$3/1000 -> -4.0329386 | N44: =L44*Начало!$A$3/1000 -> -7.3752843 | O44: =P44/2 -> -98.806995 | P44: =M44*Начало!$H$5*1000 -> -197.61399 | Q44: =O44 -> -98.806995 | R44: =P44 -> -197.61399 | S44: =G53 -> 0.6388389 | T44: =H53 -> -0.40996679 | U44: =I17 -> 5.5663734 | V44: =J17 -> 12.405354 | W44: =S44+U44 -> 6.2052123 | X44: =T44+V44 -> 11.995387 | Y44: =W44*Начало!$A$3/1000 -> 37.231274 | Z44: =X44*Начало!$A$3/1000 -> 71.972321 | AA44: =AB44/2 -> 912.16621 | AB44: =Y44*Начало!$H$5*1000 -> 1824.3324 | AC44: =R44+AA44 -> 714.55222 | AD44: =R44+AB44 -> 1626.7184 | AE44: =G71 -> 0.25747018 | AF44: =H71 -> 0.039562434 | AG44: =G62 -> 0.46381647 | AH44: =H62 -> -1.0924002 | AI44: =AE44+AG44 -> 0.72128664 | AJ44: =AF44+AH44 -> -1.0528378 | AK44: =AI44*Начало!$A$3/1000 -> 4.3277199 | AL44: =AJ44*Начало!$A$3/1000 -> -6.3170266 | AM44: =AN44/2 -> 106.02914 | AN44: =AK44*Начало!$H$5*1000 -> 212.05827 | AO44: =AD44+AM44 -> 1732.7476 | AP44: =AD44+AN44 -> 1838.7767 | AQ44: =G26 -> 0.46381647 | AR44: =H26 -> -1.0924002 | AS44: =G17 -> 1.3268389 | AT44: =H17 -> -0.8514821 | AU44: =AQ44+AS44 -> 1.7906554 | AV44: =AR44+AT44 -> -1.9438823 | AW44: =AU44*Начало!$A$3/1000 -> 10.743932 | AX44: =AV44*Начало!$A$3/1000 -> -11.663294 | AY44: =AZ44/2 -> 263.22634 | AZ44: =AW44*Начало!$H$5*1000 -> 526.45268 | BA44: =AP44+AY44 -> 2102.003 | BB44: =AP44+AZ44 -> 2365.2294
... A50: 440 | B50: =Начало!O46 -> 0.11375571 | C50: =Начало!V46 -> 0.23344335 | D50: =Начало!Y46 -> 1.02 | E50: =Начало!X46 -> -0.05624864 | F50: =Начало!R46*Начало!$A$3/1000 -> 0.15933308 | G50: =B50*D50 -> 0.11603082 | H50: =B50*E50 -> -0.0063986038 | I50: =B41*D41 -> -0.18549189 | J50: =B41*E41 -> -1.3957084 | K50: =G50+I50 -> -0.06946107 | L50: =H50+J50 -> -1.402107 | M50: =K50*Начало!$A$3/1000 -> -0.41676642 | N50: =L50*Начало!$A$3/1000 -> -8.4126418 | O50: =P50/2 -> -10.210777 | P50: =M50*Начало!$H$5*1000 -> -20.421555 | Q50: =O50 -> -10.210777 | R50: =P50 -> -20.421555 | S50: =G59 -> 0.14894514 | T50: =H59 -> -1.1359338 | U50: =I23 -> 1.6460308 | V50: =J23 -> -0.090771564 | W50: =S50+U50 -> 1.794976 | X50: =T50+V50 -> -1.2267054 | Y50: =W50*Начало!$A$3/1000 -> 10.769856 | Z50: =X50*Начало!$A$3/1000 -> -7.3602325 | AA50: =AB50/2 -> 263.86147 | AB50: =Y50*Начало!$H$5*1000 -> 527.72293 | AC50: =R50+AA50 -> 243.43991 | AD50: =R50+AB50 -> 507.30138 | AE50: =G77 -> 0.77650811 | AF50: =H77 -> 5.842729 | AG50: =G68 -> 0.62972064 | AH50: =H68 -> -0.24913786 | AI50: =AE50+AG50 -> 1.4062288 | AJ50: =AF50+AH50 -> 5.5935912 | AK50: =AI50*Начало!$A$3/1000 -> 8.4373725 | AL50: =AJ50*Начало!$A$3/1000 -> 33.561547 | AM50: =AN50/2 -> 206.71563 | AN50: =AK50*Начало!$H$5*1000 -> 413.43125 | AO50: =AD50+AM50 -> 714.017 | AP50: =AD50+AN50 -> 920.73263 | AQ50: =G32 -> 0.57872064 | AR50: =H32 -> -0.22896061 | AS50: =G23 -> 0.18794514 | AT50: =H23 -> -1.4333683 | AU50: =AQ50+AS50 -> 0.76666578 | AV50: =AR50+AT50 -> -1.6623289 | AW50: =AU50*Начало!$A$3/1000 -> 4.5999947 | AX50: =AV50*Начало!$A$3/1000 -> -9.9739737 | AY50: =AZ50/2 -> 112.69987 | AZ50: =AW50*Начало!$H$5*1000 -> 225.39974 | BA50: =AP50+AY50 -> 1033.4325 | BB50: =AP50+AZ50 -> 1146.1324
A51: 450 | B51: =Начало!O47 -> 0.35600333 | C51: =Начало!V47 -> 0.23583719 | D51: =Начало!Y47 -> 1 | E51: =Начало!X47 -> -0.23583719 | F51: =Начало!R47*Начало!$A$3/1000 -> 0.50375296 | G51: =B51*D51 -> 0.35600333 | H51: =B51*E51 -> -0.083958827 | I51: =B42*D42 -> 0 | J51: =B42*E42 -> -1.4621428 | K51: =G51+I51 -> 0.35600333 | L51: =H51+J51 -> -1.5461016 | M51: =K51*Начало!$A$3/1000 -> 2.13602 | N51: =L51*Начало!$A$3/1000 -> -9.2766097 | O51: =P51/2 -> 52.33249 | P51: =M51*Начало!$H$5*1000 -> 104.66498 | Q51: =O51 -> 52.33249 | R51: =P51 -> 104.66498 | S51: =G60 -> 0 | T51: =H60 -> -1.1501361 | U51: =I24 -> 1.5560033 | V51: =J24 -> -0.36696346 | W51: =S51+U51 -> 1.5560033 | X51: =T51+V51 -> -1.5170996 | Y51: =W51*Начало!$A$3/1000 -> 9.33602 | Z51: =X51*Начало!$A$3/1000 -> -9.1025975 | AA51: =AB51/2 -> 228.73249 | AB51: =Y51*Начало!$H$5*1000 -> 457.46498 | AC51: =R51+AA51 -> 333.39747 | AD51: =R51+AB51 -> 562.12996 | AE51: =G6 -> 0 | AF51: =H6 -> 12.337857 | AG51: =G69 -> 0.55600333 | AH51: =H69 -> -0.13112627 | AI51: =AE51+AG51 -> 0.55600333 | AJ51: =AF51+AH51 -> 12.206731 | AK51: =AI51*Начало!$A$3/1000 -> 3.33602 | AL51: =AJ51*Начало!$A$3/1000 -> 73.240386 | AM51: =AN51/2 -> 81.73249 | AN51: =AK51*Начало!$H$5*1000 -> 163.46498 | AO51: =AD51+AM51 -> 643.86245 | AP51: =AD51+AN51 -> 725.59494 | AQ51: =G33 -> 0.35600333 | AR51: =H33 -> -0.083958827 | AS51: =G24 -> 0 | AT51: =H24 -> -1.1501361 | AU51: =AQ51+AS51 -> 0.35600333 | AV51: =AR51+AT51 -> -1.2340949 | AW51: =AU51*Начало!$A$3/1000 -> 2.13602 | AX51: =AV51*Начало!$A$3/1000 -> -7.4045697 | AY51: =AZ51/2 -> 52.33249 | AZ51: =AW51*Начало!$H$5*1000 -> 104.66498 | BA51: =AP51+AY51 -> 777.92743 | BB51: =AP51+AZ51 -> 830.25992
A52: 460 | B52: =Начало!O48 -> 0.56737318 | C52: =Начало!V48 -> 0.23344335 | D52: =Начало!Y48 -> 0.94 | E52: =Начало!X48 -> -0.403545 | F52: =Начало!R48*Начало!$A$3/1000 -> 0.79469696 | G52: =B52*D52 -> 0.53333079 | H52: =B52*E52 -> -0.22896061 | I52: =B43*D43 -> -0.29964075 | J52: =B43*E43 -> -1.3957084 | K52: =G52+I52 -> 0.23369004 | L52: =H52+J52 -> -1.624669 | M52: =K52*Начало!$A$3/1000 -> 1.4021402 | N52: =L52*Начало!$A$3/1000 -> -9.7480138 | O52: =P52/2 -> 34.352436 | P52: =M52*Начало!$H$5*1000 -> 68.704872 | Q52: =O52 -> 34.352436 | R52: =P52 -> 68.704872 | S52: =G61 -> 0.24060368 | T52: =H61 -> -1.1359338 | U52: =I25 -> 1.5203308 | V52: =J25 -> -0.65268285 | W52: =S52+U52 -> 1.7609345 | X52: =T52+V52 -> -1.7886167 | Y52: =W52*Начало!$A$3/1000 -> 10.565607 | Z52: =X52*Начало!$A$3/1000 -> -10.7317 | AA52: =AB52/2 -> 258.85737 | AB52: =Y52*Начало!$H$5*1000 -> 517.71473 | AC52: =R52+AA52 -> 327.56224 | AD52: =R52+AB52 -> 586.41961 | AE52: =G7 -> 2.9973593 | AF52: =H7 -> 13.961517 | AG52: =G70 -> 0.38893036 | AH52: =H70 -> -0.023273196 | AI52: =AE52+AG52 -> 3.3862896 | AJ52: =AF52+AH52 -> 13.938244 | AK52: =AI52*Начало!$A$3/1000 -> 20.317738 | AL52: =AJ52*Начало!$A$3/1000 -> 83.629462 | AM52: =AN52/2 -> 497.78457 | AN52: =AK52*Начало!$H$5*1000 -> 995.56915 | AO52: =AD52+AM52 -> 1084.2042 | AP52: =AD52+AN52 -> 1581.9888 | AQ52: =G34 -> 0.10693036 | AR52: =H34 -> -0.0063986038 | AS52: =G25 -> 0.24060368 | AT52: =H25 -> -1.1359338 | AU52: =AQ52+AS52 -> 0.34753405 | AV52: =AR52+AT52 -> -1.1423325 | AW52: =AU52*Начало!$A$3/1000 -> 2.0852043 | AX52: =AV52*Начало!$A$3/1000 -> -6.8539947 | AY52: =AZ52/2 -> 51.087505 | AZ52: =AW52*Начало!$H$5*1000 -> 102.17501 | BA52: =AP52+AY52 -> 1633.0763 | BB52: =AP52+AZ52 -> 1684.1638
A53: 470 | B53: =Начало!O49 -> 0.74283593 | C53: =Начало!V49 -> 0.22334324 | D53: =Начало!Y49 -> 0.86 | E53: =Начало!X49 -> -0.55189413 | F53: =Начало!R49*Начало!$A$3/1000 -> 0.99544429 | G53: =B53*D53 -> 0.6388389 | H53: =B53*E53 -> -0.40996679 | I53: =B44*D44 -> -0.54262661 | J53: =B44*E44 -> -1.2093107 | K53: =G53+I53 -> 0.096212293 | L53: =H53+J53 -> -1.6192775 | M53: =K53*Начало!$A$3/1000 -> 0.57727376 | N53: =L53*Начало!$A$3/1000 -> -9.715665 | O53: =P53/2 -> 14.143207 | P53: =M53*Начало!$H$5*1000 -> 28.286414 | Q53: =O53 -> 14.143207 | R53: =P53 -> 28.286414 | S53: =G62 -> 0.46381647 | T53: =H62 -> -1.0924002 | U53: =I26 -> 1.3268389 | V53: =J26 -> -0.8514821 | W53: =S53+U53 -> 1.7906554 | X53: =T53+V53 -> -1.9438823 | Y53: =W53*Начало!$A$3/1000 -> 10.743932 | Z53: =X53*Начало!$A$3/1000 -> -11.663294 | AA53: =AB53/2 -> 263.22634 | AB53: =Y53*Начало!$H$5*1000 -> 526.45268 | AC53: =R53+AA53 -> 291.51275 | AD53: =R53+AB53 -> 554.73909 | AE53: =G8 -> 5.5663734 | AF53: =H8 -> 12.405354 | AG53: =G71 -> 0.25747018 | AH53: =H71 -> 0.039562434 | AI53: =AE53+AG53 -> 5.8238436 | AJ53: =AF53+AH53 -> 12.444916 | AK53: =AI53*Начало!$A$3/1000 -> 34.943061 | AL53: =AJ53*Начало!$A$3/1000 -> 74.669496 | AM53: =AN53/2 -> 856.105 | AN53: =AK53*Начало!$H$5*1000 -> 1712.21 | AO53: =AD53+AM53 -> 1410.8441 | AP53: =AD53+AN53 -> 2266.9491 | AQ53: =G35 -> -0.12952982 | AR53: =H35 -> -0.019903334 | AS53: =G26 -> 0.46381647 | AT53: =H26 -> -1.0924002 | AU53: =AQ53+AS53 -> 0.33428664 | AV53: =AR53+AT53 -> -1.1123035 | AW53: =AU53*Начало!$A$3/1000 -> 2.0057199 | AX53: =AV53*Начало!$A$3/1000 -> -6.6738212 | AY53: =AZ53/2 -> 49.140137 | AZ53: =AW53*Начало!$H$5*1000 -> 98.280273 | BA53: =AP53+AY53 -> 2316.0892 | BB53: =AP53+AZ53 -> 2365.2294
A54: 480 | B54: =Начало!O50 -> 0.88107139 | C54: =Начало!V50 -> 0.20109054 | D54: =Начало!Y50 -> 0.76 | E54: =Начало!X50 -> -0.67414952 | F54: =Начало!R50*Начало!$A$3/1000 -> 1.0630507 | G54: =B54*D54 -> 0.66961426 | H54: =B54*E54 -> -0.59397385 | I54: =B45*D45 -> -0.68389945 | J54: =B45*E45 -> -0.93874247 | K54: =G54+I54 -> -0.014285193 | L54: =H54+J54 -> -1.5327163 | M54: =K54*Начало!$A$3/1000 -> -0.085711158 | N54: =L54*Начало!$A$3/1000 -> -9.1962979 | O54: =P54/2 -> -2.0999234 | P54: =M54*Начало!$H$5*1000 -> -4.1998468 | Q54: =O54 -> -2.0999234 | R54: =P54 -> -4.1998468 | S54: =G63 -> 0.65085748 | T54: =H63 -> -1.0173209 | U54: =I27 -> 1.1636143 | V54: =J27 -> -1.032171 | W54: =S54+U54 -> 1.8144717 | X54: =T54+V54 -> -2.0494919 | Y54: =W54*Начало!$A$3/1000 -> 10.88683 | Z54: =X54*Начало!$A$3/1000 -> -12.296951 | AA54: =AB54/2 -> 266.72735 | AB54: =Y54*Начало!$H$5*1000 -> 533.45469 | AC54: =R54+AA54 -> 262.5275 | AD54: =R54+AB54 -> 529.25485 | AE54: =G9 -> 4.3311005 | AF54: =H9 -> 5.9450085 | AG54: =G72 -> 0.17094828 | AH54: =H72 -> 0.073294182 | AI54: =AE54+AG54 -> 4.5020488 | AJ54: =AF54+AH54 -> 6.0183027 | AK54: =AI54*Начало!$A$3/1000 -> 27.012293 | AL54: =AJ54*Начало!$A$3/1000 -> 36.109816 | AM54: =AN54/2 -> 661.80118 | AN54: =AK54*Начало!$H$5*1000 -> 1323.6024 | AO54: =AD54+AM54 -> 1191.056 | AP54: =AD54+AN54 -> 1852.8572 | AQ54: =G36 -> -0.32305172 | AR54: =H36 -> -0.13850863 | AS54: =G27 -> 0.65085748 | AT54: =H27 -> -1.0173209 | AU54: =AQ54+AS54 -> 0.32780576 | AV54: =AR54+AT54 -> -1.1558295 | AW54: =AU54*Начало!$A$3/1000 -> 1.9668346 | AX54: =AV54*Начало!$A$3/1000 -> -6.934977 | AY54: =AZ54/2 -> 48.187447 | AZ54: =AW54*Начало!$H$5*1000 -> 96.374893 | BA54: =AP54+AY54 -> 1901.0446 | BB54: =AP54+AZ54 -> 1949.2321
A55: 490 | B55: =Начало!O51 -> 0.98402477 | C55: =Начало!V51 -> 0.17920776 | D55: =Начало!Y51 -> 0.64 | E55: =Начало!X51 -> -0.78006872 | F55: =Начало!R51*Начало!$A$3/1000 -> 1.0580692 | G55: =B55*D55 -> 0.62977585 | H55: =B55*E55 -> -0.76760694 | I55: =B46*D46 -> -0.70876153 | J55: =B46*E46 -> -0.63465751 | K55: =G55+I55 -> -0.078985684 | L55: =H55+J55 -> -1.4022644 | M55: =K55*Начало!$A$3/1000 -> -0.4739141 | N55: =L55*Начало!$A$3/1000 -> -8.4135867 | O55: =P55/2 -> -11.610896 | P55: =M55*Начало!$H$5*1000 -> -23.221791 | Q55: =O55 -> -11.610896 | R55: =P55 -> -23.221791 | S55: =G64 -> 0.79957977 | T55: =H64 -> -0.91738939 | U55: =I28 -> 1.0137759 | V55: =J28 -> -1.2356482 | W55: =S55+U55 -> 1.8133556 | X55: =T55+V55 -> -2.1530376 | Y55: =W55*Начало!$A$3/1000 -> 10.880134 | Z55: =X55*Начало!$A$3/1000 -> -12.918225 | AA55: =AB55/2 -> 266.56328 | AB55: =Y55*Начало!$H$5*1000 -> 533.12655 | AC55: =R55+AA55 -> 243.34148 | AD55: =R55+AB55 -> 509.90476 | AE55: =G10 -> 3.4537385 | AF55: =H10 -> 3.0926354 | AG55: =G73 -> 0.19512592 | AH55: =H73 -> 0.15412097 | AI55: =AE55+AG55 -> 3.6488644 | AJ55: =AF55+AH55 -> 3.2467564 | AK55: =AI55*Начало!$A$3/1000 -> 21.893186 | AL55: =AJ55*Начало!$A$3/1000 -> 19.480539 | AM55: =AN55/2 -> 536.38307 | AN55: =AK55*Начало!$H$5*1000 -> 1072.7661 | AO55: =AD55+AM55 -> 1046.2878 | AP55: =AD55+AN55 -> 1582.6709 | AQ55: =G37 -> -0.44487408 | AR55: =H37 -> -0.35138553 | AS55: =G28 -> 0.79207977 | AT55: =H28 -> -0.90878435 | AU55: =AQ55+AS55 -> 0.34720569 | AV55: =AR55+AT55 -> -1.2601699 | AW55: =AU55*Начало!$A$3/1000 -> 2.0832341 | AX55: =AV55*Начало!$A$3/1000 -> -7.5610192 | AY55: =AZ55/2 -> 51.039237 | AZ55: =AW55*Начало!$H$5*1000 -> 102.07847 | BA55: =AP55+AY55 -> 1633.7101 | BB55: =AP55+AZ55 -> 1684.7494
A56: 500 | B56: =Начало!O52 -> 1.0561064 | C56: =Начало!V52 -> 0.14695387 | D56: =Начало!Y52 -> 0.52 | E56: =Начало!X52 -> -0.86050457 | F56: =Начало!R52*Начало!$A$3/1000 -> 0.9311935 | G56: =B56*D56 -> 0.5491753 | H56: =B56*E56 -> -0.90878435 | I56: =B47*D47 -> -0.57694607 | J56: =B47*E47 -> -0.35138553 | K56: =G56+I56 -> -0.027770762 | L56: =H56+J56 -> -1.2601699 | M56: =K56*Начало!$A$3/1000 -> -0.16662457 | N56: =L56*Начало!$A$3/1000 -> -7.5610192 | O56: =P56/2 -> -4.082302 | P56: =M56*Начало!$H$5*1000 -> -8.1646039 | Q56: =O56 -> -4.082302 | R56: =P56 -> -8.1646039 | S56: =G65 -> 0.83334056 | T56: =H65 -> -0.78320831 | U56: =I29 -> 0.8351753 | V56: =J29 -> -1.3820619 | W56: =S56+U56 -> 1.6685159 | X56: =T56+V56 -> -2.1652702 | Y56: =W56*Начало!$A$3/1000 -> 10.011095 | Z56: =X56*Начало!$A$3/1000 -> -12.991621 | AA56: =AB56/2 -> 245.27183 | AB56: =Y56*Начало!$H$5*1000 -> 490.54366 | AC56: =R56+AA56 -> 237.10723 | AD56: =R56+AB56 -> 482.37906 | AE56: =G11 -> 2.7430539 | AF56: =H11 -> 1.6706405 | AG56: =G74 -> 0.340592 | AH56: =H74 -> 0.4398774 | AI56: =AE56+AG56 -> 3.0836459 | AJ56: =AF56+AH56 -> 2.1105179 | AK56: =AI56*Начало!$A$3/1000 -> 18.501876 | AL56: =AJ56*Начало!$A$3/1000 -> 12.663107 | AM56: =AN56/2 -> 453.29595 | AN56: =AK56*Начало!$H$5*1000 -> 906.59191 | AO56: =AD56+AM56 -> 935.67501 | AP56: =AD56+AN56 -> 1388.971 | AQ56: =G38 -> -0.491408 | AR56: =H38 -> -0.63465751 | AS56: =G29 -> 0.81674056 | AT56: =H29 -> -0.76760694 | AU56: =AQ56+AS56 -> 0.32533256 | AV56: =AR56+AT56 -> -1.4022644 | AW56: =AU56*Начало!$A$3/1000 -> 1.9519954 | AX56: =AV56*Начало!$A$3/1000 -> -8.4135867 | AY56: =AZ56/2 -> 47.823886 | AZ56: =AW56*Начало!$H$5*1000 -> 95.647772 | BA56: =AP56+AY56 -> 1436.7949 | BB56: =AP56+AZ56 -> 1484.6187
A57: 510 | B57: =Начало!O53 -> 1.1031483 | C57: =Начало!V53 -> 0.1123447 | D57: =Начало!Y53 -> 0.39 | E57: =Начало!X53 -> -0.92219776 | F57: =Начало!R53*Начало!$A$3/1000 -> 0.7435972 | G57: =B57*D57 -> 0.43022783 | H57: =B57*E57 -> -1.0173209 | I57: =B48*D48 -> -0.40806534 | J57: =B48*E48 -> -0.13850863 | K57: =G57+I57 -> 0.022162492 | L57: =H57+J57 -> -1.1558295 | M57: =K57*Начало!$A$3/1000 -> 0.13297495 | N57: =L57*Начало!$A$3/1000 -> -6.934977 | O57: =P57/2 -> 3.2578863 | P57: =M57*Начало!$H$5*1000 -> 6.5157727 | Q57: =O57 -> 3.2578863 | R57: =P57 -> 6.5157727 | S57: =G66 -> 0.87462854 | T57: =H66 -> -0.61419834 | U57: =I30 -> 0.62522783 | V57: =J30 -> -1.4784197 | W57: =S57+U57 -> 1.4998564 | X57: =T57+V57 -> -2.0926181 | Y57: =W57*Начало!$A$3/1000 -> 8.9991382 | Z57: =X57*Начало!$A$3/1000 -> -12.555708 | AA57: =AB57/2 -> 220.47889 | AB57: =Y57*Начало!$H$5*1000 -> 440.95777 | AC57: =R57+AA57 -> 226.99466 | AD57: =R57+AB57 -> 447.47354 | AE57: =G12 -> 2.1839347 | AF57: =H12 -> 0.74128767 | AG57: =G75 -> 0.75693087 | AH57: =H75 -> 1.571802 | AI57: =AE57+AG57 -> 2.9408655 | AJ57: =AF57+AH57 -> 2.3130897 | AK57: =AI57*Начало!$A$3/1000 -> 17.645193 | AL57: =AJ57*Начало!$A$3/1000 -> 13.878538 | AM57: =AN57/2 -> 432.30723 | AN57: =AK57*Начало!$H$5*1000 -> 864.61447 | AO57: =AD57+AM57 -> 879.78078 | AP57: =AD57+AN57 -> 1312.088 | AQ57: =G39 -> -0.45206913 | AR57: =H39 -> -0.93874247 | AS57: =G30 -> 0.84582854 | AT57: =H30 -> -0.59397385 | AU57: =AQ57+AS57 -> 0.39375941 | AV57: =AR57+AT57 -> -1.5327163 | AW57: =AU57*Начало!$A$3/1000 -> 2.3625564 | AX57: =AV57*Начало!$A$3/1000 -> -9.1962979 | AY57: =AZ57/2 -> 57.882633 | AZ57: =AW57*Начало!$H$5*1000 -> 115.76527 | BA57: =AP57+AY57 -> 1369.9706 | BB57: =AP57+AZ57 -> 1427.8533
A58: 520 | B58: =Начало!O54 -> 1.1312597 | C58: =Начало!V54 -> 0.075892493 | D58: =Начало!Y54 -> 0.26 | E58: =Начало!X54 -> -0.96564938 | F58: =Начало!R54*Начало!$A$3/1000 -> 0.5151247 | G58: =B58*D58 -> 0.29412751 | H58: =B58*E58 -> -1.0924002 | I58: =B49*D49 -> -0.15212223 | J58: =B49*E49 -> -0.020473404 | K58: =G58+I58 -> 0.14200528 | L58: =H58+J58 -> -1.1128736 | M58: =K58*Начало!$A$3/1000 -> 0.85203169 | N58: =L58*Начало!$A$3/1000 -> -6.6772416 | O58: =P58/2 -> 20.874777 | P58: =M58*Начало!$H$5*1000 -> 41.749553 | Q58: =O58 -> 20.874777 | R58: =P58 -> 41.749553 | S58: =G67 -> 0.79066429 | T58: =H67 -> -0.42907959 | U58: =I31 -> 0.41112751 | V58: =J31 -> -1.5269424 | W58: =S58+U58 -> 1.2017918 | X58: =T58+V58 -> -1.956022 | Y58: =W58*Начало!$A$3/1000 -> 7.2107508 | Z58: =X58*Начало!$A$3/1000 -> -11.736132 | AA58: =AB58/2 -> 176.6634 | AB58: =Y58*Начало!$H$5*1000 -> 353.32679 | AC58: =R58+AA58 -> 218.41295 | AD58: =R58+AB58 -> 395.07634 | AE58: =G13 -> 1.8678778 | AF58: =H13 -> 0.25138873 | AG58: =G76 -> 1.0078953 | AH58: =H76 -> 3.5421158 | AI58: =AE58+AG58 -> 2.8757731 | AJ58: =AF58+AH58 -> 3.7935045 | AK58: =AI58*Начало!$A$3/1000 -> 17.254639 | AL58: =AJ58*Начало!$A$3/1000 -> 22.761027 | AM58: =AN58/2 -> 422.73864 | AN58: =AK58*Начало!$H$5*1000 -> 845.47729 | AO58: =AD58+AM58 -> 817.81499 | AP58: =AD58+AN58 -> 1240.5536 | AQ58: =G40 -> -0.34410468 | AR58: =H40 -> -1.2093107 | AS58: =G31 -> 0.75026429 | AT58: =H31 -> -0.40715522 | AU58: =AQ58+AS58 -> 0.40615961 | AV58: =AR58+AT58 -> -1.6164659 | AW58: =AU58*Начало!$A$3/1000 -> 2.4369577 | AX58: =AV58*Начало!$A$3/1000 -> -9.6987956 | AY58: =AZ58/2 -> 59.705463 | AZ58: =AW58*Начало!$H$5*1000 -> 119.41093 | BA58: =AP58+AY58 -> 1300.2591 | BB58: =AP58+AZ58 -> 1359.9646
A59: 530 | B59: =Начало!O55 -> 1.1457318 | C59: =Начало!V55 -> 0.038241336 | D59: =Начало!Y55 -> 0.13 | E59: =Начало!X55 -> -0.99144829 | F59: =Начало!R55*Начало!$A$3/1000 -> 0.26288589 | G59: =B59*D59 -> 0.14894514 | H59: =B59*E59 -> -1.1359338 | I59: =B50*D50 -> 0.11603082 | J59: =B50*E50 -> -0.0063986038 | K59: =G59+I59 -> 0.26497596 | L59: =H59+J59 -> -1.1423325 | M59: =K59*Начало!$A$3/1000 -> 1.5898557 | N59: =L59*Начало!$A$3/1000 -> -6.8539947 | O59: =P59/2 -> 38.951466 | P59: =M59*Начало!$H$5*1000 -> 77.902931 | Q59: =O59 -> 38.951466 | R59: =P59 -> 77.902931 | S59: =G68 -> 0.62972064 | T59: =H68 -> -0.24913786 | U59: =I32 -> 0.18794514 | V59: =J32 -> -1.4333683 | W59: =S59+U59 -> 0.81766578 | X59: =T59+V59 -> -1.6825062 | Y59: =W59*Начало!$A$3/1000 -> 4.9059947 | Z59: =X59*Начало!$A$3/1000 -> -10.095037 | AA59: =AB59/2 -> 120.19687 | AB59: =Y59*Начало!$H$5*1000 -> 240.39374 | AC59: =R59+AA59 -> 198.0998 | AD59: =R59+AB59 -> 318.29667 | AE59: =G14 -> 1.6460308 | AF59: =H14 -> -0.090771564 | AG59: =G77 -> 0.77650811 | AH59: =H77 -> 5.842729 | AI59: =AE59+AG59 -> 2.4225389 | AJ59: =AF59+AH59 -> 5.7519575 | AK59: =AI59*Начало!$A$3/1000 -> 14.535234 | AL59: =AJ59*Начало!$A$3/1000 -> 34.511745 | AM59: =AN59/2 -> 356.11322 | AN59: =AK59*Начало!$H$5*1000 -> 712.22645 | AO59: =AD59+AM59 -> 674.40989 | AP59: =AD59+AN59 -> 1030.5231 | AQ59: =G41 -> -0.18549189 | AR59: =H41 -> -1.3957084 | AS59: =G32 -> 0.57872064 | AT59: =H32 -> -0.22896061 | AU59: =AQ59+AS59 -> 0.39322875 | AV59: =AR59+AT59 -> -1.624669 | AW59: =AU59*Начало!$A$3/1000 -> 2.3593725 | AX59: =AV59*Начало!$A$3/1000 -> -9.7480138 | AY59: =AZ59/2 -> 57.804626 | AZ59: =AW59*Начало!$H$5*1000 -> 115.60925 | BA59: =AP59+AY59 -> 1088.3277 | BB59: =AP59+AZ59 -> 1146.1324
A60: 540 | B60: =Начало!O56 -> 1.1501361 | C60: =Начало!V56 -> 0 | D60: =Начало!Y56 -> 0 | E60: =Начало!X56 -> -1 | F60: =Начало!R56*Начало!$A$3/1000 -> 0 | G60: =B60*D60 -> 0 | H60: =B60*E60 -> -1.1501361 | I60: =B51*D51 -> 0.35600333 | J60: =B51*E51 -> -0.083958827 | K60: =G60+I60 -> 0.35600333 | L60: =H60+J60 -> -1.2340949 | M60: =K60*Начало!$A$3/1000 -> 2.13602 | N60: =L60*Начало!$A$3/1000 -> -7.4045697 | O60: =P60/2 -> 52.33249 | P60: =M60*Начало!$H$5*1000 -> 104.66498 | Q60: =O60 -> 52.33249 | R60: =P60 -> 104.66498 | S60: =G69 -> 0.55600333 | T60: =H69 -> -0.13112627 | U60: =I33 -> 0 | V60: =J33 -> -1.1501361 | W60: =S60+U60 -> 0.55600333 | X60: =T60+V60 -> -1.2812624 | Y60: =W60*Начало!$A$3/1000 -> 3.33602 | Z60: =X60*Начало!$A$3/1000 -> -7.6875743 | AA60: =AB60/2 -> 81.73249 | AB60: =Y60*Начало!$H$5*1000 -> 163.46498 | AC60: =R60+AA60 -> 186.39747 | AD60: =R60+AB60 -> 268.12996 | AE60: =G15 -> 1.5560033 | AF60: =H15 -> -0.36696346 | AG60: =G6 -> 0 | AH60: =H6 -> 12.337857 | AI60: =AE60+AG60 -> 1.5560033 | AJ60: =AF60+AH60 -> 11.970894 | AK60: =AI60*Начало!$A$3/1000 -> 9.33602 | AL60: =AJ60*Начало!$A$3/1000 -> 71.825363 | AM60: =AN60/2 -> 228.73249 | AN60: =AK60*Начало!$H$5*1000 -> 457.46498 | AO60: =AD60+AM60 -> 496.86245 | AP60: =AD60+AN60 -> 725.59494 | AQ60: =G42 -> 0 | AR60: =H42 -> -1.4621428 | AS60: =G33 -> 0.35600333 | AT60: =H33 -> -0.083958827 | AU60: =AQ60+AS60 -> 0.35600333 | AV60: =AR60+AT60 -> -1.5461016 | AW60: =AU60*Начало!$A$3/1000 -> 2.13602 | AX60: =AV60*Начало!$A$3/1000 -> -9.2766097 | AY60: =AZ60/2 -> 52.33249 | AZ60: =AW60*Начало!$H$5*1000 -> 104.66498 | BA60: =AP60+AY60 -> 777.92743 | BB60: =AP60+AZ60 -> 830.25992
A61: 550 | B61: =Начало!O57 -> 1.1457318 | C61: =Начало!V57 -> -0.038241336 | D61: =Начало!Y57 -> 0.21 | E61: =Начало!X57 -> -0.99144829 | F61: =Начало!R57*Начало!$A$3/1000 -> -0.26288589 | G61: =B61*D61 -> 0.24060368 | H61: =B61*E61 -> -1.1359338 | I61: =B52*D52 -> 0.53333079 | J61: =B52*E52 -> -0.22896061 | K61: =G61+I61 -> 0.77393447 | L61: =H61+J61 -> -1.3648945 | M61: =K61*Начало!$A$3/1000 -> 4.6436068 | N61: =L61*Начало!$A$3/1000 -> -8.1893667 | O61: =P61/2 -> 113.76837 | P61: =M61*Начало!$H$5*1000 -> 227.53673 | Q61: =O61 -> 113.76837 | R61: =P61 -> 227.53673 | S61: =G70 -> 0.38893036 | T61: =H70 -> -0.023273196 | U61: =I34 -> 0.24060368 | V61: =J34 -> -1.1359338 | W61: =S61+U61 -> 0.62953405 | X61: =T61+V61 -> -1.159207 | Y61: =W61*Начало!$A$3/1000 -> 3.7772043 | Z61: =X61*Начало!$A$3/1000 -> -6.9552423 | AA61: =AB61/2 -> 92.541505 | AB61: =Y61*Начало!$H$5*1000 -> 185.08301 | AC61: =R61+AA61 -> 320.07824 | AD61: =R61+AB61 -> 412.61974 | AE61: =G16 -> 1.5203308 | AF61: =H16 -> -0.65268285 | AG61: =G7 -> 2.9973593 | AH61: =H7 -> 13.961517 | AI61: =AE61+AG61 -> 4.51769 | AJ61: =AF61+AH61 -> 13.308834 | AK61: =AI61*Начало!$A$3/1000 -> 27.10614 | AL61: =AJ61*Начало!$A$3/1000 -> 79.853004 | AM61: =AN61/2 -> 664.10044 | AN61: =AK61*Начало!$H$5*1000 -> 1328.2009 | AO61: =AD61+AM61 -> 1076.7202 | AP61: =AD61+AN61 -> 1740.8206 | AQ61: =G43 -> -0.29964075 | AR61: =H43 -> -1.3957084 | AS61: =G34 -> 0.10693036 | AT61: =H34 -> -0.0063986038 | AU61: =AQ61+AS61 -> -0.19271038 | AV61: =AR61+AT61 -> -1.402107 | AW61: =AU61*Начало!$A$3/1000 -> -1.1562623 | AX61: =AV61*Начало!$A$3/1000 -> -8.4126418 | AY61: =AZ61/2 -> -28.328426 | AZ61: =AW61*Начало!$H$5*1000 -> -56.656852 | BA61: =AP61+AY61 -> 1712.4922 | BB61: =AP61+AZ61 -> 1684.1638
A62: 560 | B62: =Начало!O58 -> 1.1312597 | C62: =Начало!V58 -> -0.075892493 | D62: =Начало!Y58 -> 0.41 | E62: =Начало!X58 -> -0.96564938 | F62: =Начало!R58*Начало!$A$3/1000 -> -0.5151247 | G62: =B62*D62 -> 0.46381647 | H62: =B62*E62 -> -1.0924002 | I62: =B53*D53 -> 0.6388389 | J62: =B53*E53 -> -0.40996679 | K62: =G62+I62 -> 1.1026554 | L62: =H62+J62 -> -1.502367 | M62: =K62*Начало!$A$3/1000 -> 6.6159322 | N62: =L62*Начало!$A$3/1000 -> -9.014202 | O62: =P62/2 -> 162.09034 | P62: =M62*Начало!$H$5*1000 -> 324.18068 | Q62: =O62 -> 162.09034 | R62: =P62 -> 324.18068 | S62: =G71 -> 0.25747018 | T62: =H71 -> 0.039562434 | U62: =I35 -> 0.46381647 | V62: =J35 -> -1.0924002 | W62: =S62+U62 -> 0.72128664 | X62: =T62+V62 -> -1.0528378 | Y62: =W62*Начало!$A$3/1000 -> 4.3277199 | Z62: =X62*Начало!$A$3/1000 -> -6.3170266 | AA62: =AB62/2 -> 106.02914 | AB62: =Y62*Начало!$H$5*1000 -> 212.05827 | AC62: =R62+AA62 -> 430.20981 | AD62: =R62+AB62 -> 536.23895 | AE62: =G17 -> 1.3268389 | AF62: =H17 -> -0.8514821 | AG62: =G8 -> 5.5663734 | AH62: =H8 -> 12.405354 | AI62: =AE62+AG62 -> 6.8932123 | AJ62: =AF62+AH62 -> 11.553871 | AK62: =AI62*Начало!$A$3/1000 -> 41.359274 | AL62: =AJ62*Начало!$A$3/1000 -> 69.323229 | AM62: =AN62/2 -> 1013.3022 | AN62: =AK62*Начало!$H$5*1000 -> 2026.6044 | AO62: =AD62+AM62 -> 1549.5412 | AP62: =AD62+AN62 -> 2562.8434 | AQ62: =G44 -> -0.54262661 | AR62: =H44 -> -1.2093107 | AS62: =G35 -> -0.12952982 | AT62: =H35 -> -0.019903334 | AU62: =AQ62+AS62 -> -0.67215643 | AV62: =AR62+AT62 -> -1.229214 | AW62: =AU62*Начало!$A$3/1000 -> -4.0329386 | AX62: =AV62*Начало!$A$3/1000 -> -7.3752843 | AY62: =AZ62/2 -> -98.806995 | AZ62: =AW62*Начало!$H$5*1000 -> -197.61399 | BA62: =AP62+AY62 -> 2464.0364 | BB62: =AP62+AZ62 -> 2365.2294
A63: 570 | B63: =Начало!O59 -> 1.1031483 | C63: =Начало!V59 -> -0.1123447 | D63: =Начало!Y59 -> 0.59 | E63: =Начало!X59 -> -0.92219776 | F63: =Начало!R59*Начало!$A$3/1000 -> -0.7435972 | G63: =B63*D63 -> 0.65085748 | H63: =B63*E63 -> -1.0173209 | I63: =B54*D54 -> 0.66961426 | J63: =B54*E54 -> -0.59397385 | K63: =G63+I63 -> 1.3204717 | L63: =H63+J63 -> -1.6112947 | M63: =K63*Начало!$A$3/1000 -> 7.9228304 | N63: =L63*Начало!$A$3/1000 -> -9.6677683 | O63: =P63/2 -> 194.10935 | P63: =M63*Начало!$H$5*1000 -> 388.21869 | Q63: =O63 -> 194.10935 | R63: =P63 -> 388.21869 | S63: =G72 -> 0.17094828 | T63: =H72 -> 0.073294182 | U63: =I36 -> 0.65085748 | V63: =J36 -> -1.0173209 | W63: =S63+U63 -> 0.82180576 | X63: =T63+V63 -> -0.94402668 | Y63: =W63*Начало!$A$3/1000 -> 4.9308346 | Z63: =X63*Начало!$A$3/1000 -> -5.6641601 | AA63: =AB63/2 -> 120.80545 | AB63: =Y63*Начало!$H$5*1000 -> 241.61089 | AC63: =R63+AA63 -> 509.02414 | AD63: =R63+AB63 -> 629.82959 | AE63: =G18 -> 1.1636143 | AF63: =H18 -> -1.032171 | AG63: =G9 -> 4.3311005 | AH63: =H9 -> 5.9450085 | AI63: =AE63+AG63 -> 5.4947148 | AJ63: =AF63+AH63 -> 4.9128374 | AK63: =AI63*Начало!$A$3/1000 -> 32.968289 | AL63: =AJ63*Начало!$A$3/1000 -> 29.477025 | AM63: =AN63/2 -> 807.72308 | AN63: =AK63*Начало!$H$5*1000 -> 1615.4462 | AO63: =AD63+AM63 -> 1437.5527 | AP63: =AD63+AN63 -> 2245.2757 | AQ63: =G45 -> -0.68389945 | AR63: =H45 -> -0.93874247 | AS63: =G36 -> -0.32305172 | AT63: =H36 -> -0.13850863 | AU63: =AQ63+AS63 -> -1.0069512 | AV63: =AR63+AT63 -> -1.0772511 | AW63: =AU63*Начало!$A$3/1000 -> -6.041707 | AX63: =AV63*Начало!$A$3/1000 -> -6.4635066 | AY63: =AZ63/2 -> -148.02182 | AZ63: =AW63*Начало!$H$5*1000 -> -296.04365 | BA63: =AP63+AY63 -> 2097.2539 | BB63: =AP63+AZ63 -> 1949.2321
A64: 580 | B64: =Начало!O60 -> 1.0661064 | C64: =Начало!V60 -> -0.14695387 | D64: =Начало!Y60 -> 0.75 | E64: =Начало!X60 -> -0.86050457 | F64: =Начало!R60*Начало!$A$3/1000 -> -0.94001074 | G64: =B64*D64 -> 0.79957977 | H64: =B64*E64 -> -0.91738939 | I64: =B55*D55 -> 0.62977585 | J64: =B55*E55 -> -0.76760694 | K64: =G64+I64 -> 1.4293556 | L64: =H64+J64 -> -1.6849963 | M64: =K64*Начало!$A$3/1000 -> 8.5761337 | N64: =L64*Начало!$A$3/1000 -> -10.109978 | O64: =P64/2 -> 210.11528 | P64: =M64*Начало!$H$5*1000 -> 420.23055 | Q64: =O64 -> 210.11528 | R64: =P64 -> 420.23055 | S64: =G73 -> 0.19512592 | T64: =H73 -> 0.15412097 | U64: =I37 -> 0.79207977 | V64: =J37 -> -0.90878435 | W64: =S64+U64 -> 0.98720569 | X64: =T64+V64 -> -0.75466337 | Y64: =W64*Начало!$A$3/1000 -> 5.9232341 | Z64: =X64*Начало!$A$3/1000 -> -4.5279802 | AA64: =AB64/2 -> 145.11924 | AB64: =Y64*Начало!$H$5*1000 -> 290.23847 | AC64: =R64+AA64 -> 565.34979 | AD64: =R64+AB64 -> 710.46902 | AE64: =G19 -> 1.0137759 | AF64: =H19 -> -1.2356482 | AG64: =G10 -> 3.4537385 | AH64: =H10 -> 3.0926354 | AI64: =AE64+AG64 -> 4.4675143 | AJ64: =AF64+AH64 -> 1.8569873 | AK64: =AI64*Начало!$A$3/1000 -> 26.805086 | AL64: =AJ64*Начало!$A$3/1000 -> 11.141924 | AM64: =AN64/2 -> 656.7246 | AN64: =AK64*Начало!$H$5*1000 -> 1313.4492 | AO64: =AD64+AM64 -> 1367.1936 | AP64: =AD64+AN64 -> 2023.9182 | AQ64: =G46 -> -0.70876153 | AR64: =H46 -> -0.63465751 | AS64: =G37 -> -0.44487408 | AT64: =H37 -> -0.35138553 | AU64: =AQ64+AS64 -> -1.1536356 | AV64: =AR64+AT64 -> -0.98604304 | AW64: =AU64*Начало!$A$3/1000 -> -6.9218137 | AX64: =AV64*Начало!$A$3/1000 -> -5.9162582 | AY64: =AZ64/2 -> -169.58443 | AZ64: =AW64*Начало!$H$5*1000 -> -339.16887 | BA64: =AP64+AY64 -> 1854.3338 | BB64: =AP64+AZ64 -> 1684.7494
A65: 590 | B65: =Начало!O61 -> 1.0040248 | C65: =Начало!V61 -> -0.17920776 | D65: =Начало!Y61 -> 0.83 | E65: =Начало!X61 -> -0.78006872 | F65: =Начало!R61*Начало!$A$3/1000 -> -1.0795742 | G65: =B65*D65 -> 0.83334056 | H65: =B65*E65 -> -0.78320831 | I65: =B56*D56 -> 0.5491753 | J65: =B56*E56 -> -0.90878435 | K65: =G65+I65 -> 1.3825159 | L65: =H65+J65 -> -1.6919927 | M65: =K65*Начало!$A$3/1000 -> 8.2950952 | N65: =L65*Начало!$A$3/1000 -> -10.151956 | O65: =P65/2 -> 203.22983 | P65: =M65*Начало!$H$5*1000 -> 406.45966 | Q65: =O65 -> 203.22983 | R65: =P65 -> 406.45966 | S65: =G74 -> 0.340592 | T65: =H74 -> 0.4398774 | U65: =I38 -> 0.81674056 | V65: =J38 -> -0.76760694 | W65: =S65+U65 -> 1.1573326 | X65: =T65+V65 -> -0.32772954 | Y65: =W65*Начало!$A$3/1000 -> 6.9439954 | Z65: =X65*Начало!$A$3/1000 -> -1.9663772 | AA65: =AB65/2 -> 170.12789 | AB65: =Y65*Начало!$H$5*1000 -> 340.25577 | AC65: =R65+AA65 -> 576.58755 | AD65: =R65+AB65 -> 746.71544 | AE65: =G20 -> 0.8351753 | AF65: =H20 -> -1.3820619 | AG65: =G11 -> 2.7430539 | AH65: =H11 -> 1.6706405 | AI65: =AE65+AG65 -> 3.5782292 | AJ65: =AF65+AH65 -> 0.28857863 | AK65: =AI65*Начало!$A$3/1000 -> 21.469375 | AL65: =AJ65*Начало!$A$3/1000 -> 1.7314718 | AM65: =AN65/2 -> 525.9997 | AN65: =AK65*Начало!$H$5*1000 -> 1051.9994 | AO65: =AD65+AM65 -> 1272.7151 | AP65: =AD65+AN65 -> 1798.7148 | AQ65: =G47 -> -0.57694607 | AR65: =H47 -> -0.35138553 | AS65: =G38 -> -0.491408 | AT65: =H38 -> -0.63465751 | AU65: =AQ65+AS65 -> -1.0683541 | AV65: =AR65+AT65 -> -0.98604304 | AW65: =AU65*Начало!$A$3/1000 -> -6.4101244 | AX65: =AV65*Начало!$A$3/1000 -> -5.9162582 | AY65: =AZ65/2 -> -157.04805 | AZ65: =AW65*Начало!$H$5*1000 -> -314.09609 | BA65: =AP65+AY65 -> 1641.6668 | BB65: =AP65+AZ65 -> 1484.6187
A66: 600 | B66: =Начало!O62 -> 0.91107139 | C66: =Начало!V62 -> -0.20109054 | D66: =Начало!Y62 -> 0.96 | E66: =Начало!X62 -> -0.67414952 | F66: =Начало!R62*Начало!$A$3/1000 -> -1.099247 | G66: =B66*D66 -> 0.87462854 | H66: =B66*E66 -> -0.61419834 | I66: =B57*D57 -> 0.43022783 | J66: =B57*E57 -> -1.0173209 | K66: =G66+I66 -> 1.3048564 | L66: =H66+J66 -> -1.6315192 | M66: =K66*Начало!$A$3/1000 -> 7.8291382 | N66: =L66*Начало!$A$3/1000 -> -9.7891152 | O66: =P66/2 -> 191.81389 | P66: =M66*Начало!$H$5*1000 -> 383.62777 | Q66: =O66 -> 191.81389 | R66: =P66 -> 383.62777 | S66: =G75 -> 0.75693087 | T66: =H75 -> 1.571802 | U66: =I39 -> 0.84582854 | V66: =J39 -> -0.59397385 | W66: =S66+U66 -> 1.6027594 | X66: =T66+V66 -> 0.97782814 | Y66: =W66*Начало!$A$3/1000 -> 9.6165564 | Z66: =X66*Начало!$A$3/1000 -> 5.8669688 | AA66: =AB66/2 -> 235.60563 | AB66: =Y66*Начало!$H$5*1000 -> 471.21127 | AC66: =R66+AA66 -> 619.2334 | AD66: =R66+AB66 -> 854.83904 | AE66: =G21 -> 0.62522783 | AF66: =H21 -> -1.4784197 | AG66: =G12 -> 2.1839347 | AH66: =H12 -> 0.74128767 | AI66: =AE66+AG66 -> 2.8091625 | AJ66: =AF66+AH66 -> -0.73713207 | AK66: =AI66*Начало!$A$3/1000 -> 16.854975 | AL66: =AJ66*Начало!$A$3/1000 -> -4.4227924 | AM66: =AN66/2 -> 412.94689 | AN66: =AK66*Начало!$H$5*1000 -> 825.89377 | AO66: =AD66+AM66 -> 1267.7859 | AP66: =AD66+AN66 -> 1680.7328 | AQ66: =G48 -> -0.40806534 | AR66: =H48 -> -0.13850863 | AS66: =G39 -> -0.45206913 | AT66: =H39 -> -0.93874247 | AU66: =AQ66+AS66 -> -0.86013446 | AV66: =AR66+AT66 -> -1.0772511 | AW66: =AU66*Начало!$A$3/1000 -> -5.1608068 | AX66: =AV66*Начало!$A$3/1000 -> -6.4635066 | AY66: =AZ66/2 -> -126.43977 | AZ66: =AW66*Начало!$H$5*1000 -> -252.87953 | BA66: =AP66+AY66 -> 1554.293 | BB66: =AP66+AZ66 -> 1427.8533
A67: 610 | B67: =Начало!O63 -> 0.78283593 | C67: =Начало!V63 -> -0.21931541 | D67: =Начало!Y63 -> 1.01 | E67: =Начало!X63 -> -0.54810922 | F67: =Начало!R63*Начало!$A$3/1000 -> -1.0301279 | G67: =B67*D67 -> 0.79066429 | H67: =B67*E67 -> -0.42907959 | I67: =B58*D58 -> 0.29412751 | J67: =B58*E58 -> -1.0924002 | K67: =G67+I67 -> 1.0847918 | L67: =H67+J67 -> -1.5214798 | M67: =K67*Начало!$A$3/1000 -> 6.5087508 | N67: =L67*Начало!$A$3/1000 -> -9.1288788 | O67: =P67/2 -> 159.4644 | P67: =M67*Начало!$H$5*1000 -> 318.92879 | Q67: =O67 -> 159.4644 | R67: =P67 -> 318.92879 | S67: =G76 -> 1.0078953 | T67: =H76 -> 3.5421158 | U67: =I40 -> 0.75026429 | V67: =J40 -> -0.40715522 | W67: =S67+U67 -> 1.7581596 | X67: =T67+V67 -> 3.1349605 | Y67: =W67*Начало!$A$3/1000 -> 10.548958 | Z67: =X67*Начало!$A$3/1000 -> 18.809763 | AA67: =AB67/2 -> 258.44946 | AB67: =Y67*Начало!$H$5*1000 -> 516.89893 | AC67: =R67+AA67 -> 577.37825 | AD67: =R67+AB67 -> 835.82772 | AE67: =G22 -> 0.41112751 | AF67: =H22 -> -1.5269424 | AG67: =G13 -> 1.8678778 | AH67: =H13 -> 0.25138873 | AI67: =AE67+AG67 -> 2.2790053 | AJ67: =AF67+AH67 -> -1.2755537 | AK67: =AI67*Начало!$A$3/1000 -> 13.674032 | AL67: =AJ67*Начало!$A$3/1000 -> -7.6533222 | AM67: =AN67/2 -> 335.01378 | AN67: =AK67*Начало!$H$5*1000 -> 670.02755 | AO67: =AD67+AM67 -> 1170.8415 | AP67: =AD67+AN67 -> 1505.8553 | AQ67: =G49 -> -0.15212223 | AR67: =H49 -> -0.020473404 | AS67: =G40 -> -0.34410468 | AT67: =H40 -> -1.2093107 | AU67: =AQ67+AS67 -> -0.49622691 | AV67: =AR67+AT67 -> -1.2297841 | AW67: =AU67*Начало!$A$3/1000 -> -2.9773615 | AX67: =AV67*Начало!$A$3/1000 -> -7.3787047 | AY67: =AZ67/2 -> -72.945356 | AZ67: =AW67*Начало!$H$5*1000 -> -145.89071 | BA67: =AP67+AY67 -> 1432.9099 | BB67: =AP67+AZ67 -> 1359.9646
A68: 620 | B68: =Начало!O64 -> 0.61737318 | C68: =Начало!V64 -> -0.23344335 | D68: =Начало!Y64 -> 1.02 | E68: =Начало!X64 -> -0.403545 | F68: =Начало!R64*Начало!$A$3/1000 -> -0.86472996 | G68: =B68*D68 -> 0.62972064 | H68: =B68*E68 -> -0.24913786 | I68: =B59*D59 -> 0.14894514 | J68: =B59*E59 -> -1.1359338 | K68: =G68+I68 -> 0.77866578 | L68: =H68+J68 -> -1.3850717 | M68: =K68*Начало!$A$3/1000 -> 4.6719947 | N68: =L68*Начало!$A$3/1000 -> -8.3104302 | O68: =P68/2 -> 114.46387 | P68: =M68*Начало!$H$5*1000 -> 228.92774 | Q68: =O68 -> 114.46387 | R68: =P68 -> 228.92774 | S68: =G77 -> 0.77650811 | T68: =H77 -> 5.842729 | U68: =I41 -> 0.57872064 | V68: =J41 -> -0.22896061 | W68: =S68+U68 -> 1.3552288 | X68: =T68+V68 -> 5.6137684 | Y68: =W68*Начало!$A$3/1000 -> 8.1313725 | Z68: =X68*Начало!$A$3/1000 -> 33.682611 | AA68: =AB68/2 -> 199.21863 | AB68: =Y68*Начало!$H$5*1000 -> 398.43725 | AC68: =R68+AA68 -> 428.14636 | AD68: =R68+AB68 -> 627.36499 | AE68: =G23 -> 0.18794514 | AF68: =H23 -> -1.4333683 | AG68: =G14 -> 1.6460308 | AH68: =H14 -> -0.090771564 | AI68: =AE68+AG68 -> 1.833976 | AJ68: =AF68+AH68 -> -1.5241399 | AK68: =AI68*Начало!$A$3/1000 -> 11.003856 | AL68: =AJ68*Начало!$A$3/1000 -> -9.1448394 | AM68: =AN68/2 -> 269.59447 | AN68: =AK68*Начало!$H$5*1000 -> 539.18893 | AO68: =AD68+AM68 -> 896.95946 | AP68: =AD68+AN68 -> 1166.5539 | AQ68: =G50 -> 0.11603082 | AR68: =H50 -> -0.0063986038 | AS68: =G41 -> -0.18549189 | AT68: =H41 -> -1.3957084 | AU68: =AQ68+AS68 -> -0.06946107 | AV68: =AR68+AT68 -> -1.402107 | AW68: =AU68*Начало!$A$3/1000 -> -0.41676642 | AX68: =AV68*Начало!$A$3/1000 -> -8.4126418 | AY68: =AZ68/2 -> -10.210777 | AZ68: =AW68*Начало!$H$5*1000 -> -20.421555 | BA68: =AP68+AY68 -> 1156.3431 | BB68: =AP68+AZ68 -> 1146.1324
A69: 630 | B69: =Начало!O65 -> 0.55600333 | C69: =Начало!V65 -> -0.23583719 | D69: =Начало!Y65 -> 1 | E69: =Начало!X65 -> -0.23583719 | F69: =Начало!R65*Начало!$A$3/1000 -> -0.78675759 | G69: =B69*D69 -> 0.55600333 | H69: =B69*E69 -> -0.13112627 | I69: =B60*D60 -> 0 | J69: =B60*E60 -> -1.1501361 | K69: =G69+I69 -> 0.55600333 | L69: =H69+J69 -> -1.2812624 | M69: =K69*Начало!$A$3/1000 -> 3.33602 | N69: =L69*Начало!$A$3/1000 -> -7.6875743 | O69: =P69/2 -> 81.73249 | P69: =M69*Начало!$H$5*1000 -> 163.46498 | Q69: =O69 -> 81.73249 | R69: =P69 -> 163.46498 | S69: =G6 -> 0 | T69: =H6 -> 12.337857 | U69: =I42 -> 0.35600333 | V69: =J42 -> -0.083958827 | W69: =S69+U69 -> 0.35600333 | X69: =T69+V69 -> 12.253898 | Y69: =W69*Начало!$A$3/1000 -> 2.13602 | Z69: =X69*Начало!$A$3/1000 -> 73.52339 | AA69: =AB69/2 -> 52.33249 | AB69: =Y69*Начало!$H$5*1000 -> 104.66498 | AC69: =R69+AA69 -> 215.79747 | AD69: =R69+AB69 -> 268.12996 | AE69: =G24 -> 0 | AF69: =H24 -> -1.1501361 | AG69: =G15 -> 1.5560033 | AH69: =H15 -> -0.36696346 | AI69: =AE69+AG69 -> 1.5560033 | AJ69: =AF69+AH69 -> -1.5170996 | AK69: =AI69*Начало!$A$3/1000 -> 9.33602 | AL69: =AJ69*Начало!$A$3/1000 -> -9.1025975 | AM69: =AN69/2 -> 228.73249 | AN69: =AK69*Начало!$H$5*1000 -> 457.46498 | AO69: =AD69+AM69 -> 496.86245 | AP69: =AD69+AN69 -> 725.59494 | AQ69: =G51 -> 0.35600333 | AR69: =H51 -> -0.083958827 | AS69: =G42 -> 0 | AT69: =H42 -> -1.4621428 | AU69: =AQ69+AS69 -> 0.35600333 | AV69: =AR69+AT69 -> -1.5461016 | AW69: =AU69*Начало!$A$3/1000 -> 2.13602 | AX69: =AV69*Начало!$A$3/1000 -> -9.2766097 | AY69: =AZ69/2 -> 52.33249 | AZ69: =AW69*Начало!$H$5*1000 -> 104.66498 | BA69: =AP69+AY69 -> 777.92743 | BB69: =AP69+AZ69 -> 830.25992
A70: 640 | B70: =Начало!O66 -> 0.41375571 | C70: =Начало!V66 -> -0.23344335 | D70: =Начало!Y66 -> 0.94 | E70: =Начало!X66 -> -0.05624864 | F70: =Начало!R66*Начало!$A$3/1000 -> -0.5795311 | G70: =B70*D70 -> 0.38893036 | H70: =B70*E70 -> -0.023273196 | I70: =B61*D61 -> 0.24060368 | J70: =B61*E61 -> -1.1359338 | K70: =G70+I70 -> 0.62953405 | L70: =H70+J70 -> -1.159207 | M70: =K70*Начало!$A$3/1000 -> 3.7772043 | N70: =L70*Начало!$A$3/1000 -> -6.9552423 | O70: =P70/2 -> 92.541505 | P70: =M70*Начало!$H$5*1000 -> 185.08301 | Q70: =O70 -> 92.541505 | R70: =P70 -> 185.08301 | S70: =G7 -> 2.9973593 | T70: =H7 -> 13.961517 | U70: =I43 -> 0.10693036 | V70: =J43 -> -0.0063986038 | W70: =S70+U70 -> 3.1042896 | X70: =T70+V70 -> 13.955118 | Y70: =W70*Начало!$A$3/1000 -> 18.625738 | Z70: =X70*Начало!$A$3/1000 -> 83.73071 | AA70: =AB70/2 -> 456.33057 | AB70: =Y70*Начало!$H$5*1000 -> 912.66115 | AC70: =R70+AA70 -> 641.41358 | AD70: =R70+AB70 -> 1097.7442 | AE70: =G25 -> 0.24060368 | AF70: =H25 -> -1.1359338 | AG70: =G16 -> 1.5203308 | AH70: =H16 -> -0.65268285 | AI70: =AE70+AG70 -> 1.7609345 | AJ70: =AF70+AH70 -> -1.7886167 | AK70: =AI70*Начало!$A$3/1000 -> 10.565607 | AL70: =AJ70*Начало!$A$3/1000 -> -10.7317 | AM70: =AN70/2 -> 258.85737 | AN70: =AK70*Начало!$H$5*1000 -> 517.71473 | AO70: =AD70+AM70 -> 1356.6015 | AP70: =AD70+AN70 -> 1615.4589 | AQ70: =G52 -> 0.53333079 | AR70: =H52 -> -0.22896061 | AS70: =G43 -> -0.29964075 | AT70: =H43 -> -1.3957084 | AU70: =AQ70+AS70 -> 0.23369004 | AV70: =AR70+AT70 -> -1.624669 | AW70: =AU70*Начало!$A$3/1000 -> 1.4021402 | AX70: =AV70*Начало!$A$3/1000 -> -9.7480138 | AY70: =AZ70/2 -> 34.352436 | AZ70: =AW70*Начало!$H$5*1000 -> 68.704872 | BA70: =AP70+AY70 -> 1649.8113 | BB70: =AP70+AZ70 -> 1684.1638
A71: 650 | B71: =Начало!O67 -> 0.29938393 | C71: =Начало!V67 -> -0.22334324 | D71: =Начало!Y67 -> 0.86 | E71: =Начало!X67 -> 0.13214615 | F71: =Начало!R67*Начало!$A$3/1000 -> -0.40119225 | G71: =B71*D71 -> 0.25747018 | H71: =B71*E71 -> 0.039562434 | I71: =B62*D62 -> 0.46381647 | J71: =B62*E62 -> -1.0924002 | K71: =G71+I71 -> 0.72128664 | L71: =H71+J71 -> -1.0528378 | M71: =K71*Начало!$A$3/1000 -> 4.3277199 | N71: =L71*Начало!$A$3/1000 -> -6.3170266 | O71: =P71/2 -> 106.02914 | P71: =M71*Начало!$H$5*1000 -> 212.05827 | Q71: =O71 -> 106.02914 | R71: =P71 -> 212.05827 | S71: =G8 -> 5.5663734 | T71: =H8 -> 12.405354 | U71: =I44 -> -0.12952982 | V71: =J44 -> -0.019903334 | W71: =S71+U71 -> 5.4368436 | X71: =T71+V71 -> 12.38545 | Y71: =W71*Начало!$A$3/1000 -> 32.621061 | Z71: =X71*Начало!$A$3/1000 -> 74.312702 | AA71: =AB71/2 -> 799.216 | AB71: =Y71*Начало!$H$5*1000 -> 1598.432 | AC71: =R71+AA71 -> 1011.2743 | AD71: =R71+AB71 -> 1810.4903 | AE71: =G26 -> 0.46381647 | AF71: =H26 -> -1.0924002 | AG71: =G17 -> 1.3268389 | AH71: =H17 -> -0.8514821 | AI71: =AE71+AG71 -> 1.7906554 | AJ71: =AF71+AH71 -> -1.9438823 | AK71: =AI71*Начало!$A$3/1000 -> 10.743932 | AL71: =AJ71*Начало!$A$3/1000 -> -11.663294 | AM71: =AN71/2 -> 263.22634 | AN71: =AK71*Начало!$H$5*1000 -> 526.45268 | AO71: =AD71+AM71 -> 2073.7166 | AP71: =AD71+AN71 -> 2336.943 | AQ71: =G53 -> 0.6388389 | AR71: =H53 -> -0.40996679 | AS71: =G44 -> -0.54262661 | AT71: =H44 -> -1.2093107 | AU71: =AQ71+AS71 -> 0.096212293 | AV71: =AR71+AT71 -> -1.6192775 | AW71: =AU71*Начало!$A$3/1000 -> 0.57727376 | AX71: =AV71*Начало!$A$3/1000 -> -9.715665 | AY71: =AZ71/2 -> 14.143207 | AZ71: =AW71*Начало!$H$5*1000 -> 28.286414 | BA71: =AP71+AY71 -> 2351.0862 | BB71: =AP71+AZ71 -> 2365.2294
A72: 660 | B72: =Начало!O68 -> 0.22493194 | C72: =Начало!V68 -> -0.20109054 | D72: =Начало!Y68 -> 0.76 | E72: =Начало!X68 -> 0.32585048 | F72: =Начало!R68*Начало!$A$3/1000 -> -0.27139011 | G72: =B72*D72 -> 0.17094828 | H72: =B72*E72 -> 0.073294182 | I72: =B63*D63 -> 0.65085748 | J72: =B63*E63 -> -1.0173209 | K72: =G72+I72 -> 0.82180576 | L72: =H72+J72 -> -0.94402668 | M72: =K72*Начало!$A$3/1000 -> 4.9308346 | N72: =L72*Начало!$A$3/1000 -> -5.6641601 | O72: =P72/2 -> 120.80545 | P72: =M72*Начало!$H$5*1000 -> 241.61089 | Q72: =O72 -> 120.80545 | R72: =P72 -> 241.61089 | S72: =G9 -> 4.3311005 | T72: =H9 -> 5.9450085 | U72: =I45 -> -0.32305172 | V72: =J45 -> -0.13850863 | W72: =S72+U72 -> 4.0080488 | X72: =T72+V72 -> 5.8064998 | Y72: =W72*Начало!$A$3/1000 -> 24.048293 | Z72: =X72*Начало!$A$3/1000 -> 34.838999 | AA72: =AB72/2 -> 589.18318 | AB72: =Y72*Начало!$H$5*1000 -> 1178.3664 | AC72: =R72+AA72 -> 830.79407 | AD72: =R72+AB72 -> 1419.9772 | AE72: =G27 -> 0.65085748 | AF72: =H27 -> -1.0173209 | AG72: =G18 -> 1.1636143 | AH72: =H18 -> -1.032171 | AI72: =AE72+AG72 -> 1.8144717 | AJ72: =AF72+AH72 -> -2.0494919 | AK72: =AI72*Начало!$A$3/1000 -> 10.88683 | AL72: =AJ72*Начало!$A$3/1000 -> -12.296951 | AM72: =AN72/2 -> 266.72735 | AN72: =AK72*Начало!$H$5*1000 -> 533.45469 | AO72: =AD72+AM72 -> 1686.7046 | AP72: =AD72+AN72 -> 1953.4319 | AQ72: =G54 -> 0.66961426 | AR72: =H54 -> -0.59397385 | AS72: =G45 -> -0.68389945 | AT72: =H45 -> -0.93874247 | AU72: =AQ72+AS72 -> -0.014285193 | AV72: =AR72+AT72 -> -1.5327163 | AW72: =AU72*Начало!$A$3/1000 -> -0.085711158 | AX72: =AV72*Начало!$A$3/1000 -> -9.1962979 | AY72: =AZ72/2 -> -2.0999234 | AZ72: =AW72*Начало!$H$5*1000 -> -4.1998468 | BA72: =AP72+AY72 -> 1951.332 | BB72: =AP72+AZ72 -> 1949.2321
A73: 670 | B73: =Начало!O69 -> 0.30488426 | C73: =Начало!V69 -> -0.17920776 | D73: =Начало!Y69 -> 0.64 | E73: =Начало!X69 -> 0.5055065 | F73: =Начало!R69*Начало!$A$3/1000 -> -0.32782574 | G73: =B73*D73 -> 0.19512592 | H73: =B73*E73 -> 0.15412097 | I73: =B64*D64 -> 0.79957977 | J73: =B64*E64 -> -0.91738939 | K73: =G73+I73 -> 0.99470569 | L73: =H73+J73 -> -0.76326842 | M73: =K73*Начало!$A$3/1000 -> 5.9682341 | N73: =L73*Начало!$A$3/1000 -> -4.5796105 | O73: =P73/2 -> 146.22174 | P73: =M73*Начало!$H$5*1000 -> 292.44347 | Q73: =O73 -> 146.22174 | R73: =P73 -> 292.44347 | S73: =G10 -> 3.4537385 | T73: =H10 -> 3.0926354 | U73: =I46 -> -0.44487408 | V73: =J46 -> -0.35138553 | W73: =S73+U73 -> 3.0088644 | X73: =T73+V73 -> 2.7412499 | Y73: =W73*Начало!$A$3/1000 -> 18.053186 | Z73: =X73*Начало!$A$3/1000 -> 16.447499 | AA73: =AB73/2 -> 442.30307 | AB73: =Y73*Начало!$H$5*1000 -> 884.60613 | AC73: =R73+AA73 -> 734.74654 | AD73: =R73+AB73 -> 1177.0496 | AE73: =G28 -> 0.79207977 | AF73: =H28 -> -0.90878435 | AG73: =G19 -> 1.0137759 | AH73: =H19 -> -1.2356482 | AI73: =AE73+AG73 -> 1.8058556 | AJ73: =AF73+AH73 -> -2.1444325 | AK73: =AI73*Начало!$A$3/1000 -> 10.835134 | AL73: =AJ73*Начало!$A$3/1000 -> -12.866595 | AM73: =AN73/2 -> 265.46078 | AN73: =AK73*Начало!$H$5*1000 -> 530.92155 | AO73: =AD73+AM73 -> 1442.5104 | AP73: =AD73+AN73 -> 1707.9712 | AQ73: =G55 -> 0.62977585 | AR73: =H55 -> -0.76760694 | AS73: =G46 -> -0.70876153 | AT73: =H46 -> -0.63465751 | AU73: =AQ73+AS73 -> -0.078985684 | AV73: =AR73+AT73 -> -1.4022644 | AW73: =AU73*Начало!$A$3/1000 -> -0.4739141 | AX73: =AV73*Начало!$A$3/1000 -> -8.4135867 | AY73: =AZ73/2 -> -11.610896 | AZ73: =AW73*Начало!$H$5*1000 -> -23.221791 | BA73: =AP73+AY73 -> 1696.3603 | BB73: =AP73+AZ73 -> 1684.7494
A74: 680 | B74: =Начало!O70 -> 0.65498462 | C74: =Начало!V70 -> -0.14695387 | D74: =Начало!Y70 -> 0.52 | E74: =Начало!X70 -> 0.67158432 | F74: =Начало!R70*Начало!$A$3/1000 -> -0.57751515 | G74: =B74*D74 -> 0.340592 | H74: =B74*E74 -> 0.4398774 | I74: =B65*D65 -> 0.83334056 | J74: =B65*E65 -> -0.78320831 | K74: =G74+I74 -> 1.1739326 | L74: =H74+J74 -> -0.34333091 | M74: =K74*Начало!$A$3/1000 -> 7.0435954 | N74: =L74*Начало!$A$3/1000 -> -2.0599855 | O74: =P74/2 -> 172.56809 | P74: =M74*Начало!$H$5*1000 -> 345.13617 | Q74: =O74 -> 172.56809 | R74: =P74 -> 345.13617 | S74: =G11 -> 2.7430539 | T74: =H11 -> 1.6706405 | U74: =I47 -> -0.491408 | V74: =J47 -> -0.63465751 | W74: =S74+U74 -> 2.2516459 | X74: =T74+V74 -> 1.035983 | Y74: =W74*Начало!$A$3/1000 -> 13.509876 | Z74: =X74*Начало!$A$3/1000 -> 6.2158979 | AA74: =AB74/2 -> 330.99195 | AB74: =Y74*Начало!$H$5*1000 -> 661.98391 | AC74: =R74+AA74 -> 676.12813 | AD74: =R74+AB74 -> 1007.1201 | AE74: =G29 -> 0.81674056 | AF74: =H29 -> -0.76760694 | AG74: =G20 -> 0.8351753 | AH74: =H20 -> -1.3820619 | AI74: =AE74+AG74 -> 1.6519159 | AJ74: =AF74+AH74 -> -2.1496688 | AK74: =AI74*Начало!$A$3/1000 -> 9.9114952 | AL74: =AJ74*Начало!$A$3/1000 -> -12.898013 | AM74: =AN74/2 -> 242.83163 | AN74: =AK74*Начало!$H$5*1000 -> 485.66326 | AO74: =AD74+AM74 -> 1249.9517 | AP74: =AD74+AN74 -> 1492.7833 | AQ74: =G56 -> 0.5491753 | AR74: =H56 -> -0.90878435 | AS74: =G47 -> -0.57694607 | AT74: =H47 -> -0.35138553 | AU74: =AQ74+AS74 -> -0.027770762 | AV74: =AR74+AT74 -> -1.2601699 | AW74: =AU74*Начало!$A$3/1000 -> -0.16662457 | AX74: =AV74*Начало!$A$3/1000 -> -7.5610192 | AY74: =AZ74/2 -> -4.082302 | AZ74: =AW74*Начало!$H$5*1000 -> -8.1646039 | BA74: =AP74+AY74 -> 1488.701 | BB74: =AP74+AZ74 -> 1484.6187
A75: 690 | B75: =Начало!O71 -> 1.9408484 | C75: =Начало!V71 -> -0.1123447 | D75: =Начало!Y71 -> 0.39 | E75: =Начало!X71 -> 0.80985305 | F75: =Начало!R71*Начало!$A$3/1000 -> -1.3082642 | G75: =B75*D75 -> 0.75693087 | H75: =B75*E75 -> 1.571802 | I75: =B66*D66 -> 0.87462854 | J75: =B66*E66 -> -0.61419834 | K75: =G75+I75 -> 1.6315594 | L75: =H75+J75 -> 0.95760365 | M75: =K75*Начало!$A$3/1000 -> 9.7893564 | N75: =L75*Начало!$A$3/1000 -> 5.7456219 | O75: =P75/2 -> 239.83923 | P75: =M75*Начало!$H$5*1000 -> 479.67847 | Q75: =O75 -> 239.83923 | R75: =P75 -> 479.67847 | S75: =G12 -> 2.1839347 | T75: =H12 -> 0.74128767 | U75: =I48 -> -0.45206913 | V75: =J48 -> -0.93874247 | W75: =S75+U75 -> 1.7318655 | X75: =T75+V75 -> -0.1974548 | Y75: =W75*Начало!$A$3/1000 -> 10.391193 | Z75: =X75*Начало!$A$3/1000 -> -1.1847288 | AA75: =AB75/2 -> 254.58423 | AB75: =Y75*Начало!$H$5*1000 -> 509.16847 | AC75: =R75+AA75 -> 734.2627 | AD75: =R75+AB75 -> 988.84693 | AE75: =G30 -> 0.84582854 | AF75: =H30 -> -0.59397385 | AG75: =G21 -> 0.62522783 | AH75: =H21 -> -1.4784197 | AI75: =AE75+AG75 -> 1.4710564 | AJ75: =AF75+AH75 -> -2.0723936 | AK75: =AI75*Начало!$A$3/1000 -> 8.8263382 | AL75: =AJ75*Начало!$A$3/1000 -> -12.434362 | AM75: =AN75/2 -> 216.24529 | AN75: =AK75*Начало!$H$5*1000 -> 432.49057 | AO75: =AD75+AM75 -> 1205.0922 | AP75: =AD75+AN75 -> 1421.3375 | AQ75: =G57 -> 0.43022783 | AR75: =H57 -> -1.0173209 | AS75: =G48 -> -0.40806534 | AT75: =H48 -> -0.13850863 | AU75: =AQ75+AS75 -> 0.022162492 | AV75: =AR75+AT75 -> -1.1558295 | AW75: =AU75*Начало!$A$3/1000 -> 0.13297495 | AX75: =AV75*Начало!$A$3/1000 -> -6.934977 | AY75: =AZ75/2 -> 3.2578863 | AZ75: =AW75*Начало!$H$5*1000 -> 6.5157727 | BA75: =AP75+AY75 -> 1424.5954 | BB75: =AP75+AZ75 -> 1427.8533
A76: 700 | B76: =Начало!O72 -> 3.8765205 | C76: =Начало!V72 -> -0.075892493 | D76: =Начало!Y72 -> 0.26 | E76: =Начало!X72 -> 0.91373586 | F76: =Начало!R72*Начало!$A$3/1000 -> -1.7651928 | G76: =B76*D76 -> 1.0078953 | H76: =B76*E76 -> 3.5421158 | I76: =B67*D67 -> 0.79066429 | J76: =B67*E67 -> -0.42907959 | K76: =G76+I76 -> 1.7985596 | L76: =H76+J76 -> 3.1130362 | M76: =K76*Начало!$A$3/1000 -> 10.791358 | N76: =L76*Начало!$A$3/1000 -> 18.678217 | O76: =P76/2 -> 264.38826 | P76: =M76*Начало!$H$5*1000 -> 528.77653 | Q76: =O76 -> 264.38826 | R76: =P76 -> 528.77653 | S76: =G13 -> 1.8678778 | T76: =H13 -> 0.25138873 | U76: =I49 -> -0.34410468 | V76: =J49 -> -1.2093107 | W76: =S76+U76 -> 1.5237731 | X76: =T76+V76 -> -0.95792198 | Y76: =W76*Начало!$A$3/1000 -> 9.1426385 | Z76: =X76*Начало!$A$3/1000 -> -5.7475319 | AA76: =AB76/2 -> 223.99464 | AB76: =Y76*Начало!$H$5*1000 -> 447.98929 | AC76: =R76+AA76 -> 752.77117 | AD76: =R76+AB76 -> 976.76581 | AE76: =G31 -> 0.75026429 | AF76: =H31 -> -0.40715522 | AG76: =G22 -> 0.41112751 | AH76: =H22 -> -1.5269424 | AI76: =AE76+AG76 -> 1.1613918 | AJ76: =AF76+AH76 -> -1.9340976 | AK76: =AI76*Начало!$A$3/1000 -> 6.9683508 | AL76: =AJ76*Начало!$A$3/1000 -> -11.604586 | AM76: =AN76/2 -> 170.7246 | AN76: =AK76*Начало!$H$5*1000 -> 341.44919 | AO76: =AD76+AM76 -> 1147.4904 | AP76: =AD76+AN76 -> 1318.215 | AQ76: =G58 -> 0.29412751 | AR76: =H58 -> -1.0924002 | AS76: =G49 -> -0.15212223 | AT76: =H49 -> -0.020473404 | AU76: =AQ76+AS76 -> 0.14200528 | AV76: =AR76+AT76 -> -1.1128736 | AW76: =AU76*Начало!$A$3/1000 -> 0.85203169 | AX76: =AV76*Начало!$A$3/1000 -> -6.6772416 | AY76: =AZ76/2 -> 20.874777 | AZ76: =AW76*Начало!$H$5*1000 -> 41.749553 | BA76: =AP76+AY76 -> 1339.0898 | BB76: =AP76+AZ76 -> 1359.9646
A77: 710 | B77: =Начало!O73 -> 5.9731393 | C77: =Начало!V73 -> -0.038241336 | D77: =Начало!Y73 -> 0.13 | E77: =Начало!X73 -> 0.97816721 | F77: =Начало!R73*Начало!$A$3/1000 -> -1.3705249 | G77: =B77*D77 -> 0.77650811 | H77: =B77*E77 -> 5.842729 | I77: =B68*D68 -> 0.62972064 | J77: =B68*E68 -> -0.24913786 | K77: =G77+I77 -> 1.4062288 | L77: =H77+J77 -> 5.5935912 | M77: =K77*Начало!$A$3/1000 -> 8.4373725 | N77: =L77*Начало!$A$3/1000 -> 33.561547 | O77: =P77/2 -> 206.71563 | P77: =M77*Начало!$H$5*1000 -> 413.43125 | Q77: =O77 -> 206.71563 | R77: =P77 -> 413.43125 | S77: =G14 -> 1.6460308 | T77: =H14 -> -0.090771564 | U77: =I50 -> -0.18549189 | V77: =J50 -> -1.3957084 | W77: =S77+U77 -> 1.4605389 | X77: =T77+V77 -> -1.4864799 | Y77: =W77*Начало!$A$3/1000 -> 8.7632336 | Z77: =X77*Начало!$A$3/1000 -> -8.9188795 | AA77: =AB77/2 -> 214.69922 | AB77: =Y77*Начало!$H$5*1000 -> 429.39845 | AC77: =R77+AA77 -> 628.13048 | AD77: =R77+AB77 -> 842.8297 | AE77: =G32 -> 0.57872064 | AF77: =H32 -> -0.22896061 | AG77: =G23 -> 0.18794514 | AH77: =H23 -> -1.4333683 | AI77: =AE77+AG77 -> 0.76666578 | AJ77: =AF77+AH77 -> -1.6623289 | AK77: =AI77*Начало!$A$3/1000 -> 4.5999947 | AL77: =AJ77*Начало!$A$3/1000 -> -9.9739737 | AM77: =AN77/2 -> 112.69987 | AN77: =AK77*Начало!$H$5*1000 -> 225.39974 | AO77: =AD77+AM77 -> 955.52957 | AP77: =AD77+AN77 -> 1068.2294 | AQ77: =G59 -> 0.14894514 | AR77: =H59 -> -1.1359338 | AS77: =G50 -> 0.11603082 | AT77: =H50 -> -0.0063986038 | AU77: =AQ77+AS77 -> 0.26497596 | AV77: =AR77+AT77 -> -1.1423325 | AW77: =AU77*Начало!$A$3/1000 -> 1.5898557 | AX77: =AV77*Начало!$A$3/1000 -> -6.8539947 | AY77: =AZ77/2 -> 38.951466 | AZ77: =AW77*Начало!$H$5*1000 -> 77.902931 | BA77: =AP77+AY77 -> 1107.1809 | BB77: =AP77+AZ77 -> 1146.1324
A78: 720 | B78: =B6 -> 12.337857 | C78: =C6 -> 0 | D78: =D6 -> 0 | E78: =E6 -> 1 | F78: =F6 -> 0 | G78: =G6 -> 0 | H78: =H6 -> 12.337857 | I78: =I6 -> 0.55600333 | ... BB78: =BB6 -> 830.25992

Sheet Конец
A1: Шатунная шейка | G1: Шатунный подшипник | P1: Коленчатый вал | AB1: Коренной пошипник
A2: 1 | B2: 2 | C2: 3 | D2: 4 | E2: 5 | F2: 6 | G2: 7 | H2: 8 | I2: 9 | K2: 1 | L2: 2 | M2: 3 | N2: 4 | P2: 1 | Q2: 2 | R2: 3 | S2: 4 | T2: 5 | U2: 6 | V2: 7 | W2: 8 | X2: 9 | Y2: 10 | Z2: 11 | AA2: 12 | AB2: 13 | AC2: 14
A3: α | B3: β | C3: α + β | D3: -t | E3: -z | F3: -z + смещ. | G3: tшп | H3: zшп | I3: Rш | K3: Rш ср | L3: Rш max | M3: kш ср | N3: kш max | P3: α | Q3: Кривошип 2 | S3: Кривошип 3 | U3: 0,5T2 | V3: -0,5T3 | W3: ∑T | X3: 0,5Z2 | Y3: -0,5Z3 | Z3: ∑Z | AA3: Rк | AB3: Tкп | AC3: Zкп
A4: град | D4: МПа | K4: Мпа | Q4: T2 | R4: Z2 | S4: T3 | T4: Z3
A5: ='Главная динамическая таблица'!A6 -> 0 | B5: =Начало!J2 -> 0 | C5: =A5+B5 -> 0 | D5: =-'Главная динамическая таблица'!G6 -> 0 | E5: =-'Главная динамическая таблица'!H6 -> -12.337857 | F5: =E5+(Начало!$F$3*Начало!$H$5*Начало!$H$6^2)/1000000 -> -11.462757 | G5: =D5*COS(Начало!P2+Начало!Q2)-(Конец!F5)*SIN(Начало!P2+Начало!Q2) -> 0 | H5: =D5*SIN(Начало!P2+Начало!Q2)+(Конец!F5)*COS(Начало!P2+Начало!Q2) -> -11.462757 | I5: =SQRT(G5^2+H5^2) -> 11.462757 | K5: =AVERAGE(I5:I53) -> 2.5945201 | L5: =MAX(I5:I53) -> 13.425292 | M5: =K5*#REF!/(#REF!*#REF!) -> #REF! | N5: =L5*#REF!/(#REF!*#REF!) -> #REF! | P5: =A5 -> 0 | Q5: ='Главная динамическая таблица'!Y6 -> 9.33602 | R5: ='Главная динамическая таблица'!Z6 -> -10.974637 | S5: ='Главная динамическая таблица'!AK24 -> 2.13602 | T5: ='Главная динамическая таблица'!AL24 -> -9.2766097 | U5: =Q5/2 -> 4.66801 | V5: =-S5/2 -> -1.06801 | W5: =U5+V5 -> 3.6 | X5: =R5/2 -> -5.4873187 | Y5: =-T5/2 -> 4.6383048 | Z5: =X5+Y5 -> -0.8490139 | AA5: =SQRT(W5^2+Z5^2) -> 3.6987599 | AB5: =W5*COS(Начало!P2)-Z5*SIN(Начало!P2) -> 3.6 | AC5: =W5*SIN(Начало!P2)+Z5*COS(Начало!P2) -> -0.8490139
A6: ='Главная динамическая таблица'!A7 -> 10 | B6: =Начало!J3 -> 2.19 | C6: =A6+B6 -> 12.19 | D6: =-'Главная динамическая таблица'!G7 -> -2.9973593 | E6: =-'Главная динамическая таблица'!H7 -> -13.961517 | F6: =E6+(Начало!$F$3*Начало!$H$5*Начало!$H$6^2)/1000000 -> -13.086417 | G6: =D6*COS(Начало!P3+Начало!Q3)-(Конец!F6)*SIN(Начало!P3+Начало!Q3) -> -0.16652525 | H6: =D6*SIN(Начало!P3+Начало!Q3)+(Конец!F6)*COS(Начало!P3+Начало!Q3) -> -13.424259 | I6: =SQRT(G6^2+H6^2) -> 13.425292 | P6: =A6 -> 10 | Q6: ='Главная динамическая таблица'!Y7 -> 7.3241402 | R6: ='Главная динамическая таблица'!Z7 -> -12.290347 | S6: ='Главная динамическая таблица'!AK25 -> 1.4021402 | T6: ='Главная динамическая таблица'!AL25 -> -9.7480138 | U6: =Q6/2 -> 3.6620701 | V6: =-S6/2 -> -0.70107012 | W6: =U6+V6 -> 2.961 | X6: =R6/2 -> -6.1451736 | Y6: =-T6/2 -> 4.8740069 | Z6: =X6+Y6 -> -1.2711667 | AA6: =SQRT(W6^2+Z6^2) -> 3.2223262 | AB6: =W6*COS(Начало!P3)-Z6*SIN(Начало!P3) -> 3.1367515 | AC6: =W6*SIN(Начало!P3)+Z6*COS(Начало!P3) -> -0.7376826
A7: ='Главная динамическая таблица'!A8 -> 20 | B7: =Начало!J4 -> 4.34 | C7: =A7+B7 -> 24.34 | D7: =-'Главная динамическая таблица'!G8 -> -5.5663734 | E7: =-'Главная динамическая таблица'!H8 -> -12.405354 | F7: =E7+(Начало!$F$3*Начало!$H$5*Начало!$H$6^2)/1000000 -> -11.530253 | G7: =D7*COS(Начало!P4+Начало!Q4)-(Конец!F7)*SIN(Начало!P4+Начало!Q4) -> -0.31941049 | H7: =D7*SIN(Начало!P4+Начало!Q4)+(Конец!F7)*COS(Начало!P4+Начало!Q4) -> -12.799579 | I7: =SQRT(G7^2+H7^2) -> 12.803564 | P7: =A7 -> 20 | Q7: ='Главная динамическая таблица'!Y8 -> 4.7052738 | R7: ='Главная динамическая таблица'!Z8 -> -12.364757 | S7: ='Главная динамическая таблица'!AK26 -> 0.57727376 | T7: ='Главная динамическая таблица'!AL26 -> -9.715665 | U7: =Q7/2 -> 2.3526369 | V7: =-S7/2 -> -0.28863688 | W7: =U7+V7 -> 2.064 | X7: =R7/2 -> -6.1823784 | Y7: =-T7/2 -> 4.8578325 | Z7: =X7+Y7 -> -1.3245459 | AA7: =SQRT(W7^2+Z7^2) -> 2.4524514 | AB7: =W7*COS(Начало!P4)-Z7*SIN(Начало!P4) -> 2.392547 | AC7: =W7*SIN(Начало!P4)+Z7*COS(Начало!P4) -> -0.53873645
A8: ='Главная динамическая таблица'!A9 -> 30 | B8: =Начало!J5 -> 6.41 | C8: =A8+B8 -> 36.41 | D8: =-'Главная динамическая таблица'!G9 -> -4.3311005 | E8: =-'Главная динамическая таблица'!H9 -> -5.9450085 | F8: =E8+(Начало!$F$3*Начало!$H$5*Начало!$H$6^2)/1000000 -> -5.0699081 | G8: =D8*COS(Начало!P5+Начало!Q5)-(Конец!F8)*SIN(Начало!P5+Начало!Q5) -> -0.47633596 | H8: =D8*SIN(Начало!P5+Начало!Q5)+(Конец!F8)*COS(Начало!P5+Начало!Q5) -> -6.6509777 | I8: =SQRT(G8^2+H8^2) -> 6.6680132 | P8: =A8 -> 30 | Q8: ='Главная динамическая таблица'!Y9 -> 2.8782888 | R8: ='Главная динамическая таблица'!Z9 -> -11.825481 | S8: ='Главная динамическая таблица'!AK27 -> -0.085711158 | T8: ='Главная динамическая таблица'!AL27 -> -9.1962979 | U8: =Q8/2 -> 1.4391444 | V8: =-S8/2 -> 0.042855579 | W8: =U8+V8 -> 1.482 | X8: =R8/2 -> -5.9127405 | Y8: =-T8/2 -> 4.598149 | Z8: =X8+Y8 -> -1.3145916 | AA8: =SQRT(W8^2+Z8^2) -> 1.9810288 | AB8: =W8*COS(Начало!P5)-Z8*SIN(Начало!P5) -> 1.9407454 | AC8: =W8*SIN(Начало!P5)+Z8*COS(Начало!P5) -> -0.39746968
A9: ='Главная динамическая таблица'!A10 -> 40 | B9: =Начало!J6 -> 8.36 | C9: =A9+B9 -> 48.36 | D9: =-'Главная динамическая таблица'!G10 -> -3.4537385 | E9: =-'Главная динамическая таблица'!H10 -> -3.0926354 | F9: =E9+(Начало!$F$3*Начало!$H$5*Начало!$H$6^2)/1000000 -> -2.217535 | G9: =D9*COS(Начало!P6+Начало!Q6)-(Конец!F9)*SIN(Начало!P6+Начало!Q6) -> -0.63758979 | H9: =D9*SIN(Начало!P6+Начало!Q6)+(Конец!F9)*COS(Начало!P6+Начало!Q6) -> -4.0545345 | I9: =SQRT(G9^2+H9^2) -> 4.10436 | P9: =A9 -> 40 | Q9: ='Главная динамическая таблица'!Y10 -> 1.8300859 | R9: ='Главная динамическая таблица'!Z10 -> -11.221834 | S9: ='Главная динамическая таблица'!AK28 -> -0.4739141 | T9: ='Главная динамическая таблица'!AL28 -> -8.4135867 | U9: =Q9/2 -> 0.91504295 | V9: =-S9/2 -> 0.23695705 | W9: =U9+V9 -> 1.152 | X9: =R9/2 -> -5.610917 | Y9: =-T9/2 -> 4.2067933 | Z9: =X9+Y9 -> -1.4041237 | AA9: =SQRT(W9^2+Z9^2) -> 1.8162234 | AB9: =W9*COS(Начало!P6)-Z9*SIN(Начало!P6) -> 1.7850365 | AC9: =W9*SIN(Начало!P6)+Z9*COS(Начало!P6) -> -0.33512982
A10: ='Главная динамическая таблица'!A11 -> 50 | B10: =Начало!J7 -> 10.16 | C10: =A10+B10 -> 60.16 | D10: =-'Главная динамическая таблица'!G11 -> -2.7430539 | E10: =-'Главная динамическая таблица'!H11 -> -1.6706405 | F10: =E10+(Начало!$F$3*Начало!$H$5*Начало!$H$6^2)/1000000 -> -0.79554008 | G10: =D10*COS(Начало!P7+Начало!Q7)-(Конец!F10)*SIN(Начало!P7+Начало!Q7) -> -0.67482182 | H10: =D10*SIN(Начало!P7+Начало!Q7)+(Конец!F10)*COS(Начало!P7+Начало!Q7) -> -2.7752197 | I10: =SQRT(G10^2+H10^2) -> 2.8560863 | P10: =A10 -> 50 | Q10: ='Главная динамическая таблица'!Y11 -> 1.5493754 | R10: ='Главная динамическая таблица'!Z11 -> -10.400684 | S10: ='Главная динамическая таблица'!AK29 -> -0.16662457 | T10: ='Главная динамическая таблица'!AL29 -> -7.5610192 | U10: =Q10/2 -> 0.77468771 | V10: =-S10/2 -> 0.083312285 | W10: =U10+V10 -> 0.858 | X10: =R10/2 -> -5.2003422 | Y10: =-T10/2 -> 3.7805096 | Z10: =X10+Y10 -> -1.4198325 | AA10: =SQRT(W10^2+Z10^2) -> 1.658942 | AB10: =W10*COS(Начало!P7)-Z10*SIN(Начало!P7) -> 1.6391666 | AC10: =W10*SIN(Начало!P7)+Z10*COS(Начало!P7) -> -0.25538463
A11: ='Главная динамическая таблица'!A12 -> 60 | B11: =Начало!J8 -> 11.37 | C11: =A11+B11 -> 71.37 | D11: =-'Главная динамическая таблица'!G12 -> -2.1839347 | E11: =-'Главная динамическая таблица'!H12 -> -0.74128767 | F11: =E11+(Начало!$F$3*Начало!$H$5*Начало!$H$6^2)/1000000 -> 0.13381274 | G11: =D11*COS(Начало!P8+Начало!Q8)-(Конец!F11)*SIN(Начало!P8+Начало!Q8) -> -0.82447109 | H11: =D11*SIN(Начало!P8+Начало!Q8)+(Конец!F11)*COS(Начало!P8+Начало!Q8) -> -2.0267521 | I11: =SQRT(G11^2+H11^2) -> 2.1880303 | P11: =A11 -> 60 | Q11: ='Главная динамическая таблица'!Y12 -> 1.302975 | R11: ='Главная динамическая таблица'!Z12 -> -9.7015703 | S11: ='Главная динамическая таблица'!AK30 -> 0.13297495 | T11: ='Главная динамическая таблица'!AL30 -> -6.934977 | U11: =Q11/2 -> 0.65148748 | V11: =-S11/2 -> -0.066487476 | W11: =U11+V11 -> 0.585 | X11: =R11/2 -> -4.8507851 | Y11: =-T11/2 -> 3.4674885 | Z11: =X11+Y11 -> -1.3832966 | AA11: =SQRT(W11^2+Z11^2) -> 1.5019103 | AB11: =W11*COS(Начало!P8)-Z11*SIN(Начало!P8) -> 1.49047 | AC11: =W11*SIN(Начало!P8)+Z11*COS(Начало!P8) -> -0.18502346
A12: ='Главная динамическая таблица'!A13 -> 70 | B12: =Начало!J9 -> 12.37 | C12: =A12+B12 -> 82.37 | D12: =-'Главная динамическая таблица'!G13 -> -1.8678778 | E12: =-'Главная динамическая таблица'!H13 -> -0.25138873 | F12: =E12+(Начало!$F$3*Начало!$H$5*Начало!$H$6^2)/1000000 -> 0.62371168 | G12: =D12*COS(Начало!P9+Начало!Q9)-(Конец!F12)*SIN(Начало!P9+Начало!Q9) -> -0.86619759 | H12: =D12*SIN(Начало!P9+Начало!Q9)+(Конец!F12)*COS(Начало!P9+Начало!Q9) -> -1.7685263 | I12: =SQRT(G12^2+H12^2) -> 1.9692597 | P12: =A12 -> 70 | Q12: ='Главная динамическая таблица'!Y13 -> 1.5540317 | R12: ='Главная динамическая таблица'!Z13 -> -9.284495 | S12: ='Главная динамическая таблица'!AK31 -> 0.85203169 | T12: ='Главная динамическая таблица'!AL31 -> -6.6772416 | U12: =Q12/2 -> 0.77701585 | V12: =-S12/2 -> -0.42601585 | W12: =U12+V12 -> 0.351 | X12: =R12/2 -> -4.6422475 | Y12: =-T12/2 -> 3.3386208 | Z12: =X12+Y12 -> -1.3036267 | AA12: =SQRT(W12^2+Z12^2) -> 1.3500531 | AB12: =W12*COS(Начало!P9)-Z12*SIN(Начало!P9) -> 1.3450574 | AC12: =W12*SIN(Начало!P9)+Z12*COS(Начало!P9) -> -0.11603447
A13: ='Главная динамическая таблица'!A14 -> 80 | B13: =Начало!J10 -> 13.14 | C13: =A13+B13 -> 93.14 | D13: =-'Главная динамическая таблица'!G14 -> -1.6460308 | E13: =-'Главная динамическая таблица'!H14 -> 0.090771564 | F13: =E13+(Начало!$F$3*Начало!$H$5*Начало!$H$6^2)/1000000 -> 0.96587197 | G13: =D13*COS(Начало!P10+Начало!Q10)-(Конец!F13)*SIN(Начало!P10+Начало!Q10) -> -0.87425905 | H13: =D13*SIN(Начало!P10+Начало!Q10)+(Конец!F13)*COS(Начало!P10+Начало!Q10) -> -1.6964661 | I13: =SQRT(G13^2+H13^2) -> 1.9084879 | P13: =A13 -> 80 | Q13: ='Главная динамическая таблица'!Y14 -> 1.8238557 | R13: ='Главная динамическая таблица'!Z14 -> -8.6386016 | S13: ='Главная динамическая таблица'!AK32 -> 1.5898557 | T13: ='Главная динамическая таблица'!AL32 -> -6.8539947 | U13: =Q13/2 -> 0.91192787 | V13: =-S13/2 -> -0.79492787 | W13: =U13+V13 -> 0.117 | X13: =R13/2 -> -4.3193008 | Y13: =-T13/2 -> 3.4269974 | Z13: =X13+Y13 -> -0.89230346 | AA13: =SQRT(W13^2+Z13^2) -> 0.89994137 | AB13: =W13*COS(Начало!P10)-Z13*SIN(Начало!P10) -> 0.8990642 | AC13: =W13*SIN(Начало!P10)+Z13*COS(Начало!P10) -> -0.039724363
A14: ='Главная динамическая таблица'!A15 -> 90 | B14: =Начало!J11 -> 13.27 | C14: =A14+B14 -> 103.27 | D14: =-'Главная динамическая таблица'!G15 -> -1.5560033 | E14: =-'Главная динамическая таблица'!H15 -> 0.36696346 | F14: =E14+(Начало!$F$3*Начало!$H$5*Начало!$H$6^2)/1000000 -> 1.2420639 | G14: =D14*COS(Начало!P11+Начало!Q11)-(Конец!F14)*SIN(Начало!P11+Начало!Q11) -> -0.85173452 | H14: =D14*SIN(Начало!P11+Начало!Q11)+(Конец!F14)*COS(Начало!P11+Начало!Q11) -> -1.7995603 | I14: =SQRT(G14^2+H14^2) -> 1.9909468 | P14: =A14 -> 90 | Q14: ='Главная динамическая таблица'!Y15 -> 2.13602 | R14: ='Главная динамическая таблица'!Z15 -> -7.4045697 | S14: ='Главная динамическая таблица'!AK33 -> 2.13602 | T14: ='Главная динамическая таблица'!AL33 -> -7.4045697 | U14: =Q14/2 -> 1.06801 | V14: =-S14/2 -> -1.06801 | W14: =U14+V14 -> 0 | X14: =R14/2 -> -3.7022848 | Y14: =-T14/2 -> 3.7022848 | Z14: =X14+Y14 -> 0 | AA14: =SQRT(W14^2+Z14^2) -> 0 | AB14: =W14*COS(Начало!P11)-Z14*SIN(Начало!P11) -> 0 | AC14: =W14*SIN(Начало!P11)+Z14*COS(Начало!P11) -> 0
A15: ='Главная динамическая таблица'!A16 -> 100 | B15: =Начало!J12 -> 13.14 | C15: =A15+B15 -> 113.14 | D15: =-'Главная динамическая таблица'!G16 -> -1.5203308 | E15: =-'Главная динамическая таблица'!H16 -> 0.65268285 | F15: =E15+(Начало!$F$3*Начало!$H$5*Начало!$H$6^2)/1000000 -> 1.5277833 | G15: =D15*COS(Начало!P12+Начало!Q12)-(Конец!F15)*SIN(Начало!P12+Начало!Q12) -> -0.80741074 | H15: =D15*SIN(Начало!P12+Начало!Q12)+(Конец!F15)*COS(Начало!P12+Начало!Q12) -> -1.9984032 | I15: =SQRT(G15^2+H15^2) -> 2.1553486 | P15: =A15 -> 100 | Q15: ='Главная динамическая таблица'!Y16 -> 4.6436068 | R15: ='Главная динамическая таблица'!Z16 -> -8.1893667 | S15: ='Главная динамическая таблица'!AK34 -> 4.6436068 | T15: ='Главная динамическая таблица'!AL34 -> -8.1893667 | U15: =Q15/2 -> 2.3218034 | V15: =-S15/2 -> -2.3218034 | W15: =U15+V15 -> 0 | X15: =R15/2 -> -4.0946834 | Y15: =-T15/2 -> 4.0946834 | Z15: =X15+Y15 -> 0 | AA15: =SQRT(W15^2+Z15^2) -> 0 | AB15: =W15*COS(Начало!P12)-Z15*SIN(Начало!P12) -> 0 | AC15: =W15*SIN(Начало!P12)+Z15*COS(Начало!P12) -> 0
A16: ='Главная динамическая таблица'!A17 -> 110 | B16: =Начало!J13 -> 12.59 | C16: =A16+B16 -> 122.59 | D16: =-'Главная динамическая таблица'!G17 -> -1.3268389 | E16: =-'Главная динамическая таблица'!H17 -> 0.8514821 | F16: =E16+(Начало!$F$3*Начало!$H$5*Начало!$H$6^2)/1000000 -> 1.7265825 | G16: =D16*COS(Начало!P13+Начало!Q13)-(Конец!F16)*SIN(Начало!P13+Начало!Q13) -> -0.74005898 | H16: =D16*SIN(Начало!P13+Начало!Q13)+(Конец!F16)*COS(Начало!P13+Начало!Q13) -> -2.0479017 | I16: =SQRT(G16^2+H16^2) -> 2.1775189 | P16: =A16 -> 110 | Q16: ='Главная динамическая таблица'!Y17 -> 6.6159322 | R16: ='Главная динамическая таблица'!Z17 -> -9.014202 | S16: ='Главная динамическая таблица'!AK35 -> 6.6159322 | T16: ='Главная динамическая таблица'!AL35 -> -9.014202 | U16: =Q16/2 -> 3.3079661 | V16: =-S16/2 -> -3.3079661 | W16: =U16+V16 -> 0 | X16: =R16/2 -> -4.507101 | Y16: =-T16/2 -> 4.507101 | Z16: =X16+Y16 -> 0 | AA16: =SQRT(W16^2+Z16^2) -> 0 | AB16: =W16*COS(Начало!P13)-Z16*SIN(Начало!P13) -> 0 | AC16: =W16*SIN(Начало!P13)+Z16*COS(Начало!P13) -> 0
A17: ='Главная динамическая таблица'!A18 -> 120 | B17: =Начало!J14 -> 11.37 | C17: =A17+B17 -> 131.37 | D17: =-'Главная динамическая таблица'!G18 -> -1.1636143 | E17: =-'Главная динамическая таблица'!H18 -> 1.032171 | F17: =E17+(Начало!$F$3*Начало!$H$5*Начало!$H$6^2)/1000000 -> 1.9072714 | G17: =D17*COS(Начало!P14+Начало!Q14)-(Конец!F17)*SIN(Начало!P14+Начало!Q14) -> -0.66227085 | H17: =D17*SIN(Начало!P14+Начало!Q14)+(Конец!F17)*COS(Начало!P14+Начало!Q14) -> -2.1337947 | I17: =SQRT(G17^2+H17^2) -> 2.2342074 | P17: =A17 -> 120 | Q17: ='Главная динамическая таблица'!Y18 -> 7.9228304 | R17: ='Главная динамическая таблица'!Z18 -> -9.6677683 | S17: ='Главная динамическая таблица'!AK36 -> 7.9228304 | T17: ='Главная динамическая таблица'!AL36 -> -9.6677683 | U17: =Q17/2 -> 3.9614152 | V17: =-S17/2 -> -3.9614152 | W17: =U17+V17 -> 0 | X17: =R17/2 -> -4.8338842 | Y17: =-T17/2 -> 4.8338842 | Z17: =X17+Y17 -> 0 | AA17: =SQRT(W17^2+Z17^2) -> 0 | AB17: =W17*COS(Начало!P14)-Z17*SIN(Начало!P14) -> 0 | AC17: =W17*SIN(Начало!P14)+Z17*COS(Начало!P14) -> 0
... A58: ='Главная динамическая таблица'!A59 -> 530 | B58: =Начало!J55 -> 2.19 | C58: =A58+B58 -> 532.19 | D58: =-'Главная динамическая таблица'!G59 -> -0.14894514 | E58: =-'Главная динамическая таблица'!H59 -> 1.1359338 | F58: =E58+(Начало!$F$3*Начало!$H$5*Начало!$H$6^2)/1000000 -> 2.0110343 | G58: =D58*COS(Начало!P55+Начало!Q55)-(Конец!F58)*SIN(Начало!P55+Начало!Q55) -> -0.12571286 | H58: =D58*SIN(Начало!P55+Начало!Q55)+(Конец!F58)*COS(Начало!P55+Начало!Q55) -> -2.0126201 | I58: =SQRT(G58^2+H58^2) -> 2.0165424 | P58: =A58 -> 530 | Q58: ='Главная динамическая таблица'!Y59 -> 4.9059947 | R58: ='Главная динамическая таблица'!Z59 -> -10.095037 | S58: ='Главная динамическая таблица'!AK77 -> 4.5999947 | T58: ='Главная динамическая таблица'!AL77 -> -9.9739737 | U58: =Q58/2 -> 2.4529973 | V58: =-S58/2 -> -2.2999973 | W58: =U58+V58 -> 0.153 | X58: =R58/2 -> -5.0475186 | Y58: =-T58/2 -> 4.9869868 | Z58: =X58+Y58 -> -0.060531749 | AA58: =SQRT(W58^2+Z58^2) -> 0.16453903 | AB58: =W58*COS(Начало!P55)-Z58*SIN(Начало!P55) -> -0.14016436 | AC58: =W58*SIN(Начало!P55)+Z58*COS(Начало!P55) -> 0.086180307
A59: ='Главная динамическая таблица'!A60 -> 540 | B59: =Начало!J56 -> 0 | C59: =A59+B59 -> 540 | D59: =-'Главная динамическая таблица'!G60 -> 0 | E59: =-'Главная динамическая таблица'!H60 -> 1.1501361 | F59: =E59+(Начало!$F$3*Начало!$H$5*Начало!$H$6^2)/1000000 -> 2.0252365 | G59: =D59*COS(Начало!P56+Начало!Q56)-(Конец!F59)*SIN(Начало!P56+Начало!Q56) -> -7.4436462e-16 | H59: =D59*SIN(Начало!P56+Начало!Q56)+(Конец!F59)*COS(Начало!P56+Начало!Q56) -> -2.0252365 | I59: =SQRT(G59^2+H59^2) -> 2.0252365 | P59: =A59 -> 540 | Q59: ='Главная динамическая таблица'!Y60 -> 3.33602 | R59: ='Главная динамическая таблица'!Z60 -> -7.6875743 | S59: ='Главная динамическая таблица'!AK7 -> 2.0852043 | T59: ='Главная динамическая таблица'!AL7 -> -6.8539947 | U59: =Q59/2 -> 1.66801 | V59: =-S59/2 -> -1.0426021 | W59: =U59+V59 -> 0.62540786 | X59: =R59/2 -> -3.8437871 | Y59: =-T59/2 -> 3.4269974 | Z59: =X59+Y59 -> -0.41678979 | AA59: =SQRT(W59^2+Z59^2) -> 0.75156418 | AB59: =W59*COS(Начало!P56)-Z59*SIN(Начало!P56) -> -0.62540786 | AC59: =W59*SIN(Начало!P56)+Z59*COS(Начало!P56) -> 0.41678979
A60: ='Главная динамическая таблица'!A61 -> 550 | B60: =Начало!J57 -> -2.19 | C60: =A60+B60 -> 547.81 | D60: =-'Главная динамическая таблица'!G61 -> -0.24060368 | E60: =-'Главная динамическая таблица'!H61 -> 1.1359338 | F60: =E60+(Начало!$F$3*Начало!$H$5*Начало!$H$6^2)/1000000 -> 2.0110343 | G60: =D60*COS(Начало!P57+Начало!Q57)-(Конец!F60)*SIN(Начало!P57+Начало!Q57) -> 0.51164828 | H60: =D60*SIN(Начало!P57+Начало!Q57)+(Конец!F60)*COS(Начало!P57+Начало!Q57) -> -1.9596849 | I60: =SQRT(G60^2+H60^2) -> 2.0253762 | P60: =A60 -> 550 | Q60: ='Главная динамическая таблица'!Y61 -> 3.7772043 | R60: ='Главная динамическая таблица'!Z61 -> -6.9552423 | S60: ='Главная динамическая таблица'!AK8 -> 2.0057199 | T60: ='Главная динамическая таблица'!AL8 -> -6.6738212 | U60: =Q60/2 -> 1.8886021 | V60: =-S60/2 -> -1.0028599 | W60: =U60+V60 -> 0.8857422 | X60: =R60/2 -> -3.4776211 | Y60: =-T60/2 -> 3.3369106 | Z60: =X60+Y60 -> -0.14071052 | AA60: =SQRT(W60^2+Z60^2) -> 0.89684932 | AB60: =W60*COS(Начало!P57)-Z60*SIN(Начало!P57) -> -0.89671992 | AC60: =W60*SIN(Начало!P57)+Z60*COS(Начало!P57) -> -0.015234707
A61: ='Главная динамическая таблица'!A62 -> 560 | B61: =Начало!J58 -> -4.34 | C61: =A61+B61 -> 555.66 | D61: =-'Главная динамическая таблица'!G62 -> -0.46381647 | E61: =-'Главная динамическая таблица'!H62 -> 1.0924002 | F61: =E61+(Начало!$F$3*Начало!$H$5*Начало!$H$6^2)/1000000 -> 1.9675006 | G61: =D61*COS(Начало!P58+Начало!Q58)-(Конец!F61)*SIN(Начало!P58+Начало!Q58) -> 0.97768388 | H61: =D61*SIN(Начало!P58+Начало!Q58)+(Конец!F61)*COS(Начало!P58+Начало!Q58) -> -1.7692706 | I61: =SQRT(G61^2+H61^2) -> 2.0214313 | P61: =A61 -> 560 | Q61: ='Главная динамическая таблица'!Y62 -> 4.3277199 | R61: ='Главная динамическая таблица'!Z62 -> -6.3170266 | S61: ='Главная динамическая таблица'!AK9 -> 1.9668346 | T61: ='Главная динамическая таблица'!AL9 -> -6.934977 | U61: =Q61/2 -> 2.1638599 | V61: =-S61/2 -> -0.98341728 | W61: =U61+V61 -> 1.1804427 | X61: =R61/2 -> -3.1585133 | Y61: =-T61/2 -> 3.4674885 | Z61: =X61+Y61 -> 0.30897519 | AA61: =SQRT(W61^2+Z61^2) -> 1.2202092 | AB61: =W61*COS(Начало!P58)-Z61*SIN(Начало!P58) -> -1.0035775 | AC61: =W61*SIN(Начало!P58)+Z61*COS(Начало!P58) -> -0.69407687
A62: ='Главная динамическая таблица'!A63 -> 570 | B62: =Начало!J59 -> -6.41 | C62: =A62+B62 -> 563.59 | D62: =-'Главная динамическая таблица'!G63 -> -0.65085748 | E62: =-'Главная динамическая таблица'!H63 -> 1.0173209 | F62: =E62+(Начало!$F$3*Начало!$H$5*Начало!$H$6^2)/1000000 -> 1.8924213 | G62: =D62*COS(Начало!P59+Начало!Q59)-(Конец!F62)*SIN(Начало!P59+Начало!Q59) -> 1.3537934 | H62: =D62*SIN(Начало!P59+Начало!Q59)+(Конец!F62)*COS(Начало!P59+Начало!Q59) -> -1.4738105 | I62: =SQRT(G62^2+H62^2) -> 2.0012181 | P62: =A62 -> 570 | Q62: ='Главная динамическая таблица'!Y63 -> 4.9308346 | R62: ='Главная динамическая таблица'!Z63 -> -5.6641601 | S62: ='Главная динамическая таблица'!AK10 -> 2.0832341 | T62: ='Главная динамическая таблица'!AL10 -> -7.5610192 | U62: =Q62/2 -> 2.4654173 | V62: =-S62/2 -> -1.0416171 | W62: =U62+V62 -> 1.4238002 | X62: =R62/2 -> -2.8320801 | Y62: =-T62/2 -> 3.7805096 | Z62: =X62+Y62 -> 0.94842957 | AA62: =SQRT(W62^2+Z62^2) -> 1.7107676 | AB62: =W62*COS(Начало!P59)-Z62*SIN(Начало!P59) -> -0.75883236 | AC62: =W62*SIN(Начало!P59)+Z62*COS(Начало!P59) -> -1.5332642
A63: ='Главная динамическая таблица'!A64 -> 580 | B63: =Начало!J60 -> -8.36 | C63: =A63+B63 -> 571.64 | D63: =-'Главная динамическая таблица'!G64 -> -0.79957977 | E63: =-'Главная динамическая таблица'!H64 -> 0.91738939 | F63: =E63+(Начало!$F$3*Начало!$H$5*Начало!$H$6^2)/1000000 -> 1.7924898 | G63: =D63*COS(Начало!P60+Начало!Q60)-(Конец!F63)*SIN(Начало!P60+Начало!Q60) -> 1.621036 | H63: =D63*SIN(Начало!P60+Начало!Q60)+(Конец!F63)*COS(Начало!P60+Начало!Q60) -> -1.1066119 | I63: =SQRT(G63^2+H63^2) -> 1.9627398 | P63: =A63 -> 580 | Q63: ='Главная динамическая таблица'!Y64 -> 5.9232341 | R63: ='Главная динамическая таблица'!Z64 -> -4.5279802 | S63: ='Главная динамическая таблица'!AK11 -> 1.9519954 | T63: ='Главная динамическая таблица'!AL11 -> -8.4135867 | U63: =Q63/2 -> 2.9616171 | V63: =-S63/2 -> -0.97599768 | W63: =U63+V63 -> 1.9856194 | X63: =R63/2 -> -2.2639901 | Y63: =-T63/2 -> 4.2067933 | Z63: =X63+Y63 -> 1.9428032 | AA63: =SQRT(W63^2+Z63^2) -> 2.7779793 | AB63: =W63*COS(Начало!P60)-Z63*SIN(Начало!P60) -> -0.27226287 | AC63: =W63*SIN(Начало!P60)+Z63*COS(Начало!P60) -> -2.7646052
A64: ='Главная динамическая таблица'!A65 -> 590 | B64: =Начало!J61 -> -10.16 | C64: =A64+B64 -> 579.84 | D64: =-'Главная динамическая таблица'!G65 -> -0.83334056 | E64: =-'Главная динамическая таблица'!H65 -> 0.78320831 | F64: =E64+(Начало!$F$3*Начало!$H$5*Начало!$H$6^2)/1000000 -> 1.6583087 | G64: =D64*COS(Начало!P61+Начало!Q61)-(Конец!F64)*SIN(Начало!P61+Начало!Q61) -> 1.702258 | H64: =D64*SIN(Начало!P61+Начало!Q61)+(Конец!F64)*COS(Начало!P61+Начало!Q61) -> -0.73943367 | I64: =SQRT(G64^2+H64^2) -> 1.8559214 | P64: =A64 -> 590 | Q64: ='Главная динамическая таблица'!Y65 -> 6.9439954 | R64: ='Главная динамическая таблица'!Z65 -> -1.9663772 | S64: ='Главная динамическая таблица'!AK12 -> 2.3625564 | T64: ='Главная динамическая таблица'!AL12 -> -9.1962979 | U64: =Q64/2 -> 3.4719977 | V64: =-S64/2 -> -1.1812782 | W64: =U64+V64 -> 2.2907195 | X64: =R64/2 -> -0.98318861 | Y64: =-T64/2 -> 4.598149 | Z64: =X64+Y64 -> 3.6149603 | AA64: =SQRT(W64^2+Z64^2) -> 4.2796418 | AB64: =W64*COS(Начало!P61)-Z64*SIN(Начало!P61) -> 1.2967742 | AC64: =W64*SIN(Начало!P61)+Z64*COS(Начало!P61) -> -4.0784446
A65: ='Главная динамическая таблица'!A66 -> 600 | B65: =Начало!J62 -> -11.37 | C65: =A65+B65 -> 588.63 | D65: =-'Главная динамическая таблица'!G66 -> -0.87462854 | E65: =-'Главная динамическая таблица'!H66 -> 0.61419834 | F65: =E65+(Начало!$F$3*Начало!$H$5*Начало!$H$6^2)/1000000 -> 1.4892987 | G65: =D65*COS(Начало!P62+Начало!Q62)-(Конец!F65)*SIN(Начало!P62+Начало!Q62) -> 1.6957136 | H65: =D65*SIN(Начало!P62+Начало!Q62)+(Конец!F65)*COS(Начало!P62+Начало!Q62) -> -0.32793456 | I65: =SQRT(G65^2+H65^2) -> 1.7271323 | P65: =A65 -> 600 | Q65: ='Главная динамическая таблица'!Y66 -> 9.6165564 | R65: ='Главная динамическая таблица'!Z66 -> 5.8669688 | S65: ='Главная динамическая таблица'!AK13 -> 2.4369577 | T65: ='Главная динамическая таблица'!AL13 -> -9.6987956 | U65: =Q65/2 -> 4.8082782 | V65: =-S65/2 -> -1.2184788 | W65: =U65+V65 -> 3.5897994 | X65: =R65/2 -> 2.9334844 | Y65: =-T65/2 -> 4.8493978 | Z65: =X65+Y65 -> 7.7828822 | AA65: =SQRT(W65^2+Z65^2) -> 8.570876 | AB65: =W65*COS(Начало!P62)-Z65*SIN(Начало!P62) -> 4.945274 | AC65: =W65*SIN(Начало!P62)+Z65*COS(Начало!P62) -> -7.0002986
A66: ='Главная динамическая таблица'!A67 -> 610 | B66: =Начало!J63 -> -12.37 | C66: =A66+B66 -> 597.63 | D66: =-'Главная динамическая таблица'!G67 -> -0.79066429 | E66: =-'Главная динамическая таблица'!H67 -> 0.42907959 | F66: =E66+(Начало!$F$3*Начало!$H$5*Начало!$H$6^2)/1000000 -> 1.30418 | G66: =D66*COS(Начало!P63+Начало!Q63)-(Конец!F66)*SIN(Начало!P63+Начало!Q63) -> 1.5248309 | H66: =D66*SIN(Начало!P63+Начало!Q63)+(Конец!F66)*COS(Начало!P63+Начало!Q63) -> -0.030436253 | I66: =SQRT(G66^2+H66^2) -> 1.5251346 | P66: =A66 -> 610 | Q66: ='Главная динамическая таблица'!Y67 -> 10.548958 | R66: ='Главная динамическая таблица'!Z67 -> 18.809763 | S66: ='Главная динамическая таблица'!AK14 -> 2.3593725 | T66: ='Главная динамическая таблица'!AL14 -> -9.7480138 | U66: =Q66/2 -> 5.2744788 | V66: =-S66/2 -> -1.1796863 | W66: =U66+V66 -> 4.0947926 | X66: =R66/2 -> 9.4048816 | Y66: =-T66/2 -> 4.8740069 | Z66: =X66+Y66 -> 14.278889 | AA66: =SQRT(W66^2+Z66^2) -> 14.854426 | AB66: =W66*COS(Начало!P63)-Z66*SIN(Начало!P63) -> 12.017265 | AC66: =W66*SIN(Начало!P63)+Z66*COS(Начало!P63) -> -8.7315139
A67: ='Главная динамическая таблица'!A68 -> 620 | B67: =Начало!J64 -> -13.14 | C67: =A67+B67 -> 606.86 | D67: =-'Главная динамическая таблица'!G68 -> -0.62972064 | E67: =-'Главная динамическая таблица'!H68 -> 0.24913786 | F67: =E67+(Начало!$F$3*Начало!$H$5*Начало!$H$6^2)/1000000 -> 1.1242383 | G67: =D67*COS(Начало!P64+Начало!Q64)-(Конец!F67)*SIN(Начало!P64+Начало!Q64) -> 1.2812574 | H67: =D67*SIN(Начало!P64+Начало!Q64)+(Конец!F67)*COS(Начало!P64+Начало!Q64) -> 0.13725573 | I67: =SQRT(G67^2+H67^2) -> 1.2885883 | P67: =A67 -> 620 | Q67: ='Главная динамическая таблица'!Y68 -> 8.1313725 | R67: ='Главная динамическая таблица'!Z68 -> 33.682611 | S67: ='Главная динамическая таблица'!AK15 -> 2.13602 | T67: ='Главная динамическая таблица'!AL15 -> -9.2766097 | U67: =Q67/2 -> 4.0656863 | V67: =-S67/2 -> -1.06801 | W67: =U67+V67 -> 2.9976763 | X67: =R67/2 -> 16.841305 | Y67: =-T67/2 -> 4.6383048 | Z67: =X67+Y67 -> 21.47961 | AA67: =SQRT(W67^2+Z67^2) -> 21.687778 | AB67: =W67*COS(Начало!P64)-Z67*SIN(Начало!P64) -> 20.632746 | AC67: =W67*SIN(Начало!P64)+Z67*COS(Начало!P64) -> -6.68203
A68: ='Главная динамическая таблица'!A69 -> 630 | B68: =Начало!J65 -> -13.27 | C68: =A68+B68 -> 616.73 | D68: =-'Главная динамическая таблица'!G69 -> -0.55600333 | E68: =-'Главная динамическая таблица'!H69 -> 0.13112627 | F68: =E68+(Начало!$F$3*Начало!$H$5*Начало!$H$6^2)/1000000 -> 1.0062267 | G68: =D68*COS(Начало!P65+Начало!Q65)-(Конец!F68)*SIN(Начало!P65+Начало!Q65) -> 1.1069847 | H68: =D68*SIN(Начало!P65+Начало!Q65)+(Конец!F68)*COS(Начало!P65+Начало!Q65) -> 0.31018817 | I68: =SQRT(G68^2+H68^2) -> 1.1496225 | P68: =A68 -> 630 | Q68: ='Главная динамическая таблица'!Y69 -> 2.13602 | R68: ='Главная динамическая таблица'!Z69 -> 73.52339 | S68: ='Главная динамическая таблица'!AK16 -> -1.1562623 | T68: ='Главная динамическая таблица'!AL16 -> -8.4126418 | U68: =Q68/2 -> 1.06801 | V68: =-S68/2 -> 0.57813115 | W68: =U68+V68 -> 1.6461411 | X68: =R68/2 -> 36.761695 | Y68: =-T68/2 -> 4.2063209 | Z68: =X68+Y68 -> 40.968016 | AA68: =SQRT(W68^2+Z68^2) -> 41.001075 | AB68: =W68*COS(Начало!P65)-Z68*SIN(Начало!P65) -> 40.968016 | AC68: =W68*SIN(Начало!P65)+Z68*COS(Начало!P65) -> -1.6461411
A69: ='Главная динамическая таблица'!A70 -> 640 | B69: =Начало!J66 -> -13.14 | C69: =A69+B69 -> 626.86 | D69: =-'Главная динамическая таблица'!G70 -> -0.38893036 | E69: =-'Главная динамическая таблица'!H70 -> 0.023273196 | F69: =E69+(Начало!$F$3*Начало!$H$5*Начало!$H$6^2)/1000000 -> 0.8983736 | G69: =D69*COS(Начало!P66+Начало!Q66)-(Конец!F69)*SIN(Начало!P66+Начало!Q66) -> 0.91832887 | H69: =D69*SIN(Начало!P66+Начало!Q66)+(Конец!F69)*COS(Начало!P66+Начало!Q66) -> 0.33913722 | I69: =SQRT(G69^2+H69^2) -> 0.97894942 | P69: =A69 -> 640 | Q69: ='Главная динамическая таблица'!Y70 -> 18.625738 | R69: ='Главная динамическая таблица'!Z70 -> 83.73071 | S69: ='Главная динамическая таблица'!AK17 -> -4.0329386 | T69: ='Главная динамическая таблица'!AL17 -> -7.3752843 | U69: =Q69/2 -> 9.3128689 | V69: =-S69/2 -> 2.0164693 | W69: =U69+V69 -> 11.329338 | X69: =R69/2 -> 41.865355 | Y69: =-T69/2 -> 3.6876421 | Z69: =X69+Y69 -> 45.552997 | AA69: =SQRT(W69^2+Z69^2) -> 46.940701 | AB69: =W69*COS(Начало!P66)-Z69*SIN(Начало!P66) -> 46.828264 | AC69: =W69*SIN(Начало!P66)+Z69*COS(Начало!P66) -> -3.2470251
A70: ='Главная динамическая таблица'!A71 -> 650 | B70: =Начало!J67 -> -12.59 | C70: =A70+B70 -> 637.41 | D70: =-'Главная динамическая таблица'!G71 -> -0.25747018 | E70: =-'Главная динамическая таблица'!H71 -> -0.039562434 | F70: =E70+(Начало!$F$3*Начало!$H$5*Начало!$H$6^2)/1000000 -> 0.83553797 | G70: =D70*COS(Начало!P67+Начало!Q67)-(Конец!F70)*SIN(Начало!P67+Начало!Q67) -> 0.79535453 | H70: =D70*SIN(Начало!P67+Начало!Q67)+(Конец!F70)*COS(Начало!P67+Начало!Q67) -> 0.36307818 | I70: =SQRT(G70^2+H70^2) -> 0.87430807 | P70: =A70 -> 650 | Q70: ='Главная динамическая таблица'!Y71 -> 32.621061 | R70: ='Главная динамическая таблица'!Z71 -> 74.312702 | S70: ='Главная динамическая таблица'!AK18 -> -6.041707 | T70: ='Главная динамическая таблица'!AL18 -> -6.4635066 | U70: =Q70/2 -> 16.310531 | V70: =-S70/2 -> 3.0208535 | W70: =U70+V70 -> 19.331384 | X70: =R70/2 -> 37.156351 | Y70: =-T70/2 -> 3.2317533 | Z70: =X70+Y70 -> 40.388104 | AA70: =SQRT(W70^2+Z70^2) -> 44.776125 | AB70: =W70*COS(Начало!P67)-Z70*SIN(Начало!P67) -> 44.564126 | AC70: =W70*SIN(Начало!P67)+Z70*COS(Начало!P67) -> -4.352014
... A76: ='Главная динамическая таблица'!A77 -> 710 | B76: =Начало!J73 -> -2.19 | C76: =A76+B76 -> 707.81 | D76: =-'Главная динамическая таблица'!G77 -> -0.77650811 | E76: =-'Главная динамическая таблица'!H77 -> -5.842729 | F76: =E76+(Начало!$F$3*Начало!$H$5*Начало!$H$6^2)/1000000 -> -4.9676286 | G76: =D76*COS(Начало!P73+Начало!Q73)-(Конец!F76)*SIN(Начало!P73+Начало!Q73) -> -1.8079357 | H76: =D76*SIN(Начало!P73+Начало!Q73)+(Конец!F76)*COS(Начало!P73+Начало!Q73) -> -4.6916594 | I76: =SQRT(G76^2+H76^2) -> 5.0279518 | P76: =A76 -> 710 | Q76: ='Главная динамическая таблица'!Y77 -> 8.7632336 | R76: ='Главная динамическая таблица'!Z77 -> -8.9188795 | S76: ='Главная динамическая таблица'!AK24 -> 2.13602 | T76: ='Главная динамическая таблица'!AL24 -> -9.2766097 | U76: =Q76/2 -> 4.3816168 | V76: =-S76/2 -> -1.06801 | W76: =U76+V76 -> 3.3136068 | X76: =R76/2 -> -4.4594398 | Y76: =-T76/2 -> 4.6383048 | Z76: =X76+Y76 -> 0.17886507 | AA76: =SQRT(W76^2+Z76^2) -> 3.3184308 | AB76: =W76*COS(Начало!P73)-Z76*SIN(Начало!P73) -> 3.2943253 | AC76: =W76*SIN(Начало!P73)+Z76*COS(Начало!P73) -> -0.39925408
A77: ='Главная динамическая таблица'!A78 -> 720 | B77: =B5 -> 0 | C77: =C5 -> 0 | D77: =D5 -> 0 | E77: =E5 -> -12.337857 | F77: =F5 -> -11.462757 | G77: =G5 -> 0 | H77: =H5 -> -11.462757 | I77: =I5 -> 11.462757 | P77: =A77 -> 720 | Q77: =Q5 -> 9.33602 | R77: =R5 -> -10.974637 | S77: =S5 -> 2.13602 | T77: =T5 -> -9.2766097 | U77: =U5 -> 4.66801 | V77: =V5 -> -1.06801 | W77: =W5 -> 3.6 | X77: =X5 -> -5.4873187 | ... AC77: =AC5 -> -0.8490139
