Workbook

Sheet Начало
A1: Fn | B1: LR/L | C1: mn' | D1: m'ш | E1: m'шS | F1: m'шR | G1: m'j | H1: Проверка | J1: b | K1: ϕ | L1: Рг | M1: Рг-Ро | N1: Pj | O1: (Рг-Ро)+Pj | P1: рад ϕ | Q1: рад b | R1: N | S1: Pш | T1: Z | U1: T | V1: tg(b) | W1: cos(b) | X1: cos(a+b)/cos(b) | Y1: sin(a+b)/cos(b)
A2: мм^2 | B2: - | C2: кг/м^2 | D2: кг/м^2 | E2: кг/м^2 | F2: кг/м^2 | G2: кг/м^2 | H2: =G3-H3 -> 0 | J2: 0 | K2: 0 | L2: 14 | M2: =L2-0.1 -> 13.9 | N2: =(-$G$3*$H$5*($H$6^2)*(COS(P2)+$H$7*COS(2*P2)))/10^6 -> -1.5621428 | O2: =M2+N2 -> 12.337857 | P2: =RADIANS(K2) -> 0 | Q2: =RADIANS(J2) -> 0 | R2: =O2*V2 -> 0 | S2: =O2*W2 -> 12.337857 | T2: =O2*X2 -> 12.337857 | U2: =O2*Y2 -> 0 | V2: =TAN(Q2) -> 0 | W2: =COS(Q2) -> 1 | X2: =(COS(P2+Q2))/COS(Q2) -> 1 | Y2: =(SIN(P2+Q2))/COS(Q2) -> 0
A3: 6000 | B3: =0.058/0.25 -> 0.232 | C3: =1.6*A7 -> 134.4 | D3: =1.75*A7 -> 147 | E3: =D3*B3 -> 34.104 | F3: =D3*(1-B3) -> 112.896 | G3: =C3+E3 -> 168.504 | H3: =C3+D3*B3 -> 168.504 | J3: 2.19 | K3: =K2+10 -> 10 | L3: 15.9 | M3: =L3-0.1 -> 15.8 | N3: =(-$G$3*$H$5*($H$6^2)*(COS(P3)+$H$7*COS(2*P3)))/10^6 -> -1.5268607 | O3: =M3+N3 -> 14.273139 | P3: =RADIANS(K3) -> 0.17453293 | Q3: =RADIANS(J3) -> 0.038222711 | R3: =O3*V3 -> 0.54582391 | S3: =O3*W3 -> 14.262714 | T3: =O3*X3 -> 13.961517 | U3: =O3*Y3 -> 2.9973593 | V3: =TAN(Q3) -> 0.038241336 | W3: =COS(Q3) -> 0.9992696 | X3: =(COS(P3+Q3))/COS(Q3) -> 0.97816721 | Y3: 0.21
J4: 4.34 | K4: =K3+10 -> 20 | L4: 15.1 | M4: =L4-0.1 -> 15 | N4: =(-$G$3*$H$5*($H$6^2)*(COS(P4)+$H$7*COS(2*P4)))/10^6 -> -1.4234795 | O4: =M4+N4 -> 13.57652 | P4: =RADIANS(K4) -> 0.34906585 | Q4: =RADIANS(J4) -> 0.07574729 | R4: =O4*V4 -> 1.030356 | S4: =O4*W4 -> 13.53759 | T4: =O4*X4 -> 12.405354 | U4: =O4*Y4 -> 5.5663734 | V4: =TAN(Q4) -> 0.075892493 | W4: =COS(Q4) -> 0.99713255 | X4: =(COS(P4+Q4))/COS(Q4) -> 0.91373586 | Y4: 0.41
A5: D | B5: mn | C5: mш | D5: mn'/D | E5: m'ш/D | G5: R= | H5: 0.049 | I5: м | J5: 6.41 | K5: =K4+10 -> 30 | L5: 8.7 | M5: =L5-0.1 -> 8.6 | N5: =(-$G$3*$H$5*($H$6^2)*(COS(P5)+$H$7*COS(2*P5)))/10^6 -> -1.2591516 | O5: =M5+N5 -> 7.3408484 | P5: =RADIANS(K5) -> 0.52359878 | Q5: =RADIANS(J5) -> 0.11187561 | R5: =O5*V5 -> 0.82470544 | S5: =O5*W5 -> 7.2949567 | T5: =O5*X5 -> 5.9450085 | U5: =O5*Y5 -> 4.3311005 | V5: =TAN(Q5) -> 0.1123447 | W5: =COS(Q5) -> 0.99374845 | X5: =(COS(P5+Q5))/COS(Q5) -> 0.80985305 | Y5: 0.59
A6: мм | B6: г | C6: г | D6: (кг/м^2)/мм | E6: (кг/м^2)/мм | G6: w= | H6: 397.733 | I6: рад/с | J6: 8.36 | K6: =K5+10 -> 40 | L6: 5.75 | M6: =L6-0.1 -> 5.65 | N6: =(-$G$3*$H$5*($H$6^2)*(COS(P6)+$H$7*COS(2*P6)))/10^6 -> -1.0450154 | O6: =M6+N6 -> 4.6049846 | P6: =RADIANS(K6) -> 0.6981317 | Q6: =RADIANS(J6) -> 0.14590953 | R6: =O6*V6 -> 0.67672032 | S6: =O6*W6 -> 4.5560524 | T6: =O6*X6 -> 3.0926354 | U6: =O6*Y6 -> 3.4537385 | V6: =TAN(Q6) -> 0.14695387 | W6: =COS(Q6) -> 0.98937408 | X6: =(COS(P6+Q6))/COS(Q6) -> 0.67158432 | Y6: 0.75
A7: 84 | B7: =C3*A3/1000 -> 806.4 | C7: =D3*A3/1000 -> 882 | D7: =C3/A7 -> 1.6 | E7: =D3/A7 -> 1.75 | G7: лямда= | H7: 0.196 | J7: 10.16 | K7: =K6+10 -> 50 | L7: 4.2 | M7: =L7-0.1 -> 4.1 | N7: =(-$G$3*$H$5*($H$6^2)*(COS(P7)+$H$7*COS(2*P7)))/10^6 -> -0.79511574 | O7: =M7+N7 -> 3.3048843 | P7: =RADIANS(K7) -> 0.87266463 | Q7: =RADIANS(J7) -> 0.17732545 | R7: =O7*V7 -> 0.59226089 | S7: =O7*W7 -> 3.2530604 | T7: =O7*X7 -> 1.6706405 | U7: =O7*Y7 -> 2.7430539 | V7: =TAN(Q7) -> 0.17920776 | W7: =COS(Q7) -> 0.984319 | X7: =(COS(P7+Q7))/COS(Q7) -> 0.5055065 | Y7: 0.83
J8: 11.37 | K8: =K7+10 -> 60 | L8: 2.9 | M8: =L8-0.1 -> 2.8 | N8: =(-$G$3*$H$5*($H$6^2)*(COS(P8)+$H$7*COS(2*P8)))/10^6 -> -0.52506806 | O8: =M8+N8 -> 2.2749319 | P8: =RADIANS(K8) -> 1.0471976 | Q8: =RADIANS(J8) -> 0.19844394 | R8: =O8*V8 -> 0.45746729 | S8: =O8*W8 -> 2.2302853 | T8: =O8*X8 -> 0.74128767 | U8: =O8*Y8 -> 2.1839347 | V8: =TAN(Q8) -> 0.20109054 | W8: =COS(Q8) -> 0.98037453 | X8: =(COS(P8+Q8))/COS(Q8) -> 0.32585048 | Y8: 0.96
J9: 12.37 | K9: =K8+10 -> 70 | L9: 2.2 | M9: =L9-0.1 -> 2.1 | N9: =(-$G$3*$H$5*($H$6^2)*(COS(P9)+$H$7*COS(2*P9)))/10^6 -> -0.25061607 | O9: =M9+N9 -> 1.8493839 | P9: =RADIANS(K9) -> 1.2217305 | Q9: =RADIANS(J9) -> 0.21589723 | R9: =O9*V9 -> 0.4055984 | S9: =O9*W9 -> 1.8064497 | T9: =O9*X9 -> 0.25138873 | U9: =O9*Y9 -> 1.8678778 | V9: =TAN(Q9) -> 0.21931541 | W9: =COS(Q9) -> 0.97678458 | X9: =(COS(P9+Q9))/COS(Q9) -> 0.13593107 | Y9: 1.01
J10: 13.14 | K10: =K9+10 -> 80 | L10: 1.7 | M10: =L10-0.1 -> 1.6 | N10: =(-$G$3*$H$5*($H$6^2)*(COS(P10)+$H$7*COS(2*P10)))/10^6 -> 0.013755707 | O10: =M10+N10 -> 1.6137557 | P10: =RADIANS(K10) -> 1.3962634 | Q10: =RADIANS(J10) -> 0.22933626 | R10: =O10*V10 -> 0.37672053 | S10: =O10*W10 -> 1.5715035 | T10: =O10*X10 -> -0.090771564 | U10: =O10*Y10 -> 1.6460308 | V10: =TAN(Q10) -> 0.23344335 | W10: =COS(Q10) -> 0.9738175 | X10: =(COS(P10+Q10))/COS(Q10) -> -0.05624864 | Y10: 1.02
J11: 13.27 | K11: =K10+10 -> 90 | L11: 1.4 | M11: =L11-0.1 -> 1.3 | N11: =(-$G$3*$H$5*($H$6^2)*(COS(P11)+$H$7*COS(2*P11)))/10^6 -> 0.25600333 | O11: =M11+N11 -> 1.5560033 | P11: =RADIANS(K11) -> 1.5707963 | Q11: =RADIANS(J11) -> 0.23160519 | R11: =O11*V11 -> 0.36696346 | S11: =O11*W11 -> 1.5144568 | T11: =O11*X11 -> -0.36696346 | U11: =O11*Y11 -> 1.5560033 | V11: =TAN(Q11) -> 0.23583719 | W11: =COS(Q11) -> 0.97329919 | X11: =(COS(P11+Q11))/COS(Q11) -> -0.23583719 | Y11: 1
J12: 13.14 | K12: =K11+10 -> 100 | L12: 1.25 | M12: =L12-0.1 -> 1.15 | N12: =(-$G$3*$H$5*($H$6^2)*(COS(P12)+$H$7*COS(2*P12)))/10^6 -> 0.46737318 | O12: =M12+N12 -> 1.6173732 | P12: =RADIANS(K12) -> 1.7453293 | Q12: =RADIANS(J12) -> 0.22933626 | R12: =O12*V12 -> 0.37756501 | S12: =O12*W12 -> 1.5750263 | T12: =O12*X12 -> -0.65268285 | U12: =O12*Y12 -> 1.5203308 | V12: =TAN(Q12) -> 0.23344335 | W12: =COS(Q12) -> 0.9738175 | X12: =(COS(P12+Q12))/COS(Q12) -> -0.403545 | Y12: 0.94
J13: 12.59 | K13: =K12+10 -> 110 | L13: 1 | M13: =L13-0.1 -> 0.9 | N13: =(-$G$3*$H$5*($H$6^2)*(COS(P13)+$H$7*COS(2*P13)))/10^6 -> 0.64283593 | O13: =M13+N13 -> 1.5428359 | P13: =RADIANS(K13) -> 1.9198622 | Q13: =RADIANS(J13) -> 0.21973695 | R13: =O13*V13 -> 0.34458197 | S13: =O13*W13 -> 1.5057382 | T13: =O13*X13 -> -0.8514821 | U13: =O13*Y13 -> 1.3268389 | V13: =TAN(Q13) -> 0.22334324 | W13: =COS(Q13) -> 0.97595482 | X13: =(COS(P13+Q13))/COS(Q13) -> -0.55189413 | Y13: 0.86
J14: 11.37 | K14: =K13+10 -> 120 | L14: 0.85 | M14: =L14-0.1 -> 0.75 | N14: =(-$G$3*$H$5*($H$6^2)*(COS(P14)+$H$7*COS(2*P14)))/10^6 -> 0.78107139 | O14: =M14+N14 -> 1.5310714 | P14: =RADIANS(K14) -> 2.0943951 | Q14: =RADIANS(J14) -> 0.19844394 | R14: =O14*V14 -> 0.30788397 | S14: =O14*W14 -> 1.5010234 | T14: =O14*X14 -> -1.032171 | U14: =O14*Y14 -> 1.1636143 | V14: =TAN(Q14) -> 0.20109054 | W14: =COS(Q14) -> 0.98037453 | X14: =(COS(P14+Q14))/COS(Q14) -> -0.67414952 | Y14: 0.76
J15: 10.16 | K15: =K14+10 -> 130 | L15: 0.8 | M15: =L15-0.1 -> 0.7 | N15: =(-$G$3*$H$5*($H$6^2)*(COS(P15)+$H$7*COS(2*P15)))/10^6 -> 0.88402477 | O15: =M15+N15 -> 1.5840248 | P15: =RADIANS(K15) -> 2.268928 | Q15: =RADIANS(J15) -> 0.17732545 | R15: =O15*V15 -> 0.28386952 | S15: =O15*W15 -> 1.5591857 | T15: =O15*X15 -> -1.2356482 | U15: =O15*Y15 -> 1.0137759 | V15: =TAN(Q15) -> 0.17920776 | W15: =COS(Q15) -> 0.984319 | X15: =(COS(P15+Q15))/COS(Q15) -> -0.78006872 | Y15: 0.64
J16: 8.36 | K16: =K15+10 -> 140 | L16: 0.75 | M16: =L16-0.1 -> 0.65 | N16: =(-$G$3*$H$5*($H$6^2)*(COS(P16)+$H$7*COS(2*P16)))/10^6 -> 0.95610636 | O16: =M16+N16 -> 1.6061064 | P16: =RADIANS(K16) -> 2.443461 | Q16: =RADIANS(J16) -> 0.14590953 | R16: =O16*V16 -> 0.23602355 | S16: =O16*W16 -> 1.58904 | T16: =O16*X16 -> -1.3820619 | U16: =O16*Y16 -> 0.8351753 | V16: =TAN(Q16) -> 0.14695387 | W16: =COS(Q16) -> 0.98937408 | X16: =(COS(P16+Q16))/COS(Q16) -> -0.86050457 | Y16: 0.52
J17: 6.41 | K17: =K16+10 -> 150 | L17: 0.7 | M17: =L17-0.1 -> 0.6 | N17: =(-$G$3*$H$5*($H$6^2)*(COS(P17)+$H$7*COS(2*P17)))/10^6 -> 1.0031483 | O17: =M17+N17 -> 1.6031483 | P17: =RADIANS(K17) -> 2.6179939 | Q17: =RADIANS(J17) -> 0.11187561 | R17: =O17*V17 -> 0.18010522 | S17: =O17*W17 -> 1.5931261 | T17: =O17*X17 -> -1.4784197 | U17: =O17*Y17 -> 0.62522783 | V17: =TAN(Q17) -> 0.1123447 | W17: =COS(Q17) -> 0.99374845 | X17: =(COS(P17+Q17))/COS(Q17) -> -0.92219776 | Y17: 0.39
J18: 4.34 | K18: =K17+10 -> 160 | L18: 0.65 | M18: =L18-0.1 -> 0.55 | N18: =(-$G$3*$H$5*($H$6^2)*(COS(P18)+$H$7*COS(2*P18)))/10^6 -> 1.0312597 | O18: =M18+N18 -> 1.5812597 | P18: =RADIANS(K18) -> 2.7925268 | Q18: =RADIANS(J18) -> 0.07574729 | R18: =O18*V18 -> 0.12000574 | S18: =O18*W18 -> 1.5767255 | T18: =O18*X18 -> -1.5269424 | U18: =O18*Y18 -> 0.41112751 | V18: =TAN(Q18) -> 0.075892493 | W18: =COS(Q18) -> 0.99713255 | X18: =(COS(P18+Q18))/COS(Q18) -> -0.96564938 | Y18: 0.26
J19: 2.19 | K19: =K18+10 -> 170 | L19: 0.5 | M19: =L19-0.1 -> 0.4 | N19: =(-$G$3*$H$5*($H$6^2)*(COS(P19)+$H$7*COS(2*P19)))/10^6 -> 1.0457318 | O19: =M19+N19 -> 1.4457318 | P19: =RADIANS(K19) -> 2.9670597 | Q19: =RADIANS(J19) -> 0.038222711 | R19: =O19*V19 -> 0.055286716 | S19: =O19*W19 -> 1.4446759 | T19: =O19*X19 -> -1.4333683 | U19: =O19*Y19 -> 0.18794514 | V19: =TAN(Q19) -> 0.038241336 | W19: =COS(Q19) -> 0.9992696 | X19: =(COS(P19+Q19))/COS(Q19) -> -0.99144829 | Y19: 0.13
... J73: -2.19 | K73: =K72+10 -> 710 | L73: 7.6 | M73: =L73-0.1 -> 7.5 | N73: =(-$G$3*$H$5*($H$6^2)*(COS(P73)+$H$7*COS(2*P73)))/10^6 -> -1.5268607 | O73: =M73+N73 -> 5.9731393 | P73: =RADIANS(K73) -> 12.391838 | Q73: =RADIANS(J73) -> -0.038222711 | R73: =O73*V73 -> -0.22842082 | S73: =O73*W73 -> 5.9687765 | T73: =O73*X73 -> 5.842729 | U73: =O73*Y73 -> 0.77650811 | V73: =TAN(Q73) -> -0.038241336 | W73: =COS(Q73) -> 0.9992696 | X73: =(COS(P73+Q73))/COS(Q73) -> 0.97816721 | Y73: 0.13
J76: Л | K76: 1 | M76: 4 | P76: 3 | R76: 2
J77: П | L77: 1 | N77: 4 | O77: 2 | Q77: 3

Sheet Главная динамическая таблица
G1: 1-й отсек | O1: 1-е колено | S1: 2-й отсек | AA1: 2-е колено | AE1: 3-й отсек | AM1: 3-е колено | AQ1: 4-й отсек | AY1: 4-е колено
A2: 1 | B2: 2 | C2: 3 | D2: 4 | E2: 5 | F2: 6 | G2: 7' | H2: 8' | I2: 7'' | J2: 8'' | K2: 9 | L2: 10 | M2: 11 | N2: 12 | O2: 13 | P2: 14 | Q2: 15 | R2: 16 | S2: 17' | T2: 18' | U2: 17'' | V2: 18'' | W2: 19 | X2: 20 | Y2: 21 | Z2: 22 | AA2: 23 | AB2: 24 | AC2: 25 | AD2: 26 | AE2: 27' | AF2: 28' | AG2: 27'' | AH2: 28'' | AI2: 29 | AJ2: 30 | AK2: 31 | AL2: 32 | AM2: 33 | AN2: 34 | AO2: 35 | AP2: 36 | AQ2: 37' | AR2: 38' | AS2: 37'' | AT2: 38'' | AU2: 39 | AV2: 40 | AW2: 41 | AX2: 42 | AY2: 43 | AZ2: 44 | BA2: 45 | BB2: 46 | BD2: tср = | BE2: =AVERAGE(AU6:AU77) -> 1.3163458 | BF2: МПа
A3: α | B3: ∑p | C3: tgβ | D3: sin(α+β)/cosβ | E3: cos(α+β)/cosβ | F3: N | G3: 1-й блок | I3: 2-й блок | K3: t | L3: z | M3: T | N3: Z | O3: 0,5M1ш | P3: М-1ш | Q3: М-Iш | R3: М-Iк | S3: 1-й блок | U3: 2-й блок | W3: t | X3: z | Y3: T | Z3: Z | AA3: 0,5M2ш | AB3: М-2ш | AC3: М-IIш | AD3: М-IIк | AE3: 1-й блок | AG3: 2-й блок | AI3: t | AJ3: z | AK3: T | AL3: Z | AM3: 0,5M3ш | AN3: М-3ш | AO3: М-IIIш | AP3: М-IIIк | AQ3: 1-й блок | AS3: 2-й блок | AU3: t | AV3: z | AW3: T | AX3: Z | AY3: 0,5M4ш | AZ3: М-4ш | BA3: М-IVш | BB3: М-IVк
G4: t' | H4: z' | I4: t'' | J4: z'' | S4: t' | T4: z' | U4: t'' | V4: z'' | AE4: t' | AF4: z' | AG4: t'' | AH4: z'' | AQ4: t' | AR4: z' | AS4: t'' | AT4: z''
A5: град | B5: МПа | F5: кН | G5: Мпа | M5: кН | O5: Н*м | S5: Мпа | Y5: кН | AA5: Нм | AE5: Мпа | AK5: кН | AM5: Нм | AQ5: Мпа | AW5: кН | AY5: Нм
A6: 0 | B6: =Начало!O2 -> 12.337857 | C6: =Начало!V2 -> 0 | D6: =Начало!Y2 -> 0 | E6: =Начало!X2 -> 1 | F6: =Начало!R2*Начало!$A$3/1000 -> 0 | G6: =B6*D6 -> 0 | H6: =B6*E6 -> 12.337857 | I6: =B69*D69 -> 0.55600333 | J6: =B69*E69 -> -0.13112627 | K6: =G6+I6 -> 0.55600333 | L6: =H6+J6 -> 12.206731 | M6: =K6*Начало!$A$3/1000 -> 3.33602 | N6: =L6*Начало!$A$3/1000 -> 73.240386 | O6: =P6/2 -> 81.73249 | P6: =M6*Начало!$H$5*1000 -> 163.46498 | Q6: =O6 -> 81.73249 | R6: =P6 -> 163.46498 | S6: =G15 -> 1.5560033 | T6: =H15 -> -0.36696346 | U6: =I51 -> 0 | V6: =J51 -> -1.4621428 | W6: =S6+U6 -> 1.5560033 | X6: =T6+V6 -> -1.8291062 | Y6: =W6*Начало!$A$3/1000 -> 9.33602 | Z6: =X6*Начало!$A$3/1000 -> -10.974637 | AA6: =AB6/2 -> 228.73249 | AB6: =Y6*Начало!$H$5*1000 -> 457.46498 | AC6: =R6+AA6 -> 392.19747 | AD6: =R6+AB6 -> 620.92996 | AE6: =G33 -> 0.35600333 | AF6: =H33 -> -0.083958827 | AG6: =G24 -> 0 | AH6: =H24 -> -1.1501361 | AI6: =AE6+AG6 -> 0.35600333 | AJ6: =AF6+AH6 -> -1.2340949 | AK6: =AI6*Начало!$A$3/1000 -> 2.13602 | AL6: =AJ6*Начало!$A$3/1000 -> -7.4045697 | AM6: =AN6/2 -> 52.33249 | AN6: =AK6*Начало!$H$5*1000 -> 104.66498 | AO6: =AD6+AM6 -> 673.26245 | AP6: =AD6+AN6 -> 725.59494 | AQ6: =G60 -> 0 | AR6: =H60 -> -1.1501361 | AS6: =G51 -> 0.35600333 | AT6: =H51 -> -0.083958827 | AU6: =AQ6+AS6 -> 0.35600333 | AV6: =AR6+AT6 -> -1.2340949 | AW6: =AU6*Начало!$A$3/1000 -> 2.13602 | AX6: =AV6*Начало!$A$3/1000 -> -7.4045697 | AY6: =AZ6/2 -> 52.33249 | AZ6: =AW6*Начало!$H$5*1000 -> 104.66498 | BA6: =AP6+AY6 -> 777.92743 | BB6: =AP6+AZ6 -> 830.25992
A7: 10 | B7: =Начало!O3 -> 14.273139 | C7: =Начало!V3 -> 0.038241336 | D7: =Начало!Y3 -> 0.21 | E7: =Начало!X3 -> 0.97816721 | F7: =Начало!R3*Начало!$A$3/1000 -> 3.2749435 | G7: =B7*D7 -> 2.9973593 | H7: =B7*E7 -> 13.961517 | I7: =B70*D70 -> 0.38893036 | J7: =B70*E70 -> -0.023273196 | K7: =G7+I7 -> 3.3862896 | L7: =H7+J7 -> 13.938244 | M7: =K7*Начало!$A$3/1000 -> 20.317738 | N7: =L7*Начало!$A$3/1000 -> 83.629462 | O7: =P7/2 -> 497.78457 | P7: =M7*Начало!$H$5*1000 -> 995.56915 | Q7: =O7 -> 497.78457 | R7: =P7 -> 995.56915 | S7: =G16 -> 1.5203308 | T7: =H16 -> -0.65268285 | U7: =I52 -> -0.29964075 | V7: =J52 -> -1.3957084 | W7: =S7+U7 -> 1.22069 | X7: =T7+V7 -> -2.0483912 | Y7: =W7*Начало!$A$3/1000 -> 7.3241402 | Z7: =X7*Начало!$A$3/1000 -> -12.290347 | AA7: =AB7/2 -> 179.44144 | AB7: =Y7*Начало!$H$5*1000 -> 358.88287 | AC7: =R7+AA7 -> 1175.0106 | AD7: =R7+AB7 -> 1354.452 | AE7: =G34 -> 0.10693036 | AF7: =H34 -> -0.0063986038 | AG7: =G25 -> 0.24060368 | AH7: =H25 -> -1.1359338 | AI7: =AE7+AG7 -> 0.34753405 | AJ7: =AF7+AH7 -> -1.1423325 | AK7: =AI7*Начало!$A$3/1000 -> 2.0852043 | AL7: =AJ7*Начало!$A$3/1000 -> -6.8539947 | AM7: =AN7/2 -> 51.087505 | AN7: =AK7*Начало!$H$5*1000 -> 102.17501 | AO7: =AD7+AM7 -> 1405.5395 | AP7: =AD7+AN7 -> 1456.627 | AQ7: =G61 -> 0.24060368 | AR7: =H61 -> -1.1359338 | AS7: =G52 -> 0.53333079 | AT7: =H52 -> -0.22896061 | AU7: =AQ7+AS7 -> 0.77393447 | AV7: =AR7+AT7 -> -1.3648945 | AW7: =AU7*Начало!$A$3/1000 -> 4.6436068 | AX7: =AV7*Начало!$A$3/1000 -> -8.1893667 | AY7: =AZ7/2 -> 113.76837 | AZ7: =AW7*Начало!$H$5*1000 -> 227.53673 | BA7: =AP7+AY7 -> 1570.3954 | BB7: =AP7+AZ7 -> 1684.1638
A8: 20 | B8: =Начало!O4 -> 13.57652 | C8: =Начало!V4 -> 0.075892493 | D8: =Начало!Y4 -> 0.41 | E8: =Начало!X4 -> 0.91373586 | F8: =Начало!R4*Начало!$A$3/1000 -> 6.1821359 | G8: =B8*D8 -> 5.5663734 | H8: =B8*E8 -> 12.405354 | I8: =B71*D71 -> 0.25747018 | J8: =B71*E71 -> 0.039562434 | K8: =G8+I8 -> 5.8238436 | L8: =H8+J8 -> 12.444916 | M8: =K8*Начало!$A$3/1000 -> 34.943061 | N8: =L8*Начало!$A$3/1000 -> 74.669496 | O8: =P8/2 -> 856.105 | P8: =M8*Начало!$H$5*1000 -> 1712.21 | Q8: =O8 -> 856.105 | R8: =P8 -> 1712.21 | S8: =G17 -> 1.3268389 | T8: =H17 -> -0.8514821 | U8: =I53 -> -0.54262661 | V8: =J53 -> -1.2093107 | W8: =S8+U8 -> 0.78421229 | X8: =T8+V8 -> -2.0607928 | Y8: =W8*Начало!$A$3/1000 -> 4.7052738 | Z8: =X8*Начало!$A$3/1000 -> -12.364757 | AA8: =AB8/2 -> 115.27921 | AB8: =Y8*Начало!$H$5*1000 -> 230.55841 | AC8: =R8+AA8 -> 1827.4892 | AD8: =R8+AB8 -> 1942.7684 | AE8: =G35 -> -0.12952982 | AF8: =H35 -> -0.019903334 | AG8: =G26 -> 0.46381647 | AH8: =H26 -> -1.0924002 | AI8: =AE8+AG8 -> 0.33428664 | AJ8: =AF8+AH8 -> -1.1123035 | AK8: =AI8*Начало!$A$3/1000 -> 2.0057199 | AL8: =AJ8*Начало!$A$3/1000 -> -6.6738212 | AM8: =AN8/2 -> 49.140137 | AN8: =AK8*Начало!$H$5*1000 -> 98.280273 | AO8: =AD8+AM8 -> 1991.9086 | AP8: =AD8+AN8 -> 2041.0487 | AQ8: =G62 -> 0.46381647 | AR8: =H62 -> -1.0924002 | AS8: =G53 -> 0.6388389 | AT8: =H53 -> -0.40996679 | AU8: =AQ8+AS8 -> 1.1026554 | AV8: =AR8+AT8 -> -1.502367 | AW8: =AU8*Начало!$A$3/1000 -> 6.6159322 | AX8: =AV8*Начало!$A$3/1000 -> -9.014202 | AY8: =AZ8/2 -> 162.09034 | AZ8: =AW8*Начало!$H$5*1000 -> 324.18068 | BA8: =AP8+AY8 -> 2203.139 | BB8: =AP8+AZ8 -> 2365.2294
A9: 30 | B9: =Начало!O5 -> 7.3408484 | C9: =Начало!V5 -> 0.1123447 | D9: =Начало!Y5 -> 0.59 | E9: =Начало!X5 -> 0.80985305 | F9: =Начало!R5*Начало!$A$3/1000 -> 4.9482327 | G9: =B9*D9 -> 4.3311005 | H9: =B9*E9 -> 5.9450085 | I9: =B72*D72 -> 0.17094828 | J9: =B72*E72 -> 0.073294182 | K9: =G9+I9 -> 4.5020488 | L9: =H9+J9 -> 6.0183027 | M9: =K9*Начало!$A$3/1000 -> 27.012293 | N9: =L9*Начало!$A$3/1000 -> 36.109816 | O9: =P9/2 -> 661.80118 | P9: =M9*Начало!$H$5*1000 -> 1323.6024 | Q9: =O9 -> 661.80118 | R9: =P9 -> 1323.6024 | S9: =G18 -> 1.1636143 | T9: =H18 -> -1.032171 | U9: =I54 -> -0.68389945 | V9: =J54 -> -0.93874247 | W9: =S9+U9 -> 0.47971481 | X9: =T9+V9 -> -1.9709135 | Y9: =W9*Начало!$A$3/1000 -> 2.8782888 | Z9: =X9*Начало!$A$3/1000 -> -11.825481 | AA9: =AB9/2 -> 70.518077 | AB9: =Y9*Начало!$H$5*1000 -> 141.03615 | AC9: =R9+AA9 -> 1394.1204 | AD9: =R9+AB9 -> 1464.6385 | AE9: =G36 -> -0.32305172 | AF9: =H36 -> -0.13850863 | AG9: =G27 -> 0.65085748 | AH9: =H27 -> -1.0173209 | AI9: =AE9+AG9 -> 0.32780576 | AJ9: =AF9+AH9 -> -1.1558295 | AK9: =AI9*Начало!$A$3/1000 -> 1.9668346 | AL9: =AJ9*Начало!$A$3/1000 -> -6.934977 | AM9: =AN9/2 -> 48.187447 | AN9: =AK9*Начало!$H$5*1000 -> 96.374893 | AO9: =AD9+AM9 -> 1512.826 | AP9: =AD9+AN9 -> 1561.0134 | AQ9: =G63 -> 0.65085748 | AR9: =H63 -> -1.0173209 | AS9: =G54 -> 0.66961426 | AT9: =H54 -> -0.59397385 | AU9: =AQ9+AS9 -> 1.3204717 | AV9: =AR9+AT9 -> -1.6112947 | AW9: =AU9*Начало!$A$3/1000 -> 7.9228304 | AX9: =AV9*Начало!$A$3/1000 -> -9.6677683 | AY9: =AZ9/2 -> 194.10935 | AZ9: =AW9*Начало!$H$5*1000 -> 388.21869 | BA9: =AP9+AY9 -> 1755.1227 | BB9: =AP9+AZ9 -> 1949.2321
A10: 40 | B10: =Начало!O6 -> 4.6049846 | C10: =Начало!V6 -> 0.14695387 | D10: =Начало!Y6 -> 0.75 | E10: =Начало!X6 -> 0.67158432 | F10: =Начало!R6*Начало!$A$3/1000 -> 4.0603219 | G10: =B10*D10 -> 3.4537385 | H10: =B10*E10 -> 3.0926354 | I10: =B73*D73 -> 0.19512592 | J10: =B73*E73 -> 0.15412097 | K10: =G10+I10 -> 3.6488644 | L10: =H10+J10 -> 3.2467564 | M10: =K10*Начало!$A$3/1000 -> 21.893186 | N10: =L10*Начало!$A$3/1000 -> 19.480539 | O10: =P10/2 -> 536.38307 | P10: =M10*Начало!$H$5*1000 -> 1072.7661 | Q10: =O10 -> 536.38307 | R10: =P10 -> 1072.7661 | S10: =G19 -> 1.0137759 | T10: =H19 -> -1.2356482 | U10: =I55 -> -0.70876153 | V10: =J55 -> -0.63465751 | W10: =S10+U10 -> 0.30501432 | X10: =T10+V10 -> -1.8703057 | Y10: =W10*Начало!$A$3/1000 -> 1.8300859 | Z10: =X10*Начало!$A$3/1000 -> -11.221834 | AA10: =AB10/2 -> 44.837104 | AB10: =Y10*Начало!$H$5*1000 -> 89.674209 | AC10: =R10+AA10 -> 1117.6032 | AD10: =R10+AB10 -> 1162.4403 | AE10: =G37 -> -0.44487408 | AF10: =H37 -> -0.35138553 | AG10: =G28 -> 0.79207977 | AH10: =H28 -> -0.90878435 | AI10: =AE10+AG10 -> 0.34720569 | AJ10: =AF10+AH10 -> -1.2601699 | AK10: =AI10*Начало!$A$3/1000 -> 2.0832341 | AL10: =AJ10*Начало!$A$3/1000 -> -7.5610192 | AM10: =AN10/2 -> 51.039237 | AN10: =AK10*Начало!$H$5*1000 -> 102.07847 | AO10: =AD10+AM10 -> 1213.4796 | AP10: =AD10+AN10 -> 1264.5188 | AQ10: =G64 -> 0.79957977 | AR10: =H64 -> -0.91738939 | AS10: =G55 -> 0.62977585 | AT10: =H55 -> -0.76760694 | AU10: =AQ10+AS10 -> 1.4293556 | AV10: =AR10+AT10 -> -1.6849963 | AW10: =AU10*Начало!$A$3/1000 -> 8.5761337 | AX10: =AV10*Начало!$A$3/1000 -> -10.109978 | AY10: =AZ10/2 -> 210.11528 | AZ10: =AW10*Начало!$H$5*1000 -> 420.23055 | BA10: =AP10+AY10 -> 1474.6341 | BB10: =AP10+AZ10 -> 1684.7494
A11: 50 | B11: =Начало!O7 -> 3.3048843 | C11: =Начало!V7 -> 0.17920776 | D11: =Начало!Y7 -> 0.83 | E11: =Начало!X7 -> 0.5055065 | F11: =Начало!R7*Начало!$A$3/1000 -> 3.5535654 | G11: =B11*D11 -> 2.7430539 | H11: =B11*E11 -> 1.6706405 | I11: =B74*D74 -> 0.340592 | J11: =B74*E74 -> 0.4398774 | K11: =G11+I11 -> 3.0836459 | L11: =H11+J11 -> 2.1105179 | M11: =K11*Начало!$A$3/1000 -> 18.501876 | N11: =L11*Начало!$A$3/1000 -> 12.663107 | O11: =P11/2 -> 453.29595 | P11: =M11*Начало!$H$5*1000 -> 906.59191 | Q11: =O11 -> 453.29595 | R11: =P11 -> 906.59191 | S11: =G20 -> 0.8351753 | T11: =H20 -> -1.3820619 | U11: =I56 -> -0.57694607 | V11: =J56 -> -0.35138553 | W11: =S11+U11 -> 0.25822924 | X11: =T11+V11 -> -1.7334474 | Y11: =W11*Начало!$A$3/1000 -> 1.5493754 | Z11: =X11*Начало!$A$3/1000 -> -10.400684 | AA11: =AB11/2 -> 37.959698 | AB11: =Y11*Начало!$H$5*1000 -> 75.919396 | AC11: =R11+AA11 -> 944.5516 | AD11: =R11+AB11 -> 982.5113 | AE11: =G38 -> -0.491408 | AF11: =H38 -> -0.63465751 | AG11: =G29 -> 0.81674056 | AH11: =H29 -> -0.76760694 | AI11: =AE11+AG11 -> 0.32533256 | AJ11: =AF11+AH11 -> -1.4022644 | AK11: =AI11*Начало!$A$3/1000 -> 1.9519954 | AL11: =AJ11*Начало!$A$3/1000 -> -8.4135867 | AM11: =AN11/2 -> 47.823886 | AN11: =AK11*Начало!$H$5*1000 -> 95.647772 | AO11: =AD11+AM11 -> 1030.3352 | AP11: =AD11+AN11 -> 1078.1591 | AQ11: =G65 -> 0.83334056 | AR11: =H65 -> -0.78320831 | AS11: =G56 -> 0.5491753 | AT11: =H56 -> -0.90878435 | AU11: =AQ11+AS11 -> 1.3825159 | AV11: =AR11+AT11 -> -1.6919927 | AW11: =AU11*Начало!$A$3/1000 -> 8.2950952 | AX11: =AV11*Начало!$A$3/1000 -> -10.151956 | AY11: =AZ11/2 -> 203.22983 | AZ11: =AW11*Начало!$H$5*1000 -> 406.45966 | BA11: =AP11+AY11 -> 1281.3889 | BB11: =AP11+AZ11 -> 1484.6187
A12: 60 | B12: =Начало!O8 -> 2.2749319 | C12: =Начало!V8 -> 0.20109054 | D12: =Начало!Y8 -> 0.96 | E12: =Начало!X8 -> 0.32585048 | F12: =Начало!R8*Начало!$A$3/1000 -> 2.7448038 | G12: =B12*D12 -> 2.1839347 | H12: =B12*E12 -> 0.74128767 | I12: =B75*D75 -> 0.75693087 | J12: =B75*E75 -> 1.571802 | K12: =G12+I12 -> 2.9408655 | L12: =H12+J12 -> 2.3130897 | M12: =K12*Начало!$A$3/1000 -> 17.645193 | N12: =L12*Начало!$A$3/1000 -> 13.878538 | O12: =P12/2 -> 432.30723 | P12: =M12*Начало!$H$5*1000 -> 864.61447 | Q12: =O12 -> 432.30723 | R12: =P12 -> 864.61447 | S12: =G21 -> 0.62522783 | T12: =H21 -> -1.4784197 | U12: =I57 -> -0.40806534 | V12: =J57 -> -0.13850863 | W12: =S12+U12 -> 0.21716249 | X12: =T12+V12 -> -1.6169284 | Y12: =W12*Начало!$A$3/1000 -> 1.302975 | Z12: =X12*Начало!$A$3/1000 -> -9.7015703 | AA12: =AB12/2 -> 31.922886 | AB12: =Y12*Начало!$H$5*1000 -> 63.845773 | AC12: =R12+AA12 -> 896.53735 | AD12: =R12+AB12 -> 928.46024 | AE12: =G39 -> -0.45206913 | AF12: =H39 -> -0.93874247 | AG12: =G30 -> 0.84582854 | AH12: =H30 -> -0.59397385 | AI12: =AE12+AG12 -> 0.39375941 | AJ12: =AF12+AH12 -> -1.5327163 | AK12: =AI12*Начало!$A$3/1000 -> 2.3625564 | AL12: =AJ12*Начало!$A$3/1000 -> -9.1962979 | AM12: =AN12/2 -> 57.882633 | AN12: =AK12*Начало!$H$5*1000 -> 115.76527 | AO12: =AD12+AM12 -> 986.34287 | AP12: =AD12+AN12 -> 1044.2255 | AQ12: =G66 -> 0.87462854 | AR12: =H66 -> -0.61419834 | AS12: =G57 -> 0.43022783 | AT12: =H57 -> -1.0173209 | AU12: =AQ12+AS12 -> 1.3048564 | AV12: =AR12+AT12 -> -1.6315192 | AW12: =AU12*Начало!$A$3/1000 -> 7.8291382 | AX12: =AV12*Начало!$A$3/1000 -> -9.7891152 | AY12: =AZ12/2 -> 191.81389 | AZ12: =AW12*Начало!$H$5*1000 -> 383.62777 | BA12: =AP12+AY12 -> 1236.0394 | BB12: =AP12+AZ12 -> 1427.8533
A13: 70 | B13: =Начало!O9 -> 1.8493839 | C13: =Начало!V9 -> 0.21931541 | D13: =Начало!Y9 -> 1.01 | E13: =Начало!X9 -> 0.13593107 | F13: =Начало!R9*Начало!$A$3/1000 -> 2.4335904 | G13: =B13*D13 -> 1.8678778 | H13: =B13*E13 -> 0.25138873 | I13: =B76*D76 -> 1.0078953 | J13: =B76*E76 -> 3.5421158 | K13: =G13+I13 -> 2.8757731 | L13: =H13+J13 -> 3.7935045 | M13: =K13*Начало!$A$3/1000 -> 17.254639 | N13: =L13*Начало!$A$3/1000 -> 22.761027 | O13: =P13/2 -> 422.73864 | P13: =M13*Начало!$H$5*1000 -> 845.47729 | Q13: =O13 -> 422.73864 | R13: =P13 -> 845.47729 | S13: =G22 -> 0.41112751 | T13: =H22 -> -1.5269424 | U13: =I58 -> -0.15212223 | V13: =J58 -> -0.020473404 | W13: =S13+U13 -> 0.25900528 | X13: =T13+V13 -> -1.5474158 | Y13: =W13*Начало!$A$3/1000 -> 1.5540317 | Z13: =X13*Начало!$A$3/1000 -> -9.284495 | AA13: =AB13/2 -> 38.073777 | AB13: =Y13*Начало!$H$5*1000 -> 76.147553 | AC13: =R13+AA13 -> 883.55106 | AD13: =R13+AB13 -> 921.62484 | AE13: =G40 -> -0.34410468 | AF13: =H40 -> -1.2093107 | AG13: =G31 -> 0.75026429 | AH13: =H31 -> -0.40715522 | AI13: =AE13+AG13 -> 0.40615961 | AJ13: =AF13+AH13 -> -1.6164659 | AK13: =AI13*Начало!$A$3/1000 -> 2.4369577 | AL13: =AJ13*Начало!$A$3/1000 -> -9.6987956 | AM13: =AN13/2 -> 59.705463 | AN13: =AK13*Начало!$H$5*1000 -> 119.41093 | AO13: =AD13+AM13 -> 981.3303 | AP13: =AD13+AN13 -> 1041.0358 | AQ13: =G67 -> 0.79066429 | AR13: =H67 -> -0.42907959 | AS13: =G58 -> 0.29412751 | AT13: =H58 -> -1.0924002 | AU13: =AQ13+AS13 -> 1.0847918 | AV13: =AR13+AT13 -> -1.5214798 | AW13: =AU13*Начало!$A$3/1000 -> 6.5087508 | AX13: =AV13*Начало!$A$3/1000 -> -9.1288788 | AY13: =AZ13/2 -> 159.4644 | AZ13: =AW13*Начало!$H$5*1000 -> 318.92879 | BA13: =AP13+AY13 -> 1200.5002 | BB13: =AP13+AZ13 -> 1359.9646
A14: 80 | B14: =Начало!O10 -> 1.6137557 | C14: =Начало!V10 -> 0.23344335 | D14: =Начало!Y10 -> 1.02 | E14: =Начало!X10 -> -0.05624864 | F14: =Начало!R10*Начало!$A$3/1000 -> 2.2603232 | G14: =B14*D14 -> 1.6460308 | H14: =B14*E14 -> -0.090771564 | I14: =B77*D77 -> 0.77650811 | J14: =B77*E77 -> 5.842729 | K14: =G14+I14 -> 2.4225389 | L14: =H14+J14 -> 5.7519575 | M14: =K14*Начало!$A$3/1000 -> 14.535234 | N14: =L14*Начало!$A$3/1000 -> 34.511745 | O14: =P14/2 -> 356.11322 | P14: =M14*Начало!$H$5*1000 -> 712.22645 | Q14: =O14 -> 356.11322 | R14: =P14 -> 712.22645 | S14: =G23 -> 0.18794514 | T14: =H23 -> -1.4333683 | U14: =I59 -> 0.11603082 | V14: =J59 -> -0.0063986038 | W14: =S14+U14 -> 0.30397596 | X14: =T14+V14 -> -1.4397669 | Y14: =W14*Начало!$A$3/1000 -> 1.8238557 | Z14: =X14*Начало!$A$3/1000 -> -8.6386016 | AA14: =AB14/2 -> 44.684466 | AB14: =Y14*Начало!$H$5*1000 -> 89.368931 | AC14: =R14+AA14 -> 756.91091 | AD14: =R14+AB14 -> 801.59538 | AE14: =G41 -> -0.18549189 | AF14: =H41 -> -1.3957084 | AG14: =G32 -> 0.57872064 | AH14: =H32 -> -0.22896061 | AI14: =AE14+AG14 -> 0.39322875 | AJ14: =AF14+AH14 -> -1.624669 | AK14: =AI14*Начало!$A$3/1000 -> 2.3593725 | AL14: =AJ14*Начало!$A$3/1000 -> -9.7480138 | AM14: =AN14/2 -> 57.804626 | AN14: =AK14*Начало!$H$5*1000 -> 115.60925 | AO14: =AD14+AM14 -> 859.4 | AP14: =AD14+AN14 -> 917.20463 | AQ14: =G68 -> 0.62972064 | AR14: =H68 -> -0.24913786 | AS14: =G59 -> 0.14894514 | AT14: =H59 -> -1.1359338 | AU14: =AQ14+AS14 -> 0.77866578 | AV14: =AR14+AT14 -> -1.3850717 | AW14: =AU14*Начало!$A$3/1000 -> 4.6719947 | AX14: =AV14*Начало!$A$3/1000 -> -8.3104302 | AY14: =AZ14/2 -> 114.46387 | AZ14: =AW14*Начало!$H$5*1000 -> 228.92774 | BA14: =AP14+AY14 -> 1031.6685 | BB14: =AP14+AZ14 -> 1146.1324
A15: 90 | B15: =Начало!O11 -> 1.5560033 | C15: =Начало!V11 -> 0.23583719 | D15: =Начало!Y11 -> 1 | E15: =Начало!X11 -> -0.23583719 | F15: =Начало!R11*Начало!$A$3/1000 -> 2.2017808 | G15: =B15*D15 -> 1.5560033 | H15: =B15*E15 -> -0.36696346 | I15: =B6*D6 -> 0 | J15: =B6*E6 -> 12.337857 | K15: =G15+I15 -> 1.5560033 | L15: =H15+J15 -> 11.970894 | M15: =K15*Начало!$A$3/1000 -> 9.33602 | N15: =L15*Начало!$A$3/1000 -> 71.825363 | O15: =P15/2 -> 228.73249 | P15: =M15*Начало!$H$5*1000 -> 457.46498 | Q15: =O15 -> 228.73249 | R15: =P15 -> 457.46498 | S15: =G24 -> 0 | T15: =H24 -> -1.1501361 | U15: =I60 -> 0.35600333 | V15: =J60 -> -0.083958827 | W15: =S15+U15 -> 0.35600333 | X15: =T15+V15 -> -1.2340949 | Y15: =W15*Начало!$A$3/1000 -> 2.13602 | Z15: =X15*Начало!$A$3/1000 -> -7.4045697 | AA15: =AB15/2 -> 52.33249 | AB15: =Y15*Начало!$H$5*1000 -> 104.66498 | AC15: =R15+AA15 -> 509.79747 | AD15: =R15+AB15 -> 562.12996 | AE15: =G42 -> 0 | AF15: =H42 -> -1.4621428 | AG15: =G33 -> 0.35600333 | AH15: =H33 -> -0.083958827 | AI15: =AE15+AG15 -> 0.35600333 | AJ15: =AF15+AH15 -> -1.5461016 | AK15: =AI15*Начало!$A$3/1000 -> 2.13602 | AL15: =AJ15*Начало!$A$3/1000 -> -9.2766097 | AM15: =AN15/2 -> 52.33249 | AN15: =AK15*Начало!$H$5*1000 -> 104.66498 | AO15: =AD15+AM15 -> 614.46245 | AP15: =AD15+AN15 -> 666.79494 | AQ15: =G69 -> 0.55600333 | AR15: =H69 -> -0.13112627 | AS15: =G60 -> 0 | AT15: =H60 -> -1.1501361 | AU15: =AQ15+AS15 -> 0.55600333 | AV15: =AR15+AT15 -> -1.2812624 | AW15: =AU15*Начало!$A$3/1000 -> 3.33602 | AX15: =AV15*Начало!$A$3/1000 -> -7.6875743 | AY15: =AZ15/2 -> 81.73249 | AZ15: =AW15*Начало!$H$5*1000 -> 163.46498 | BA15: =AP15+AY15 -> 748.52743 | BB15: =AP15+AZ15 -> 830.25992
A16: 100 | B16: =Начало!O12 -> 1.6173732 | C16: =Начало!V12 -> 0.23344335 | D16: =Начало!Y12 -> 0.94 | E16: =Начало!X12 -> -0.403545 | F16: =Начало!R12*Начало!$A$3/1000 -> 2.26539 | G16: =B16*D16 -> 1.5203308 | H16: =B16*E16 -> -0.65268285 | I16: =B7*D7 -> 2.9973593 | J16: =B7*E7 -> 13.961517 | K16: =G16+I16 -> 4.51769 | L16: =H16+J16 -> 13.308834 | M16: =K16*Начало!$A$3/1000 -> 27.10614 | N16: =L16*Начало!$A$3/1000 -> 79.853004 | O16: =P16/2 -> 664.10044 | P16: =M16*Начало!$H$5*1000 -> 1328.2009 | Q16: =O16 -> 664.10044 | R16: =P16 -> 1328.2009 | S16: =G25 -> 0.24060368 | T16: =H25 -> -1.1359338 | U16: =I61 -> 0.53333079 | V16: =J61 -> -0.22896061 | W16: =S16+U16 -> 0.77393447 | X16: =T16+V16 -> -1.3648945 | Y16: =W16*Начало!$A$3/1000 -> 4.6436068 | Z16: =X16*Начало!$A$3/1000 -> -8.1893667 | AA16: =AB16/2 -> 113.76837 | AB16: =Y16*Начало!$H$5*1000 -> 227.53673 | AC16: =R16+AA16 -> 1441.9692 | AD16: =R16+AB16 -> 1555.7376 | AE16: =G43 -> -0.29964075 | AF16: =H43 -> -1.3957084 | AG16: =G34 -> 0.10693036 | AH16: =H34 -> -0.0063986038 | AI16: =AE16+AG16 -> -0.19271038 | AJ16: =AF16+AH16 -> -1.402107 | AK16: =AI16*Начало!$A$3/1000 -> -1.1562623 | AL16: =AJ16*Начало!$A$3/1000 -> -8.4126418 | AM16: =AN16/2 -> -28.328426 | AN16: =AK16*Начало!$H$5*1000 -> -56.656852 | AO16: =AD16+AM16 -> 1527.4092 | AP16: =AD16+AN16 -> 1499.0808 | AQ16: =G70 -> 0.38893036 | AR16: =H70 -> -0.023273196 | AS16: =G61 -> 0.24060368 | AT16: =H61 -> -1.1359338 | AU16: =AQ16+AS16 -> 0.62953405 | AV16: =AR16+AT16 -> -1.159207 | AW16: =AU16*Начало!$A$3/1000 -> 3.7772043 | AX16: =AV16*Начало!$A$3/1000 -> -6.9552423 | AY16: =AZ16/2 -> 92.541505 | AZ16: =AW16*Начало!$H$5*1000 -> 185.08301 | BA16: =AP16+AY16 -> 1591.6223 | BB16: =AP16+AZ16 -> 1684.1638
A17: 110 | B17: =Начало!O13 -> 1.5428359 | C17: =Начало!V13 -> 0.22334324 | D17: =Начало!Y13 -> 0.86 | E17: =Начало!X13 -> -0.55189413 | F17: =Начало!R13*Начало!$A$3/1000 -> 2.0674918 | G17: =B17*D17 -> 1.3268389 | H17: =B17*E17 -> -0.8514821 | I17: =B8*D8 -> 5.5663734 | J17: =B8*E8 -> 12.405354 | K17: =G17+I17 -> 6.8932123 | L17: =H17+J17 -> 11.553871 | M17: =K17*Начало!$A$3/1000 -> 41.359274 | N17: =L17*Начало!$A$3/1000 -> 69.323229 | O17: =P17/2 -> 1013.3022 | P17: =M17*Начало!$H$5*1000 -> 2026.6044 | Q17: =O17 -> 1013.3022 | R17: =P17 -> 2026.6044 | S17: =G26 -> 0.46381647 | T17: =H26 -> -1.0924002 | U17: =I62 -> 0.6388389 | V17: =J62 -> -0.40996679 | W17: =S17+U17 -> 1.1026554 | X17: =T17+V17 -> -1.502367 | Y17: =W17*Начало!$A$3/1000 -> 6.6159322 | Z17: =X17*Начало!$A$3/1000 -> -9.014202 | AA17: =AB17/2 -> 162.09034 | AB17: =Y17*Начало!$H$5*1000 -> 324.18068 | AC17: =R17+AA17 -> 2188.6948 | AD17: =R17+AB17 -> 2350.7851 | AE17: =G44 -> -0.54262661 | AF17: =H44 -> -1.2093107 | AG17: =G35 -> -0.12952982 | AH17: =H35 -> -0.019903334 | AI17: =AE17+AG17 -> -0.67215643 | AJ17: =AF17+AH17 -> -1.229214 | AK17: =AI17*Начало!$A$3/1000 -> -4.0329386 | AL17: =AJ17*Начало!$A$3/1000 -> -7.3752843 | AM17: =AN17/2 -> -98.806995 | AN17: =AK17*Начало!$H$5*1000 -> -197.61399 | AO17: =AD17+AM17 -> 2251.9781 | AP17: =AD17+AN17 -> 2153.1711 | AQ17: =G71 -> 0.25747018 | AR17: =H71 -> 0.039562434 | AS17: =G62 -> 0.46381647 | AT17: =H62 -> -1.0924002 | AU17: =AQ17+AS17 -> 0.72128664 | AV17: =AR17+AT17 -> -1.0528378 | AW17: =AU17*Начало!$A$3/1000 -> 4.3277199 | AX17: =AV17*Начало!$A$3/1000 -> -6.3170266 | AY17: =AZ17/2 -> 106.02914 | AZ17: =AW17*Начало!$H$5*1000 -> 212.05827 | BA17: =AP17+AY17 -> 2259.2002 | BB17: =AP17+AZ17 -> 2365.2294
A18: 120 | B18: =Начало!O14 -> 1.5310714 | C18: =Начало!V14 -> 0.20109054 | D18: =Начало!Y14 -> 0.76 | E18: =Начало!X14 -> -0.67414952 | F18: =Начало!R14*Начало!$A$3/1000 -> 1.8473038 | G18: =B18*D18 -> 1.1636143 | H18: =B18*E18 -> -1.032171 | I18: =B9*D9 -> 4.3311005 | J18: =B9*E9 -> 5.9450085 | K18: =G18+I18 -> 5.4947148 | L18: =H18+J18 -> 4.9128374 | M18: =K18*Начало!$A$3/1000 -> 32.968289 | N18: =L18*Начало!$A$3/1000 -> 29.477025 | O18: =P18/2 -> 807.72308 | P18: =M18*Начало!$H$5*1000 -> 1615.4462 | Q18: =O18 -> 807.72308 | R18: =P18 -> 1615.4462 | S18: =G27 -> 0.65085748 | T18: =H27 -> -1.0173209 | U18: =I63 -> 0.66961426 | V18: =J63 -> -0.59397385 | W18: =S18+U18 -> 1.3204717 | X18: =T18+V18 -> -1.6112947 | Y18: =W18*Начало!$A$3/1000 -> 7.9228304 | Z18: =X18*Начало!$A$3/1000 -> -9.6677683 | AA18: =AB18/2 -> 194.10935 | AB18: =Y18*Начало!$H$5*1000 -> 388.21869 | AC18: =R18+AA18 -> 1809.5555 | AD18: =R18+AB18 -> 2003.6648 | AE18: =G45 -> -0.68389945 | AF18: =H45 -> -0.93874247 | AG18: =G36 -> -0.32305172 | AH18: =H36 -> -0.13850863 | AI18: =AE18+AG18 -> -1.0069512 | AJ18: =AF18+AH18 -> -1.0772511 | AK18: =AI18*Начало!$A$3/1000 -> -6.041707 | AL18: =AJ18*Начало!$A$3/1000 -> -6.4635066 | AM18: =AN18/2 -> -148.02182 | AN18: =AK18*Начало!$H$5*1000 -> -296.04365 | AO18: =AD18+AM18 -> 1855.643 | AP18: =AD18+AN18 -> 1707.6212 | AQ18: =G72 -> 0.17094828 | AR18: =H72 -> 0.073294182 | AS18: =G63 -> 0.65085748 | AT18: =H63 -> -1.0173209 | AU18: =AQ18+AS18 -> 0.82180576 | AV18: =AR18+AT18 -> -0.94402668 | AW18: =AU18*Начало!$A$3/1000 -> 4.9308346 | AX18: =AV18*Начало!$A$3/1000 -> -5.6641601 | AY18: =AZ18/2 -> 120.80545 | AZ18: =AW18*Начало!$H$5*1000 -> 241.61089 | BA18: =AP18+AY18 -> 1828.4266 | BB18: =AP18+AZ18 -> 1949.2321
A19: 130 | B19: =Начало!O15 -> 1.5840248 | C19: =Начало!V15 -> 0.17920776 | D19: =Начало!Y15 -> 0.64 | E19: =Начало!X15 -> -0.78006872 | F19: =Начало!R15*Начало!$A$3/1000 -> 1.7032171 | G19: =B19*D19 -> 1.0137759 | H19: =B19*E19 -> -1.2356482 | I19: =B10*D10 -> 3.4537385 | J19: =B10*E10 -> 3.0926354 | K19: =G19+I19 -> 4.4675143 | L19: =H19+J19 -> 1.8569873 | M19: =K19*Начало!$A$3/1000 -> 26.805086 | N19: =L19*Начало!$A$3/1000 -> 11.141924 | O19: =P19/2 -> 656.7246 | P19: =M19*Начало!$H$5*1000 -> 1313.4492 | Q19: =O19 -> 656.7246 | R19: =P19 -> 1313.4492 | S19: =G28 -> 0.79207977 | T19: =H28 -> -0.90878435 | U19: =I64 -> 0.62977585 | V19: =J64 -> -0.76760694 | W19: =S19+U19 -> 1.4218556 | X19: =T19+V19 -> -1.6763913 | Y19: =W19*Начало!$A$3/1000 -> 8.5311337 | Z19: =X19*Начало!$A$3/1000 -> -10.058348 | AA19: =AB19/2 -> 209.01278 | AB19: =Y19*Начало!$H$5*1000 -> 418.02555 | AC19: =R19+AA19 -> 1522.462 | AD19: =R19+AB19 -> 1731.4748 | AE19: =G46 -> -0.70876153 | AF19: =H46 -> -0.63465751 | AG19: =G37 -> -0.44487408 | AH19: =H37 -> -0.35138553 | AI19: =AE19+AG19 -> -1.1536356 | AJ19: =AF19+AH19 -> -0.98604304 | AK19: =AI19*Начало!$A$3/1000 -> -6.9218137 | AL19: =AJ19*Начало!$A$3/1000 -> -5.9162582 | AM19: =AN19/2 -> -169.58443 | AN19: =AK19*Начало!$H$5*1000 -> -339.16887 | AO19: =AD19+AM19 -> 1561.8903 | AP19: =AD19+AN19 -> 1392.3059 | AQ19: =G73 -> 0.19512592 | AR19: =H73 -> 0.15412097 | AS19: =G64 -> 0.79957977 | AT19: =H64 -> -0.91738939 | AU19: =AQ19+AS19 -> 0.99470569 | AV19: =AR19+AT19 -> -0.76326842 | AW19: =AU19*Начало!$A$3/1000 -> 5.9682341 | AX19: =AV19*Начало!$A$3/1000 -> -4.5796105 | AY19: =AZ19/2 -> 146.22174 | AZ19: =AW19*Начало!$H$5*1000 -> 292.44347 | BA19: =AP19+AY19 -> 1538.5276 | BB19: =AP19+AZ19 -> 1684.7494
A20: 140 | B20: =Начало!O16 -> 1.6061064 | C20: =Начало!V16 -> 0.14695387 | D20: =Начало!Y16 -> 0.52 | E20: =Начало!X16 -> -0.86050457 | F20: =Начало!R16*Начало!$A$3/1000 -> 1.4161413 | G20: =B20*D20 -> 0.8351753 | H20: =B20*E20 -> -1.3820619 | I20: =B11*D11 -> 2.7430539 | J20: =B11*E11 -> 1.6706405 | K20: =G20+I20 -> 3.5782292 | L20: =H20+J20 -> 0.28857863 | M20: =K20*Начало!$A$3/1000 -> 21.469375 | N20: =L20*Начало!$A$3/1000 -> 1.7314718 | O20: =P20/2 -> 525.9997 | P20: =M20*Начало!$H$5*1000 -> 1051.9994 | Q20: =O20 -> 525.9997 | R20: =P20 -> 1051.9994 | S20: =G29 -> 0.81674056 | T20: =H29 -> -0.76760694 | U20: =I65 -> 0.5491753 | V20: =J65 -> -0.90878435 | W20: =S20+U20 -> 1.3659159 | X20: =T20+V20 -> -1.6763913 | Y20: =W20*Начало!$A$3/1000 -> 8.1954952 | Z20: =X20*Начало!$A$3/1000 -> -10.058348 | AA20: =AB20/2 -> 200.78963 | AB20: =Y20*Начало!$H$5*1000 -> 401.57926 | AC20: =R20+AA20 -> 1252.789 | AD20: =R20+AB20 -> 1453.5787 | AE20: =G47 -> -0.57694607 | AF20: =H47 -> -0.35138553 | AG20: =G38 -> -0.491408 | AH20: =H38 -> -0.63465751 | AI20: =AE20+AG20 -> -1.0683541 | AJ20: =AF20+AH20 -> -0.98604304 | AK20: =AI20*Начало!$A$3/1000 -> -6.4101244 | AL20: =AJ20*Начало!$A$3/1000 -> -5.9162582 | AM20: =AN20/2 -> -157.04805 | AN20: =AK20*Начало!$H$5*1000 -> -314.09609 | AO20: =AD20+AM20 -> 1296.5306 | AP20: =AD20+AN20 -> 1139.4826 | AQ20: =G74 -> 0.340592 | AR20: =H74 -> 0.4398774 | AS20: =G65 -> 0.83334056 | AT20: =H65 -> -0.78320831 | AU20: =AQ20+AS20 -> 1.1739326 | AV20: =AR20+AT20 -> -0.34333091 | AW20: =AU20*Начало!$A$3/1000 -> 7.0435954 | AX20: =AV20*Начало!$A$3/1000 -> -2.0599855 | AY20: =AZ20/2 -> 172.56809 | AZ20: =AW20*Начало!$H$5*1000 -> 345.13617 | BA20: =AP20+AY20 -> 1312.0507 | BB20: =AP20+AZ20 -> 1484.6187
A21: 150 | B21: =Начало!O17 -> 1.6031483 | C21: =Начало!V17 -> 0.1123447 | D21: =Начало!Y17 -> 0.39 | E21: =Начало!X17 -> -0.92219776 | F21: =Начало!R17*Начало!$A$3/1000 -> 1.0806313 | G21: =B21*D21 -> 0.62522783 | H21: =B21*E21 -> -1.4784197 | I21: =B12*D12 -> 2.1839347 | J21: =B12*E12 -> 0.74128767 | K21: =G21+I21 -> 2.8091625 | L21: =H21+J21 -> -0.73713207 | M21: =K21*Начало!$A$3/1000 -> 16.854975 | N21: =L21*Начало!$A$3/1000 -> -4.4227924 | O21: =P21/2 -> 412.94689 | P21: =M21*Начало!$H$5*1000 -> 825.89377 | Q21: =O21 -> 412.94689 | R21: =P21 -> 825.89377 | S21: =G30 -> 0.84582854 | T21: =H30 -> -0.59397385 | U21: =I66 -> 0.43022783 | V21: =J66 -> -1.0173209 | W21: =S21+U21 -> 1.2760564 | X21: =T21+V21 -> -1.6112947 | Y21: =W21*Начало!$A$3/1000 -> 7.6563382 | Z21: =X21*Начало!$A$3/1000 -> -9.6677683 | AA21: =AB21/2 -> 187.58029 | AB21: =Y21*Начало!$H$5*1000 -> 375.16057 | AC21: =R21+AA21 -> 1013.4741 | AD21: =R21+AB21 -> 1201.0543 | AE21: =G48 -> -0.40806534 | AF21: =H48 -> -0.13850863 | AG21: =G39 -> -0.45206913 | AH21: =H39 -> -0.93874247 | AI21: =AE21+AG21 -> -0.86013446 | AJ21: =AF21+AH21 -> -1.0772511 | AK21: =AI21*Начало!$A$3/1000 -> -5.1608068 | AL21: =AJ21*Начало!$A$3/1000 -> -6.4635066 | AM21: =AN21/2 -> -126.43977 | AN21: =AK21*Начало!$H$5*1000 -> -252.87953 | AO21: =AD21+AM21 -> 1074.6146 | AP21: =AD21+AN21 -> 948.17481 | AQ21: =G75 -> 0.75693087 | AR21: =H75 -> 1.571802 | AS21: =G66 -> 0.87462854 | AT21: =H66 -> -0.61419834 | AU21: =AQ21+AS21 -> 1.6315594 | AV21: =AR21+AT21 -> 0.95760365 | AW21: =AU21*Начало!$A$3/1000 -> 9.7893564 | AX21: =AV21*Начало!$A$3/1000 -> 5.7456219 | AY21: =AZ21/2 -> 239.83923 | AZ21: =AW21*Начало!$H$5*1000 -> 479.67847 | BA21: =AP21+AY21 -> 1188.014 | BB21: =AP21+AZ21 -> 1427.8533
A22: 160 | B22: =Начало!O18 -> 1.5812597 | C22: =Начало!V18 -> 0.075892493 | D22: =Начало!Y18 -> 0.26 | E22: =Начало!X18 -> -0.96564938 | F22: =Начало!R18*Начало!$A$3/1000 -> 0.72003443 | G22: =B22*D22 -> 0.41112751 | H22: =B22*E22 -> -1.5269424 | I22: =B13*D13 -> 1.8678778 | J22: =B13*E13 -> 0.25138873 | K22: =G22+I22 -> 2.2790053 | L22: =H22+J22 -> -1.2755537 | M22: =K22*Начало!$A$3/1000 -> 13.674032 | N22: =L22*Начало!$A$3/1000 -> -7.6533222 | O22: =P22/2 -> 335.01378 | P22: =M22*Начало!$H$5*1000 -> 670.02755 | Q22: =O22 -> 335.01378 | R22: =P22 -> 670.02755 | S22: =G31 -> 0.75026429 | T22: =H31 -> -0.40715522 | U22: =I67 -> 0.29412751 | V22: =J67 -> -1.0924002 | W22: =S22+U22 -> 1.0443918 | X22: =T22+V22 -> -1.4995554 | Y22: =W22*Начало!$A$3/1000 -> 6.2663508 | Z22: =X22*Начало!$A$3/1000 -> -8.9973326 | AA22: =AB22/2 -> 153.5256 | AB22: =Y22*Начало!$H$5*1000 -> 307.05119 | AC22: =R22+AA22 -> 823.55315 | AD22: =R22+AB22 -> 977.07874 | AE22: =G49 -> -0.15212223 | AF22: =H49 -> -0.020473404 | AG22: =G40 -> -0.34410468 | AH22: =H40 -> -1.2093107 | AI22: =AE22+AG22 -> -0.49622691 | AJ22: =AF22+AH22 -> -1.2297841 | AK22: =AI22*Начало!$A$3/1000 -> -2.9773615 | AL22: =AJ22*Начало!$A$3/1000 -> -7.3787047 | AM22: =AN22/2 -> -72.945356 | AN22: =AK22*Начало!$H$5*1000 -> -145.89071 | AO22: =AD22+AM22 -> 904.13339 | AP22: =AD22+AN22 -> 831.18803 | AQ22: =G76 -> 1.0078953 | AR22: =H76 -> 3.5421158 | AS22: =G67 -> 0.79066429 | AT22: =H67 -> -0.42907959 | AU22: =AQ22+AS22 -> 1.7985596 | AV22: =AR22+AT22 -> 3.1130362 | AW22: =AU22*Начало!$A$3/1000 -> 10.791358 | AX22: =AV22*Начало!$A$3/1000 -> 18.678217 | AY22: =AZ22/2 -> 264.38826 | AZ22: =AW22*Начало!$H$5*1000 -> 528.77653 | BA22: =AP22+AY22 -> 1095.5763 | BB22: =AP22+AZ22 -> 1359.9646
A23: 170 | B23: =Начало!O19 -> 1.4457318 | C23: =Начало!V19 -> 0.038241336 | D23: =Начало!Y19 -> 0.13 | E23: =Начало!X19 -> -0.99144829 | F23: =Начало!R19*Начало!$A$3/1000 -> 0.33172029 | G23: =B23*D23 -> 0.18794514 | H23: =B23*E23 -> -1.4333683 | I23: =B14*D14 -> 1.6460308 | J23: =B14*E14 -> -0.090771564 | K23: =G23+I23 -> 1.833976 | L23: =H23+J23 -> -1.5241399 | M23: =K23*Начало!$A$3/1000 -> 11.003856 | N23: =L23*Начало!$A$3/1000 -> -9.1448394 | O23: =P23/2 -> 269.59447 | P23: =M23*Начало!$H$5*1000 -> 539.18893 | Q23: =O23 -> 269.59447 | R23: =P23 -> 539.18893 | S23: =G32 -> 0.57872064 | T23: =H32 -> -0.22896061 | U23: =I68 -> 0.14894514 | V23: =J68 -> -1.1359338 | W23: =S23+U23 -> 0.72766578 | X23: =T23+V23 -> -1.3648945 | Y23: =W23*Начало!$A$3/1000 -> 4.3659947 | Z23: =X23*Начало!$A$3/1000 -> -8.1893667 | AA23: =AB23/2 -> 106.96687 | AB23: =Y23*Начало!$H$5*1000 -> 213.93374 | AC23: =R23+AA23 -> 646.1558 | AD23: =R23+AB23 -> 753.12267 | AE23: =G50 -> 0.11603082 | AF23: =H50 -> -0.0063986038 | AG23: =G41 -> -0.18549189 | AH23: =H41 -> -1.3957084 | AI23: =AE23+AG23 -> -0.06946107 | AJ23: =AF23+AH23 -> -1.402107 | AK23: =AI23*Начало!$A$3/1000 -> -0.41676642 | AL23: =AJ23*Начало!$A$3/1000 -> -8.4126418 | AM23: =AN23/2 -> -10.210777 | AN23: =AK23*Начало!$H$5*1000 -> -20.421555 | AO23: =AD23+AM23 -> 742.91189 | AP23: =AD23+AN23 -> 732.70112 | AQ23: =G77 -> 0.77650811 | AR23: =H77 -> 5.842729 | AS23: =G68 -> 0.62972064 | AT23: =H68 -> -0.24913786 | AU23: =AQ23+AS23 -> 1.4062288 | AV23: =AR23+AT23 -> 5.5935912 | AW23: =AU23*Начало!$A$3/1000 -> 8.4373725 | AX23: =AV23*Начало!$A$3/1000 -> 33.561547 | AY23: =AZ23/2 -> 206.71563 | AZ23: =AW23*Начало!$H$5*1000 -> 413.43125 | BA23: =AP23+AY23 -> 939.41674 | BB23: =AP23+AZ23 -> 1146.1324
A24: 180 | B24: =Начало!O20 -> 1.1501361 | C24: =Начало!V20 -> 0 | D24: =Начало!Y20 -> 0 | E24: =Начало!X20 -> -1 | F24: =Начало!R20*Начало!$A$3/1000 -> 0 | G24: =B24*D24 -> 0 | H24: =B24*E24 -> -1.1501361 | I24: =B15*D15 -> 1.5560033 | J24: =B15*E15 -> -0.36696346 | K24: =G24+I24 -> 1.5560033 | L24: =H24+J24 -> -1.5170996 | M24: =K24*Начало!$A$3/1000 -> 9.33602 | N24: =L24*Начало!$A$3/1000 -> -9.1025975 | O24: =P24/2 -> 228.73249 | P24: =M24*Начало!$H$5*1000 -> 457.46498 | Q24: =O24 -> 228.73249 | R24: =P24 -> 457.46498 | S24: =G33 -> 0.35600333 | T24: =H33 -> -0.083958827 | U24: =I69 -> 0 | V24: =J69 -> -1.1501361 | W24: =S24+U24 -> 0.35600333 | X24: =T24+V24 -> -1.2340949 | Y24: =W24*Начало!$A$3/1000 -> 2.13602 | Z24: =X24*Начало!$A$3/1000 -> -7.4045697 | AA24: =AB24/2 -> 52.33249 | AB24: =Y24*Начало!$H$5*1000 -> 104.66498 | AC24: =R24+AA24 -> 509.79747 | AD24: =R24+AB24 -> 562.12996 | AE24: =G51 -> 0.35600333 | AF24: =H51 -> -0.083958827 | AG24: =G42 -> 0 | AH24: =H42 -> -1.4621428 | AI24: =AE24+AG24 -> 0.35600333 | AJ24: =AF24+AH24 -> -1.5461016 | AK24: =AI24*Начало!$A$3/1000 -> 2.13602 | AL24: =AJ24*Начало!$A$3/1000 -> -9.2766097 | AM24: =AN24/2 -> 52.33249 | AN24: =AK24*Начало!$H$5*1000 -> 104.66498 | AO24: =AD24+AM24 -> 614.46245 | AP24: =AD24+AN24 -> 666.79494 | AQ24: =G6 -> 0 | AR24: =H6 -> 12.337857 | AS24: =G69 -> 0.55600333 | AT24: =H69 -> -0.13112627 | AU24: =AQ24+AS24 -> 0.55600333 | AV24: =AR24+AT24 -> 12.206731 | AW24: =AU24*Начало!$A$3/1000 -> 3.33602 | AX24: =AV24*Начало!$A$3/1000 -> 73.240386 | AY24: =AZ24/2 -> 81.73249 | AZ24: =AW24*Начало!$H$5*1000 -> 163.46498 | BA24: =AP24+AY24 -> 748.52743 | BB24: =AP24+AZ24 -> 830.25992
A25: 190 | B25: =Начало!O21 -> 1.1457318 | C25: =Начало!V21 -> -0.038241336 | D25: =Начало!Y21 -> 0.21 | E25: =Начало!X21 -> -0.99144829 | F25: =Начало!R21*Начало!$A$3/1000 -> -0.26288589 | G25: =B25*D25 -> 0.24060368 | H25: =B25*E25 -> -1.1359338 | I25: =B16*D16 -> 1.5203308 | J25: =B16*E16 -> -0.65268285 | K25: =G25+I25 -> 1.7609345 | L25: =H25+J25 -> -1.7886167 | M25: =K25*Начало!$A$3/1000 -> 10.565607 | N25: =L25*Начало!$A$3/1000 -> -10.7317 | O25: =P25/2 -> 258.85737 | P25: =M25*Начало!$H$5*1000 -> 517.71473 | Q25: =O25 -> 258.85737 | R25: =P25 -> 517.71473 | S25: =G34 -> 0.10693036 | T25: =H34 -> -0.0063986038 | U25: =I70 -> 0.24060368 | V25: =J70 -> -1.1359338 | W25: =S25+U25 -> 0.34753405 | X25: =T25+V25 -> -1.1423325 | Y25: =W25*Начало!$A$3/1000 -> 2.0852043 | Z25: =X25*Начало!$A$3/1000 -> -6.8539947 | AA25: =AB25/2 -> 51.087505 | AB25: =Y25*Начало!$H$5*1000 -> 102.17501 | AC25: =R25+AA25 -> 568.80224 | AD25: =R25+AB25 -> 619.88974 | AE25: =G52 -> 0.53333079 | AF25: =H52 -> -0.22896061 | AG25: =G43 -> -0.29964075 | AH25: =H43 -> -1.3957084 | AI25: =AE25+AG25 -> 0.23369004 | AJ25: =AF25+AH25 -> -1.624669 | AK25: =AI25*Начало!$A$3/1000 -> 1.4021402 | AL25: =AJ25*Начало!$A$3/1000 -> -9.7480138 | AM25: =AN25/2 -> 34.352436 | AN25: =AK25*Начало!$H$5*1000 -> 68.704872 | AO25: =AD25+AM25 -> 654.24218 | AP25: =AD25+AN25 -> 688.59461 | AQ25: =G7 -> 2.9973593 | AR25: =H7 -> 13.961517 | AS25: =G70 -> 0.38893036 | AT25: =H70 -> -0.023273196 | AU25: =AQ25+AS25 -> 3.3862896 | AV25: =AR25+AT25 -> 13.938244 | AW25: =AU25*Начало!$A$3/1000 -> 20.317738 | AX25: =AV25*Начало!$A$3/1000 -> 83.629462 | AY25: =AZ25/2 -> 497.78457 | AZ25: =AW25*Начало!$H$5*1000 -> 995.56915 | BA25: =AP25+AY25 -> 1186.3792 | BB25: =AP25+AZ25 -> 1684.1638
A26: 200 | B26: =Начало!O22 -> 1.1312597 | C26: =Начало!V22 -> -0.075892493 | D26: =Начало!Y22 -> 0.41 | E26: =Начало!X22 -> -0.96564938 | F26: =Начало!R22*Начало!$A$3/1000 -> -0.5151247 | G26: =B26*D26 -> 0.46381647 | H26: =B26*E26 -> -1.0924002 | I26: =B17*D17 -> 1.3268389 | J26: =B17*E17 -> -0.8514821 | K26: =G26+I26 -> 1.7906554 | L26: =H26+J26 -> -1.9438823 | M26: =K26*Начало!$A$3/1000 -> 10.743932 | N26: =L26*Начало!$A$3/1000 -> -11.663294 | O26: =P26/2 -> 263.22634 | P26: =M26*Начало!$H$5*1000 -> 526.45268 | Q26: =O26 -> 263.22634 | R26: =P26 -> 526.45268 | S26: =G35 -> -0.12952982 | T26: =H35 -> -0.019903334 | U26: =I71 -> 0.46381647 | V26: =J71 -> -1.0924002 | W26: =S26+U26 -> 0.33428664 | X26: =T26+V26 -> -1.1123035 | Y26: =W26*Начало!$A$3/1000 -> 2.0057199 | Z26: =X26*Начало!$A$3/1000 -> -6.6738212 | AA26: =AB26/2 -> 49.140137 | AB26: =Y26*Начало!$H$5*1000 -> 98.280273 | AC26: =R26+AA26 -> 575.59281 | AD26: =R26+AB26 -> 624.73295 | AE26: =G53 -> 0.6388389 | AF26: =H53 -> -0.40996679 | AG26: =G44 -> -0.54262661 | AH26: =H44 -> -1.2093107 | AI26: =AE26+AG26 -> 0.096212293 | AJ26: =AF26+AH26 -> -1.6192775 | AK26: =AI26*Начало!$A$3/1000 -> 0.57727376 | AL26: =AJ26*Начало!$A$3/1000 -> -9.715665 | AM26: =AN26/2 -> 14.143207 | AN26: =AK26*Начало!$H$5*1000 -> 28.286414 | AO26: =AD26+AM26 -> 638.87616 | AP26: =AD26+AN26 -> 653.01937 | AQ26: =G8 -> 5.5663734 | AR26: =H8 -> 12.405354 | AS26: =G71 -> 0.25747018 | AT26: =H71 -> 0.039562434 | AU26: =AQ26+AS26 -> 5.8238436 | AV26: =AR26+AT26 -> 12.444916 | AW26: =AU26*Начало!$A$3/1000 -> 34.943061 | AX26: =AV26*Начало!$A$3/1000 -> 74.669496 | AY26: =AZ26/2 -> 856.105 | AZ26: =AW26*Начало!$H$5*1000 -> 1712.21 | BA26: =AP26+AY26 -> 1509.1244 | BB26: =AP26+AZ26 -> 2365.2294
A27: 210 | B27: =Начало!O23 -> 1.1031483 | C27: =Начало!V23 -> -0.1123447 | D27: =Начало!Y23 -> 0.59 | E27: =Начало!X23 -> -0.92219776 | F27: =Начало!R23*Начало!$A$3/1000 -> -0.7435972 | G27: =B27*D27 -> 0.65085748 | H27: =B27*E27 -> -1.0173209 | I27: =B18*D18 -> 1.1636143 | J27: =B18*E18 -> -1.032171 | K27: =G27+I27 -> 1.8144717 | L27: =H27+J27 -> -2.0494919 | M27: =K27*Начало!$A$3/1000 -> 10.88683 | N27: =L27*Начало!$A$3/1000 -> -12.296951 | O27: =P27/2 -> 266.72735 | P27: =M27*Начало!$H$5*1000 -> 533.45469 | Q27: =O27 -> 266.72735 | R27: =P27 -> 533.45469 | S27: =G36 -> -0.32305172 | T27: =H36 -> -0.13850863 | U27: =I72 -> 0.65085748 | V27: =J72 -> -1.0173209 | W27: =S27+U27 -> 0.32780576 | X27: =T27+V27 -> -1.1558295 | Y27: =W27*Начало!$A$3/1000 -> 1.9668346 | Z27: =X27*Начало!$A$3/1000 -> -6.934977 | AA27: =AB27/2 -> 48.187447 | AB27: =Y27*Начало!$H$5*1000 -> 96.374893 | AC27: =R27+AA27 -> 581.64214 | AD27: =R27+AB27 -> 629.82959 | AE27: =G54 -> 0.66961426 | AF27: =H54 -> -0.59397385 | AG27: =G45 -> -0.68389945 | AH27: =H45 -> -0.93874247 | AI27: =AE27+AG27 -> -0.014285193 | AJ27: =AF27+AH27 -> -1.5327163 | AK27: =AI27*Начало!$A$3/1000 -> -0.085711158 | AL27: =AJ27*Начало!$A$3/1000 -> -9.1962979 | AM27: =AN27/2 -> -2.0999234 | AN27: =AK27*Начало!$H$5*1000 -> -4.1998468 | AO27: =AD27+AM27 -> 627.72966 | AP27: =AD27+AN27 -> 625.62974 | AQ27: =G9 -> 4.3311005 | AR27: =H9 -> 5.9450085 | AS27: =G72 -> 0.17094828 | AT27: =H72 -> 0.073294182 | AU27: =AQ27+AS27 -> 4.5020488 | AV27: =AR27+AT27 -> 6.0183027 | AW27: =AU27*Начало!$A$3/1000 -> 27.012293 | AX27: =AV27*Начало!$A$3/1000 -> 36.109816 | AY27: =AZ27/2 -> 661.80118 | AZ27: =AW27*Начало!$H$5*1000 -> 1323.6024 | BA27: =AP27+AY27 -> 1287.4309 | BB27: =AP27+AZ27 -> 1949.2321
A28: 220 | B28: =Начало!O24 -> 1.0561064 | C28: =Начало!V24 -> -0.14695387 | D28: =Начало!Y24 -> 0.75 | E28: =Начало!X24 -> -0.86050457 | F28: =Начало!R24*Начало!$A$3/1000 -> -0.9311935 | G28: =B28*D28 -> 0.79207977 | H28: =B28*E28 -> -0.90878435 | I28: =B19*D19 -> 1.0137759 | J28: =B19*E19 -> -1.2356482 | K28: =G28+I28 -> 1.8058556 | L28: =H28+J28 -> -2.1444325 | M28: =K28*Начало!$A$3/1000 -> 10.835134 | N28: =L28*Начало!$A$3/1000 -> -12.866595 | O28: =P28/2 -> 265.46078 | P28: =M28*Начало!$H$5*1000 -> 530.92155 | Q28: =O28 -> 265.46078 | R28: =P28 -> 530.92155 | S28: =G37 -> -0.44487408 | T28: =H37 -> -0.35138553 | U28: =I73 -> 0.79957977 | V28: =J73 -> -0.91738939 | W28: =S28+U28 -> 0.35470569 | X28: =T28+V28 -> -1.2687749 | Y28: =W28*Начало!$A$3/1000 -> 2.1282341 | Z28: =X28*Начало!$A$3/1000 -> -7.6126495 | AA28: =AB28/2 -> 52.141737 | AB28: =Y28*Начало!$H$5*1000 -> 104.28347 | AC28: =R28+AA28 -> 583.06329 | AD28: =R28+AB28 -> 635.20502 | AE28: =G55 -> 0.62977585 | AF28: =H55 -> -0.76760694 | AG28: =G46 -> -0.70876153 | AH28: =H46 -> -0.63465751 | AI28: =AE28+AG28 -> -0.078985684 | AJ28: =AF28+AH28 -> -1.4022644 | AK28: =AI28*Начало!$A$3/1000 -> -0.4739141 | AL28: =AJ28*Начало!$A$3/1000 -> -8.4135867 | AM28: =AN28/2 -> -11.610896 | AN28: =AK28*Начало!$H$5*1000 -> -23.221791 | AO28: =AD28+AM28 -> 623.59413 | AP28: =AD28+AN28 -> 611.98323 | AQ28: =G10 -> 3.4537385 | AR28: =H10 -> 3.0926354 | AS28: =G73 -> 0.19512592 | AT28: =H73 -> 0.15412097 | AU28: =AQ28+AS28 -> 3.6488644 | AV28: =AR28+AT28 -> 3.2467564 | AW28: =AU28*Начало!$A$3/1000 -> 21.893186 | AX28: =AV28*Начало!$A$3/1000 -> 19.480539 | AY28: =AZ28/2 -> 536.38307 | AZ28: =AW28*Начало!$H$5*1000 -> 1072.7661 | BA28: =AP28+AY28 -> 1148.3663 | BB28: =AP28+AZ28 -> 1684.7494
A29: 230 | B29: =Начало!O25 -> 0.98402477 | C29: =Начало!V25 -> -0.17920776 | D29: =Начало!Y25 -> 0.83 | E29: =Начало!X25 -> -0.78006872 | F29: =Начало!R25*Начало!$A$3/1000 -> -1.0580692 | G29: =B29*D29 -> 0.81674056 | H29: =B29*E29 -> -0.76760694 | I29: =B20*D20 -> 0.8351753 | J29: =B20*E20 -> -1.3820619 | K29: =G29+I29 -> 1.6519159 | L29: =H29+J29 -> -2.1496688 | M29: =K29*Начало!$A$3/1000 -> 9.9114952 | N29: =L29*Начало!$A$3/1000 -> -12.898013 | O29: =P29/2 -> 242.83163 | P29: =M29*Начало!$H$5*1000 -> 485.66326 | Q29: =O29 -> 242.83163 | R29: =P29 -> 485.66326 | S29: =G38 -> -0.491408 | T29: =H38 -> -0.63465751 | U29: =I74 -> 0.83334056 | V29: =J74 -> -0.78320831 | W29: =S29+U29 -> 0.34193256 | X29: =T29+V29 -> -1.4178658 | Y29: =W29*Начало!$A$3/1000 -> 2.0515954 | Z29: =X29*Начало!$A$3/1000 -> -8.5071949 | AA29: =AB29/2 -> 50.264086 | AB29: =Y29*Начало!$H$5*1000 -> 100.52817 | AC29: =R29+AA29 -> 535.92735 | AD29: =R29+AB29 -> 586.19144 | AE29: =G56 -> 0.5491753 | AF29: =H56 -> -0.90878435 | AG29: =G47 -> -0.57694607 | AH29: =H47 -> -0.35138553 | AI29: =AE29+AG29 -> -0.027770762 | AJ29: =AF29+AH29 -> -1.2601699 | AK29: =AI29*Начало!$A$3/1000 -> -0.16662457 | AL29: =AJ29*Начало!$A$3/1000 -> -7.5610192 | AM29: =AN29/2 -> -4.082302 | AN29: =AK29*Начало!$H$5*1000 -> -8.1646039 | AO29: =AD29+AM29 -> 582.10913 | AP29: =AD29+AN29 -> 578.02683 | AQ29: =G11 -> 2.7430539 | AR29: =H11 -> 1.6706405 | AS29: =G74 -> 0.340592 | AT29: =H74 -> 0.4398774 | AU29: =AQ29+AS29 -> 3.0836459 | AV29: =AR29+AT29 -> 2.1105179 | AW29: =AU29*Начало!$A$3/1000 -> 18.501876 | AX29: =AV29*Начало!$A$3/1000 -> 12.663107 | AY29: =AZ29/2 -> 453.29595 | AZ29: =AW29*Начало!$H$5*1000 -> 906.59191 | BA29: =AP29+AY29 -> 1031.3228 | BB29: =AP29+AZ29 -> 1484.6187
A30: 240 | B30: =Начало!O26 -> 0.88107139 | C30: =Начало!V26 -> -0.20109054 | D30: =Начало!Y26 -> 0.96 | E30: =Начало!X26 -> -0.67414952 | F30: =Начало!R26*Начало!$A$3/1000 -> -1.0630507 | G30: =B30*D30 -> 0.84582854 | H30: =B30*E30 -> -0.59397385 | I30: =B21*D21 -> 0.62522783 | J30: =B21*E21 -> -1.4784197 | K30: =G30+I30 -> 1.4710564 | L30: =H30+J30 -> -2.0723936 | M30: =K30*Начало!$A$3/1000 -> 8.8263382 | N30: =L30*Начало!$A$3/1000 -> -12.434362 | O30: =P30/2 -> 216.24529 | P30: =M30*Начало!$H$5*1000 -> 432.49057 | Q30: =O30 -> 216.24529 | R30: =P30 -> 432.49057 | S30: =G39 -> -0.45206913 | T30: =H39 -> -0.93874247 | U30: =I75 -> 0.87462854 | V30: =J75 -> -0.61419834 | W30: =S30+U30 -> 0.42255941 | X30: =T30+V30 -> -1.5529408 | Y30: =W30*Начало!$A$3/1000 -> 2.5353564 | Z30: =X30*Начало!$A$3/1000 -> -9.3176448 | AA30: =AB30/2 -> 62.116233 | AB30: =Y30*Начало!$H$5*1000 -> 124.23247 | AC30: =R30+AA30 -> 494.6068 | AD30: =R30+AB30 -> 556.72304 | AE30: =G57 -> 0.43022783 | AF30: =H57 -> -1.0173209 | AG30: =G48 -> -0.40806534 | AH30: =H48 -> -0.13850863 | AI30: =AE30+AG30 -> 0.022162492 | AJ30: =AF30+AH30 -> -1.1558295 | AK30: =AI30*Начало!$A$3/1000 -> 0.13297495 | AL30: =AJ30*Начало!$A$3/1000 -> -6.934977 | AM30: =AN30/2 -> 3.2578863 | AN30: =AK30*Начало!$H$5*1000 -> 6.5157727 | AO30: =AD30+AM30 -> 559.98092 | AP30: =AD30+AN30 -> 563.23881 | AQ30: =G12 -> 2.1839347 | AR30: =H12 -> 0.74128767 | AS30: =G75 -> 0.75693087 | AT30: =H75 -> 1.571802 | AU30: =AQ30+AS30 -> 2.9408655 | AV30: =AR30+AT30 -> 2.3130897 | AW30: =AU30*Начало!$A$3/1000 -> 17.645193 | AX30: =AV30*Начало!$A$3/1000 -> 13.878538 | AY30: =AZ30/2 -> 432.30723 | AZ30: =AW30*Начало!$H$5*1000 -> 864.61447 | BA30: =AP30+AY30 -> 995.54604 | BB30: =AP30+AZ30 -> 1427.8533
A31: 250 | B31: =Начало!O27 -> 0.74283593 | C31: =Начало!V27 -> -0.21931541 | D31: =Начало!Y27 -> 1.01 | E31: =Начало!X27 -> -0.54810922 | F31: =Начало!R27*Начало!$A$3/1000 -> -0.97749221 | G31: =B31*D31 -> 0.75026429 | H31: =B31*E31 -> -0.40715522 | I31: =B22*D22 -> 0.41112751 | J31: =B22*E22 -> -1.5269424 | K31: =G31+I31 -> 1.1613918 | L31: =H31+J31 -> -1.9340976 | M31: =K31*Начало!$A$3/1000 -> 6.9683508 | N31: =L31*Начало!$A$3/1000 -> -11.604586 | O31: =P31/2 -> 170.7246 | P31: =M31*Начало!$H$5*1000 -> 341.44919 | Q31: =O31 -> 170.7246 | R31: =P31 -> 341.44919 | S31: =G40 -> -0.34410468 | T31: =H40 -> -1.2093107 | U31: =I76 -> 0.79066429 | V31: =J76 -> -0.42907959 | W31: =S31+U31 -> 0.44655961 | X31: =T31+V31 -> -1.6383903 | Y31: =W31*Начало!$A$3/1000 -> 2.6793577 | Z31: =X31*Начало!$A$3/1000 -> -9.8303418 | AA31: =AB31/2 -> 65.644263 | AB31: =Y31*Начало!$H$5*1000 -> 131.28853 | AC31: =R31+AA31 -> 407.09345 | AD31: =R31+AB31 -> 472.73772 | AE31: =G58 -> 0.29412751 | AF31: =H58 -> -1.0924002 | AG31: =G49 -> -0.15212223 | AH31: =H49 -> -0.020473404 | AI31: =AE31+AG31 -> 0.14200528 | AJ31: =AF31+AH31 -> -1.1128736 | AK31: =AI31*Начало!$A$3/1000 -> 0.85203169 | AL31: =AJ31*Начало!$A$3/1000 -> -6.6772416 | AM31: =AN31/2 -> 20.874777 | AN31: =AK31*Начало!$H$5*1000 -> 41.749553 | AO31: =AD31+AM31 -> 493.61249 | AP31: =AD31+AN31 -> 514.48727 | AQ31: =G13 -> 1.8678778 | AR31: =H13 -> 0.25138873 | AS31: =G76 -> 1.0078953 | AT31: =H76 -> 3.5421158 | AU31: =AQ31+AS31 -> 2.8757731 | AV31: =AR31+AT31 -> 3.7935045 | AW31: =AU31*Начало!$A$3/1000 -> 17.254639 | AX31: =AV31*Начало!$A$3/1000 -> 22.761027 | AY31: =AZ31/2 -> 422.73864 | AZ31: =AW31*Начало!$H$5*1000 -> 845.47729 | BA31: =AP31+AY31 -> 937.22591 | BB31: =AP31+AZ31 -> 1359.9646
A32: 260 | B32: =Начало!O28 -> 0.56737318 | C32: =Начало!V28 -> -0.23344335 | D32: =Начало!Y28 -> 1.02 | E32: =Начало!X28 -> -0.403545 | F32: =Начало!R28*Начало!$A$3/1000 -> -0.79469696 | G32: =B32*D32 -> 0.57872064 | H32: =B32*E32 -> -0.22896061 | I32: =B23*D23 -> 0.18794514 | J32: =B23*E23 -> -1.4333683 | K32: =G32+I32 -> 0.76666578 | L32: =H32+J32 -> -1.6623289 | M32: =K32*Начало!$A$3/1000 -> 4.5999947 | N32: =L32*Начало!$A$3/1000 -> -9.9739737 | O32: =P32/2 -> 112.69987 | P32: =M32*Начало!$H$5*1000 -> 225.39974 | Q32: =O32 -> 112.69987 | R32: =P32 -> 225.39974 | S32: =G41 -> -0.18549189 | T32: =H41 -> -1.3957084 | U32: =I77 -> 0.62972064 | V32: =J77 -> -0.24913786 | W32: =S32+U32 -> 0.44422875 | X32: =T32+V32 -> -1.6448462 | Y32: =W32*Начало!$A$3/1000 -> 2.6653725 | Z32: =X32*Начало!$A$3/1000 -> -9.8690773 | AA32: =AB32/2 -> 65.301626 | AB32: =Y32*Начало!$H$5*1000 -> 130.60325 | AC32: =R32+AA32 -> 290.70136 | AD32: =R32+AB32 -> 356.00299 | AE32: =G59 -> 0.14894514 | AF32: =H59 -> -1.1359338 | AG32: =G50 -> 0.11603082 | AH32: =H50 -> -0.0063986038 | AI32: =AE32+AG32 -> 0.26497596 | AJ32: =AF32+AH32 -> -1.1423325 | AK32: =AI32*Начало!$A$3/1000 -> 1.5898557 | AL32: =AJ32*Начало!$A$3/1000 -> -6.8539947 | AM32: =AN32/2 -> 38.951466 | AN32: =AK32*Начало!$H$5*1000 -> 77.902931 | AO32: =AD32+AM32 -> 394.95446 | AP32: =AD32+AN32 -> 433.90592 | AQ32: =G14 -> 1.6460308 | AR32: =H14 -> -0.090771564 | AS32: =G77 -> 0.77650811 | AT32: =H77 -> 5.842729 | AU32: =AQ32+AS32 -> 2.4225389 | AV32: =AR32+AT32 -> 5.7519575 | AW32: =AU32*Начало!$A$3/1000 -> 14.535234 | AX32: =AV32*Начало!$A$3/1000 -> 34.511745 | AY32: =AZ32/2 -> 356.11322 | AZ32: =AW32*Начало!$H$5*1000 -> 712.22645 | BA32: =AP32+AY32 -> 790.01914 | BB32: =AP32+AZ32 -> 1146.1324
A33: 270 | B33: =Начало!O29 -> 0.35600333 | C33: =Начало!V29 -> -0.23583719 | D33: =Начало!Y29 -> 1 | E33: =Начало!X29 -> -0.23583719 | F33: =Начало!R29*Начало!$A$3/1000 -> -0.50375296 | G33: =B33*D33 -> 0.35600333 | H33: =B33*E33 -> -0.083958827 | I33: =B24*D24 -> 0 | J33: =B24*E24 -> -1.1501361 | K33: =G33+I33 -> 0.35600333 | L33: =H33+J33 -> -1.2340949 | M33: =K33*Начало!$A$3/1000 -> 2.13602 | N33: =L33*Начало!$A$3/1000 -> -7.4045697 | O33: =P33/2 -> 52.33249 | P33: =M33*Начало!$H$5*1000 -> 104.66498 | Q33: =O33 -> 52.33249 | R33: =P33 -> 104.66498 | S33: =G42 -> 0 | T33: =H42 -> -1.4621428 | U33: =I6 -> 0.55600333 | V33: =J6 -> -0.13112627 | W33: =S33+U33 -> 0.55600333 | X33: =T33+V33 -> -1.593269 | Y33: =W33*Начало!$A$3/1000 -> 3.33602 | Z33: =X33*Начало!$A$3/1000 -> -9.5596143 | AA33: =AB33/2 -> 81.73249 | AB33: =Y33*Начало!$H$5*1000 -> 163.46498 | AC33: =R33+AA33 -> 186.39747 | AD33: =R33+AB33 -> 268.12996 | AE33: =G60 -> 0 | AF33: =H60 -> -1.1501361 | AG33: =G51 -> 0.35600333 | AH33: =H51 -> -0.083958827 | AI33: =AE33+AG33 -> 0.35600333 | AJ33: =AF33+AH33 -> -1.2340949 | AK33: =AI33*Начало!$A$3/1000 -> 2.13602 | AL33: =AJ33*Начало!$A$3/1000 -> -7.4045697 | AM33: =AN33/2 -> 52.33249 | AN33: =AK33*Начало!$H$5*1000 -> 104.66498 | AO33: =AD33+AM33 -> 320.46245 | AP33: =AD33+AN33 -> 372.79494 | AQ33: =G15 -> 1.5560033 | AR33: =H15 -> -0.36696346 | AS33: =G6 -> 0 | AT33: =H6 -> 12.337857 | AU33: =AQ33+AS33 -> 1.5560033 | AV33: =AR33+AT33 -> 11.970894 | AW33: =AU33*Начало!$A$3/1000 -> 9.33602 | AX33: =AV33*Начало!$A$3/1000 -> 71.825363 | AY33: =AZ33/2 -> 228.73249 | AZ33: =AW33*Начало!$H$5*1000 -> 457.46498 | BA33: =AP33+AY33 -> 601.52743 | BB33: =AP33+AZ33 -> 830.25992
