Workbook

Sheet Главная
A1: w (рад/с) | B1: М (Нм) | C1: N (кВт)
A2: 360 | B2: 123 | C2: 44
A3: 400 | B3: 124 | C3: 49
A4: 440 | B4: 124 | C4: 54
A5: 480 | B5: 123 | C5: 59
A6: 520 | B6: 120 | C6: 62
A7: 560 | B7: 115 | C7: 64
A8: 600 | B8: 109 | C8: 65
A9: 630 | B9: 102 | C9: 66
A12: ωд | B12: Nе | C12: ωд/ ωN | D12: Nво | E12: Nген | F12: Nн | G12: Nвент | H12: Nглуш | I12: Nму | J12: Nд | K12: Mд
A13: рад/сек | B13: кВт | C13: - | D13: кВт | E13: кВт | F13: кВт | G13: кВт | H13: кВт | I13: кВт | J13: кВт | K13: Н*м
A14: =A2 -> 360 | B14: =C2 -> 44 | C14: =B14/$B$21 -> 0.66666667 | D14: =0.02*$B$21*(C14)^2 -> 0.58666667 | E14: 0.4 | F14: =0.01*$B$21*C14 -> 0.44 | G14: =0.08*$B$21*C14^3 -> 1.5644444 | H14: =0.03*$B$21*C14^2 -> 0.88 | I14: =D14+E14+F14+G14+H14 -> 3.8711111 | J14: =B14-I14 -> 40.128889 | K14: =1000*J14/A14 -> 111.46914
A15: =A3 -> 400 | B15: =C3 -> 49 | C15: =B15/$B$21 -> 0.74242424 | D15: =0.02*$B$21*(C15)^2 -> 0.72757576 | E15: 0.4 | F15: =0.01*$B$21*C15 -> 0.49 | G15: =0.08*$B$21*C15^3 -> 2.1606795 | H15: =0.03*$B$21*C15^2 -> 1.0913636 | I15: =D15+E15+F15+G15+H15 -> 4.8696189 | J15: =B15-I15 -> 44.130381 | K15: =1000*J15/A15 -> 110.32595
A16: =A4 -> 440 | B16: =C4 -> 54 | C16: =B16/$B$21 -> 0.81818182 | D16: =0.02*$B$21*(C16)^2 -> 0.88363636 | E16: 0.4 | F16: =0.01*$B$21*C16 -> 0.54 | G16: =0.08*$B$21*C16^3 -> 2.8919008 | H16: =0.03*$B$21*C16^2 -> 1.3254545 | I16: =D16+E16+F16+G16+H16 -> 6.0409917 | J16: =B16-I16 -> 47.959008 | K16: =1000*J16/A16 -> 108.99775
A17: =A5 -> 480 | B17: =C5 -> 59 | C17: =B17/$B$21 -> 0.89393939 | D17: =0.02*$B$21*(C17)^2 -> 1.0548485 | E17: 0.4 | F17: =0.01*$B$21*C17 -> 0.59 | G17: =0.08*$B$21*C17^3 -> 3.7718825 | H17: =0.03*$B$21*C17^2 -> 1.5822727 | I17: =D17+E17+F17+G17+H17 -> 7.3990037 | J17: =B17-I17 -> 51.600996 | K17: =1000*J17/A17 -> 107.50208
A18: =A6 -> 520 | B18: =C6 -> 62 | C18: =B18/$B$21 -> 0.93939394 | D18: =0.02*$B$21*(C18)^2 -> 1.1648485 | E18: 0.4 | F18: =0.01*$B$21*C18 -> 0.62 | G18: =0.08*$B$21*C18^3 -> 4.3770064 | H18: =0.03*$B$21*C18^2 -> 1.7472727 | I18: =D18+E18+F18+G18+H18 -> 8.3091276 | J18: =B18-I18 -> 53.690872 | K18: =1000*J18/A18 -> 103.25168
A19: =A7 -> 560 | B19: =C7 -> 64 | C19: =B19/$B$21 -> 0.96969697 | D19: =0.02*$B$21*(C19)^2 -> 1.2412121 | E19: 0.4 | F19: =0.01*$B$21*C19 -> 0.64 | G19: =0.08*$B$21*C19^3 -> 4.8143985 | H19: =0.03*$B$21*C19^2 -> 1.8618182 | I19: =D19+E19+F19+G19+H19 -> 8.9574288 | J19: =B19-I19 -> 55.042571 | K19: =1000*J19/A19 -> 98.290306
A20: =A8 -> 600 | B20: =C8 -> 65 | C20: =B20/$B$21 -> 0.98484848 | D20: =0.02*$B$21*(C20)^2 -> 1.280303 | E20: 0.4 | F20: =0.01*$B$21*C20 -> 0.65 | G20: =0.08*$B$21*C20^3 -> 5.043618 | H20: =0.03*$B$21*C20^2 -> 1.9204545 | I20: =D20+E20+F20+G20+H20 -> 9.2943756 | J20: =B20-I20 -> 55.705624 | K20: =1000*J20/A20 -> 92.842707
A21: =A9 -> 630 | B21: =C9 -> 66 | C21: =B21/$B$21 -> 1 | D21: =0.02*$B$21*(C21)^2 -> 1.32 | E21: 0.4 | F21: =0.01*$B$21*C21 -> 0.66 | G21: =0.08*$B$21*C21^3 -> 5.28 | H21: =0.03*$B$21*C21^2 -> 1.98 | I21: =D21+E21+F21+G21+H21 -> 9.64 | J21: =B21-I21 -> 56.36 | K21: =1000*J21/A21 -> 89.460317
A23: Тип ГТ | B23: Пара | C23: Передаточное отношение трансформатора 1 / i г | Q23: П
B24: метр | C24: 0 | D24: 0.1 | E24: 0.2 | F24: 0.3 | G24: 0.4 | H24: 0.5 | I24: 0.6 | J24: 0.7 | K24: 0.8 | L24: 0.84 | M24: 0.88 | N24: 0.9 | O24: 0.91 | P24: 0.95
A25: ГТК-VII | B25: rlН | C25: 2.95 | D25: 2.91 | E25: 2.86 | F25: 2.78 | G25: 2.65 | H25: 2.5 | I25: 2.3 | J25: 2.05 | K25: 1.75 | L25: 1.65 | N25: 1.2 | P25: 0.65 | Q25: =C25/L25 -> 1.7878788
B26: КТ | C26: 2.76 | D26: 2.7 | E26: 2.45 | F26: 2.15 | G26: 1.87 | H26: 1.6 | I26: 1.38 | J26: 1.21 | K26: 1.07 | L26: 1 | N26: 1 | P26: 1
B27: hГ | C27: 0 | D27: 0.27 | E27: 0.49 | F27: 0.63 | G27: 0.75 | H27: 0.83 | I27: 0.87 | J27: 0.85 | K27: 0.86 | L27: 0.84 | N27: 0.9 | P27: 0.95
A28: ГТК-X | B28: rlН | C28: 3.2 | D28: 3.2 | E28: 3.17 | F28: 3.08 | G28: 3 | H28: 2.86 | I28: 2.68 | J28: 2.4 | K28: 2 | M28: 1.4 | N28: 1.4 | P28: 1 | Q28: =C28/M28 -> 2.2857143
B29: КТ | C29: 2.7 | D29: 2.46 | E29: 2.2 | F29: 2 | G29: 1.82 | H29: 1.62 | I29: 1.44 | J29: 1.28 | K29: 1.11 | M29: 1 | N29: 1 | P29: 1
B30: hГ | C30: 0 | D30: 0.25 | E30: 0.44 | F30: 0.59 | G30: 0.73 | H30: 0.81 | I30: 0.87 | J30: 0.89 | K30: 0.89 | M30: 0.88 | N30: 0.9 | P30: 0.95
A31: ГТК-XI | B31: rlН | C31: 2.82 | D31: 2.72 | E31: 2.68 | F31: 2.63 | G31: 2.55 | H31: 2.5 | I31: 2.46 | J31: 2.32 | K31: 2.15 | N31: 1.79 | O31: 1.7 | P31: 1.34 | Q31: =C31/O31 -> 1.6588235
B32: КТ | C32: 2 | D32: 1.96 | E32: 1.89 | F32: 1.8 | G32: 1.7 | H32: 1.57 | I32: 1.43 | J32: 1.3 | K32: 1.16 | N32: 1.02 | O32: 1 | P32: 1
B33: hГ | C33: 0 | D33: 0.2 | E33: 0.39 | F33: 0.54 | G33: 0.68 | H33: 0.78 | I33: 0.86 | J33: 0.91 | K33: 0.93 | N33: 0.92 | O33: 0.91 | P33: 0.95
A34: ГТК-XII | B34: rlН | C34: 2.68 | D34: 2.68 | E34: 2.67 | F34: 2.64 | G34: 2.6 | H34: 2.5 | I34: 2.32 | J34: 2.1 | K34: 1.78 | L34: 1.28 | N34: 1.25 | P34: 0.72 | Q34: =C34/L34 -> 2.09375
B35: КТ | C35: 2.75 | D35: 2.59 | E35: 2.4 | F35: 2.14 | G35: 1.9 | H35: 1.69 | I35: 1.46 | J35: 1.29 | K35: 1.13 | L35: 1 | N35: 1 | P35: 1
B36: hГ | C36: 0 | D36: 0.26 | E36: 0.48 | F36: 0.64 | G36: 0.76 | H36: 0.85 | I36: 0.88 | J36: 0.9 | K36: 0.9 | L36: 0.86 | N36: 0.9 | P36: 0.95
A37: ГТК-IX | B37: rlН | C37: 4.65 | D37: 4.58 | E37: 4.38 | F37: 4.2 | G37: 4 | H37: 3.75 | I37: 3.44 | J37: 3.04 | K37: 2.41 | N37: 1.85 | P37: 1.25 | Q37: =C37/N37 -> 2.5135135
B38: КТ | C38: 2.04 | D38: 2 | E38: 1.92 | F38: 1.81 | G38: 1.7 | H38: 1.58 | I38: 1.43 | J38: 1.27 | K38: 1.11 | N38: 1 | P38: 1
B39: hГ | C39: 0 | D39: 0.2 | E39: 0.38 | F39: 0.54 | G39: 0.68 | H39: 0.8 | I39: 0.86 | J39: 0.89 | K39: 0.89 | N39: 0.9 | P39: 0.95
A40: ГТК-III | B40: rlН | C40: 4.9 | D40: 4.85 | E40: 4.67 | F40: 4.5 | G40: 4.3 | H40: 4 | I40: 3.67 | J40: 3.2 | K40: 2.5 | M40: 1.7 | N40: 1.5 | P40: 0.8 | Q40: =C40/M40 -> 2.8823529
B41: КТ | C41: 2.7 | D41: 2.5 | E41: 2.28 | F41: 2.05 | G41: 1.82 | H41: 1.62 | I41: 1.48 | J41: 1.23 | K41: 1.1 | M41: 1 | N41: 1 | P41: 1
B42: hГ | C42: 0 | D42: 0.25 | E42: 0.46 | F42: 0.6 | G42: 0.73 | H42: 0.81 | I42: 0.86 | J42: 0.86 | K42: 0.88 | M42: 0.87 | N42: 0.9 | P42: 0.95
A43: ГТК-II | B43: rlН | C43: 1.15 | D43: 1.2 | E43: 1.3 | F43: 1.34 | G43: 1.35 | H43: 1.34 | I43: 1.3 | J43: 1.2 | K43: 1 | L43: 0.91 | O43: 0.75 | P43: 0.5 | Q43: =C43/L43 -> 1.2637363
B44: КТ | C44: 3.7 | D44: 3.35 | E44: 2.9 | F44: 2.5 | G44: 2.1 | H44: 1.7 | I44: 1.43 | J44: 1.22 | K44: 1.04 | L44: 1 | O44: 1 | P44: 1
B45: hГ | C45: 0 | D45: 0.33 | E45: 0.58 | F45: 0.75 | G45: 0.84 | H45: 0.85 | I45: 0.86 | J45: 0.85 | K45: 0.83 | L45: 0.83 | O45: 0.9 | P45: 0.95
A46: Зил-111 | B46: rlН | C46: 5.06 | D46: 4.92 | E46: 4.75 | F46: 4.5 | G46: 4.26 | H46: 3.94 | I46: 3.51 | J46: 3 | K46: 2.4 | N46: 1.45 | P46: 0.88 | Q46: =C46/N46 -> 3.4896552
B47: КТ | C47: 2.45 | D47: 2.28 | E47: 2.1 | F47: 1.9 | G47: 1.71 | H47: 1.52 | I47: 1.37 | J47: 1.23 | K47: 1.11 | N47: 1 | P47: 1
B48: hГ | C48: 0 | D48: 0.23 | E48: 0.43 | F48: 0.58 | G48: 0.68 | H48: 0.76 | I48: 0.82 | J48: 0.86 | K48: 0.88 | N48: 0.89 | P48: 0.95
A49: М-21 | B49: rlН | C49: 4.62 | D49: 4.52 | E49: 4.35 | F49: 4.13 | G49: 3.95 | H49: 3.72 | I49: 3.39 | J49: 2.93 | K49: 2.43 | M49: 1.61 | P49: 1.13 | Q49: =C49/M49 -> 2.8695652
B50: КТ | C50: 2.1 | D50: 2 | E50: 1.9 | F50: 1.77 | G50: 1.65 | H50: 1.52 | I50: 1.37 | J50: 1.24 | K50: 1.04 | M50: 1 | P50: 1
B51: hГ | C51: 0 | D51: 0.2 | E51: 0.38 | F51: 0.54 | G51: 0.66 | H51: 0.76 | I51: 0.84 | J51: 0.88 | K51: 0.89 | M51: 0.88 | P51: 0.95
A54: Da= | B54: 0.176 | C54: м
A56: ωДi | B56: MН0 | C56: ρλH0 | D56: MН30 | E56: ρλH30 | F56: MН40 | G56: ρλH40 | H56: MНŋ | I56: ρλHŋ | J56: Mнmax | K56: ρλHmax | L56: MНC | M56: ρλHC | N56: MН95 | O56: ρλH95 | P56: Mд
A57: рад/с | B57: Н*м | C57: кг/м3 | D57: Н*м | E57: кг/м3 | F57: Н*м | G57: кг/м3 | H57: Н*м | I57: кг/м3 | J57: Н*м | K57: кг/м3 | L57: Н*м | M57: кг/м3 | N57: Н*м | O57: кг/м3
A58: =A14 -> 360 | B58: =C58*($B$54^5)*(A58^2) -> 110.74366 | C58: =$C$46 -> 5.06 | D58: =E58*($B$54^5)*(A58^2) -> 98.487441 | E58: =$F$46 -> 4.5 | F58: =G58*($B$54^5)*(A58^2) -> 93.234778 | G58: =$G$46 -> 4.26 | H58: =I58*($B$54^5)*(A58^2) -> 86.231226 | I58: =$H$46 -> 3.94 | J58: =K58*($B$54^5)*(A58^2) -> 65.658294 | K58: =$J$46 -> 3 | L58: =M58*($B$54^5)*(A58^2) -> 31.734842 | M58: =$N$46 -> 1.45 | N58: =O58*($B$54^5)*(A58^2) -> 19.259766 | O58: =$P$46 -> 0.88 | P58: =K14 -> 111.46914
A59: =A15 -> 400 | B59: =C59*($B$54^5)*(A59^2) -> 136.72056 | C59: =$C$46 -> 5.06 | D59: =E59*($B$54^5)*(A59^2) -> 121.58943 | E59: =$F$46 -> 4.5 | F59: =G59*($B$54^5)*(A59^2) -> 115.10466 | G59: =$G$46 -> 4.26 | H59: =I59*($B$54^5)*(A59^2) -> 106.4583 | I59: =$H$46 -> 3.94 | J59: =K59*($B$54^5)*(A59^2) -> 81.059622 | K59: =$J$46 -> 3 | L59: =M59*($B$54^5)*(A59^2) -> 39.178818 | M59: =$N$46 -> 1.45 | N59: =O59*($B$54^5)*(A59^2) -> 23.777489 | O59: =$P$46 -> 0.88 | P59: =K15 -> 110.32595
A60: =A16 -> 440 | B60: =C60*($B$54^5)*(A60^2) -> 165.43188 | C60: =$C$46 -> 5.06 | D60: =E60*($B$54^5)*(A60^2) -> 147.12321 | E60: =$F$46 -> 4.5 | F60: =G60*($B$54^5)*(A60^2) -> 139.27664 | G60: =$G$46 -> 4.26 | H60: =I60*($B$54^5)*(A60^2) -> 128.81455 | I60: =$H$46 -> 3.94 | J60: =K60*($B$54^5)*(A60^2) -> 98.082143 | K60: =$J$46 -> 3 | L60: =M60*($B$54^5)*(A60^2) -> 47.406369 | M60: =$N$46 -> 1.45 | N60: =O60*($B$54^5)*(A60^2) -> 28.770762 | O60: =$P$46 -> 0.88 | P60: =K16 -> 108.99775
A61: =A17 -> 480 | B61: =C61*($B$54^5)*(A61^2) -> 196.87761 | C61: =$C$46 -> 5.06 | D61: =E61*($B$54^5)*(A61^2) -> 175.08878 | E61: =$F$46 -> 4.5 | F61: =G61*($B$54^5)*(A61^2) -> 165.75072 | G61: =$G$46 -> 4.26 | H61: =I61*($B$54^5)*(A61^2) -> 153.29996 | I61: =$H$46 -> 3.94 | J61: =K61*($B$54^5)*(A61^2) -> 116.72586 | K61: =$J$46 -> 3 | L61: =M61*($B$54^5)*(A61^2) -> 56.417497 | M61: =$N$46 -> 1.45 | N61: =O61*($B$54^5)*(A61^2) -> 34.239585 | O61: =$P$46 -> 0.88 | P61: =K17 -> 107.50208
A62: =A18 -> 520 | B62: =C62*($B$54^5)*(A62^2) -> 231.05775 | C62: =$C$46 -> 5.06 | D62: =E62*($B$54^5)*(A62^2) -> 205.48614 | E62: =$F$46 -> 4.5 | F62: =G62*($B$54^5)*(A62^2) -> 194.52688 | G62: =$G$46 -> 4.26 | H62: =I62*($B$54^5)*(A62^2) -> 179.91453 | I62: =$H$46 -> 3.94 | J62: =K62*($B$54^5)*(A62^2) -> 136.99076 | K62: =$J$46 -> 3 | L62: =M62*($B$54^5)*(A62^2) -> 66.212202 | M62: =$N$46 -> 1.45 | N62: =O62*($B$54^5)*(A62^2) -> 40.183957 | O62: =$P$46 -> 0.88 | P62: =K18 -> 103.25168
A63: =A19 -> 560 | B63: =C63*($B$54^5)*(A63^2) -> 267.9723 | C63: =$C$46 -> 5.06 | D63: =E63*($B$54^5)*(A63^2) -> 238.31529 | E63: =$F$46 -> 4.5 | F63: =G63*($B$54^5)*(A63^2) -> 225.60514 | G63: =$G$46 -> 4.26 | H63: =I63*($B$54^5)*(A63^2) -> 208.65828 | I63: =$H$46 -> 3.94 | J63: =K63*($B$54^5)*(A63^2) -> 158.87686 | K63: =$J$46 -> 3 | L63: =M63*($B$54^5)*(A63^2) -> 76.790482 | M63: =$N$46 -> 1.45 | N63: =O63*($B$54^5)*(A63^2) -> 46.603879 | O63: =$P$46 -> 0.88 | P63: =K19 -> 98.290306
A64: =A20 -> 600 | B64: =C64*($B$54^5)*(A64^2) -> 307.62127 | C64: =$C$46 -> 5.06 | D64: =E64*($B$54^5)*(A64^2) -> 273.57623 | E64: =$F$46 -> 4.5 | F64: =G64*($B$54^5)*(A64^2) -> 258.98549 | G64: =$G$46 -> 4.26 | H64: =I64*($B$54^5)*(A64^2) -> 239.53118 | I64: =$H$46 -> 3.94 | J64: =K64*($B$54^5)*(A64^2) -> 182.38415 | K64: =$J$46 -> 3 | L64: =M64*($B$54^5)*(A64^2) -> 88.152339 | M64: =$N$46 -> 1.45 | N64: =O64*($B$54^5)*(A64^2) -> 53.499351 | O64: =$P$46 -> 0.88 | P64: =K20 -> 92.842707
A65: =A21 -> 630 | B65: =C65*($B$54^5)*(A65^2) -> 339.15245 | C65: =$C$46 -> 5.06 | D65: =E65*($B$54^5)*(A65^2) -> 301.61779 | E65: =$F$46 -> 4.5 | F65: =G65*($B$54^5)*(A65^2) -> 285.53151 | G65: =$G$46 -> 4.26 | H65: =I65*($B$54^5)*(A65^2) -> 264.08313 | I65: =$H$46 -> 3.94 | J65: =K65*($B$54^5)*(A65^2) -> 201.07853 | K65: =$J$46 -> 3 | L65: =M65*($B$54^5)*(A65^2) -> 97.187954 | M65: =$N$46 -> 1.45 | N65: =O65*($B$54^5)*(A65^2) -> 58.983034 | O65: =$P$46 -> 0.88 | P65: =K21 -> 89.460317
A68: Параметры | B68: Расчетные значения 1/Iг
B69: 0 | C69: 0.3 | D69: 0.4 | E69: 0.5 | F69: 0.7 | G69: 0.9 | H69: 0.95
A70: ρλHj, кг/м3 | B70: =C58 -> 5.06 | C70: =E58 -> 4.5 | D70: =G58 -> 4.26 | E70: =I58 -> 3.94 | F70: =K58 -> 3 | G70: =M58 -> 1.45 | H70: =O58 -> 0.88
A71: MДj, Н*м | B71: 111.4 | C71: 110.91 | D71: 110.43 | E71: 109.95 | F71: 108.51 | G71: 91.7 | H71: 59.04
A72: ωДj, рад/с | B72: 362.05 | C72: 381.59 | D72: 391.75 | E72: 406.6 | F72: 461.32 | G72: 611.39 | H72: 630
A73: КТj | B73: =C47 -> 2.45 | C73: =F47 -> 1.9 | D73: =G47 -> 1.71 | E73: =H47 -> 1.52 | F73: =K47 -> 1.11 | G73: =N47 -> 1 | H73: =P47 -> 1
A74: ηГj | B74: =C48 -> 0 | C74: =F48 -> 0.58 | D74: =G48 -> 0.68 | E74: =H48 -> 0.76 | F74: =K48 -> 0.88 | G74: =N48 -> 0.89 | H74: =P48 -> 0.95
A75: ωНj, рад/с | B75: =B72 -> 362.05 | C75: =C72 -> 381.59 | D75: =D72 -> 391.75 | E75: =E72 -> 406.6 | F75: =F72 -> 461.32 | G75: =G72 -> 611.39 | H75: =H72 -> 630
A76: ωТj рад/с | B76: =B75*B69 -> 0 | C76: =C75*C69 -> 114.477 | D76: =D75*D69 -> 156.7 | E76: =E75*E69 -> 203.3 | F76: =F75*F69 -> 322.924 | G76: =G75*G69 -> 550.251 | H76: =H75*H69 -> 598.5
A77: MНj, Н*м | B77: =B71 -> 111.4 | C77: =C71 -> 110.91 | D77: =D71 -> 110.43 | E77: =E71 -> 109.95 | F77: =F71 -> 108.51 | G77: =G71 -> 91.7 | H77: =H71 -> 59.04
A78: MТj, Н*м | B78: =B77*B73 -> 272.93 | C78: =C77*C73 -> 210.729 | D78: =D77*D73 -> 188.8353 | E78: =E77*E73 -> 167.124 | F78: =F77*F73 -> 120.4461 | G78: =G77*G73 -> 91.7 | H78: =H77*H73 -> 59.04

Sheet Х-ка ДВС
B2: ωд, рад/с | C2: Ne, кВт | D2: Me, Н*м | E2: ωд/ωN | F2: Nво, кВт | G2: Nген, кВт | H2: Nгл, кВт | I2: Nн,кВт | J2: Nму, кВт | K2: Nд, кВт | L2: Mд, Н*м
B4: =Главная!A14 -> 360 | C4: =Главная!B14 -> 44 | D4: =Главная!B2 -> 123 | E4: =Главная!C14 -> 0.66666667 | F4: =Главная!D14 -> 0.58666667 | G4: =Главная!E14 -> 0.4 | H4: =Главная!H14 -> 0.88 | I4: =Главная!F14 -> 0.44 | J4: =Главная!I14 -> 3.8711111 | K4: =Главная!J14 -> 40.128889 | L4: =Главная!K14 -> 111.46914
B5: =Главная!A15 -> 400 | C5: =Главная!B15 -> 49 | D5: =Главная!B3 -> 124 | E5: =Главная!C15 -> 0.74242424 | F5: =Главная!D15 -> 0.72757576 | G5: =Главная!E15 -> 0.4 | H5: =Главная!H15 -> 1.0913636 | I5: =Главная!F15 -> 0.49 | J5: =Главная!I15 -> 4.8696189 | K5: =Главная!J15 -> 44.130381 | L5: =Главная!K15 -> 110.32595
B6: =Главная!A16 -> 440 | C6: =Главная!B16 -> 54 | D6: =Главная!B4 -> 124 | E6: =Главная!C16 -> 0.81818182 | F6: =Главная!D16 -> 0.88363636 | G6: =Главная!E16 -> 0.4 | H6: =Главная!H16 -> 1.3254545 | I6: =Главная!F16 -> 0.54 | J6: =Главная!I16 -> 6.0409917 | K6: =Главная!J16 -> 47.959008 | L6: =Главная!K16 -> 108.99775
B7: =Главная!A17 -> 480 | C7: =Главная!B17 -> 59 | D7: =Главная!B5 -> 123 | E7: =Главная!C17 -> 0.89393939 | F7: =Главная!D17 -> 1.0548485 | G7: =Главная!E17 -> 0.4 | H7: =Главная!H17 -> 1.5822727 | I7: =Главная!F17 -> 0.59 | J7: =Главная!I17 -> 7.3990037 | K7: =Главная!J17 -> 51.600996 | L7: =Главная!K17 -> 107.50208
B8: =Главная!A18 -> 520 | C8: =Главная!B18 -> 62 | D8: =Главная!B6 -> 120 | E8: =Главная!C18 -> 0.93939394 | F8: =Главная!D18 -> 1.1648485 | G8: =Главная!E18 -> 0.4 | H8: =Главная!H18 -> 1.7472727 | I8: =Главная!F18 -> 0.62 | J8: =Главная!I18 -> 8.3091276 | K8: =Главная!J18 -> 53.690872 | L8: =Главная!K18 -> 103.25168
B9: =Главная!A19 -> 560 | C9: =Главная!B19 -> 64 | D9: =Главная!B7 -> 115 | E9: =Главная!C19 -> 0.96969697 | F9: =Главная!D19 -> 1.2412121 | G9: =Главная!E19 -> 0.4 | H9: =Главная!H19 -> 1.8618182 | I9: =Главная!F19 -> 0.64 | J9: =Главная!I19 -> 8.9574288 | K9: =Главная!J19 -> 55.042571 | L9: =Главная!K19 -> 98.290306
B10: =Главная!A20 -> 600 | C10: =Главная!B20 -> 65 | D10: =Главная!B8 -> 109 | E10: =Главная!C20 -> 0.98484848 | F10: =Главная!D20 -> 1.280303 | G10: =Главная!E20 -> 0.4 | H10: =Главная!H20 -> 1.9204545 | I10: =Главная!F20 -> 0.65 | J10: =Главная!I20 -> 9.2943756 | K10: =Главная!J20 -> 55.705624 | L10: =Главная!K20 -> 92.842707
B11: =Главная!A21 -> 630 | C11: =Главная!B21 -> 66 | D11: =Главная!B9 -> 102 | E11: =Главная!C21 -> 1 | F11: =Главная!D21 -> 1.32 | G11: =Главная!E21 -> 0.4 | H11: =Главная!H21 -> 1.98 | I11: =Главная!F21 -> 0.66 | J11: =Главная!I21 -> 9.64 | K11: =Главная!J21 -> 56.36 | L11: =Главная!K21 -> 89.460317

Sheet Х-ка ГТК
A1: Тип ГТК | B1: Параметр | C1: Передаточное отношение ГТК 1/iг
C2: 0 | D2: 0.1 | E2: 0.2 | F2: 0.3 | G2: 0.4 | H2: 0.5 | I2: 0.6 | J2: 0.7 | K2: 0.8 | L2: 0.83 | M2: 0.88 | N2: 0.89 | O2: 0.9 | P2: 0.95
A3: ЗиЛ-111 | B3: ρλн | C3: 5.06 | D3: 4.92 | E3: 4.75 | F3: 4.5 | G3: 4.26 | H3: 3.94 | I3: 3.51 | J3: 3 | K3: 2.4 | N3: 1.45 | P3: 0.88
B4: Кт | C4: 2.45 | D4: 2.28 | E4: 2.1 | F4: 1.9 | G4: 1.71 | H4: 1.52 | I4: 1.37 | J4: 1.23 | K4: 1.11 | N4: 1 | P4: 1
B5: ηг | C5: 0 | D5: 0.23 | E5: 0.43 | F5: 0.58 | G5: 0.68 | H5: 0.76 | I5: 0.82 | J5: 0.86 | K5: 0.88 | N5: 0.89 | P5: 0.95

Sheet Выходная х-ка силового агрегата
A1: Мт | B1: ηг | C1: ωт
A2: =Главная!B78 -> 272.93 | B2: =Главная!B74 -> 0 | C2: =Главная!B76 -> 0
A3: =Главная!C78 -> 210.729 | B3: =Главная!C74 -> 0.58 | C3: =Главная!C76 -> 114.477
A4: =Главная!D78 -> 188.8353 | B4: =Главная!D74 -> 0.68 | C4: =Главная!D76 -> 156.7
A5: =Главная!E78 -> 167.124 | B5: =Главная!E74 -> 0.76 | C5: =Главная!E76 -> 203.3
A6: =Главная!F78 -> 120.4461 | B6: =Главная!F74 -> 0.88 | C6: =Главная!F76 -> 322.924
A7: =Главная!G78 -> 91.7 | B7: =Главная!G74 -> 0.89 | C7: =Главная!G76 -> 550.251
A8: =Главная!H78 -> 59.04 | B8: =Главная!H74 -> 0.95 | C8: =Главная!H76 -> 598.5

Sheet Согласование ДВС и ГТК
A1: ωд, рад/с | B1: Мд, Н*м | D1: ρλн0 | E1: =Главная!C58 -> 5.06 | G1: Мн0 | H1: Мн40 | I1: Мнη | J1: Мнмакс | K1: Мнс | L1: Мн95 | Q1: Параметры | S1: Расчётные значения 1/iГj
A2: =Главная!A58 -> 360 | B2: =Главная!P58 -> 111.46914 | D2: ρλн40 | E2: =Главная!G58 -> 4.26 | G2: =$E$1*($E$7^5)*A2^2 -> 110.74366 | H2: =$E$2*($E$7^5)*A2^2 -> 93.234778 | I2: =$E$3*($E$7^5)*A2^2 -> 86.231226 | J2: =$E$4*($E$7^5)*A2^2 -> 65.658294 | K2: =$E$5*($E$7^5)*A2^2 -> 31.734842 | L2: =$E$6*($E$7^5)*A2^2 -> 19.259766 | S2: 1/iГ0 | T2: 1/iГ40 | V2: 1/iГh | X2: 1/iГmax | Z2: 1/iГС | AB2: 1/iГ95
A3: =Главная!A59 -> 400 | B3: =Главная!P59 -> 110.32595 | D3: ρλнη | E3: =Главная!I58 -> 3.94 | G3: =$E$1*($E$7^5)*A3^2 -> 136.72056 | H3: =$E$2*($E$7^5)*A3^2 -> 115.10466 | I3: =$E$3*($E$7^5)*A3^2 -> 106.4583 | J3: =$E$4*($E$7^5)*A3^2 -> 81.059622 | K3: =$E$5*($E$7^5)*A3^2 -> 39.178818 | L3: =$E$6*($E$7^5)*A3^2 -> 23.777489 | Q3: ρλHi, кг/м^3 | S3: =Главная!B70 -> 5.06 | T3: =Главная!D70 -> 4.26 | V3: =Главная!E70 -> 3.94 | X3: =Главная!F70 -> 3 | Z3: =Главная!G70 -> 1.45 | AB3: =Главная!H70 -> 0.88
A4: =Главная!A60 -> 440 | B4: =Главная!P60 -> 108.99775 | D4: ρλнмакс | E4: =Главная!K58 -> 3 | G4: =$E$1*($E$7^5)*A4^2 -> 165.43188 | H4: =$E$2*($E$7^5)*A4^2 -> 139.27664 | I4: =$E$3*($E$7^5)*A4^2 -> 128.81455 | J4: =$E$4*($E$7^5)*A4^2 -> 98.082143 | K4: =$E$5*($E$7^5)*A4^2 -> 47.406369 | L4: =$E$6*($E$7^5)*A4^2 -> 28.770762 | Q4: Мдj, Н*м | S4: =Главная!B71 -> 111.4 | T4: =Главная!D71 -> 110.43 | V4: =Главная!E71 -> 109.95 | X4: =Главная!F71 -> 108.51 | Z4: =Главная!G71 -> 91.7 | AB4: =Главная!H71 -> 59.04
A5: =Главная!A61 -> 480 | B5: =Главная!P61 -> 107.50208 | D5: ρλнс | E5: =Главная!M58 -> 1.45 | G5: =$E$1*($E$7^5)*A5^2 -> 196.87761 | H5: =$E$2*($E$7^5)*A5^2 -> 165.75072 | I5: =$E$3*($E$7^5)*A5^2 -> 153.29996 | J5: =$E$4*($E$7^5)*A5^2 -> 116.72586 | K5: =$E$5*($E$7^5)*A5^2 -> 56.417497 | L5: =$E$6*($E$7^5)*A5^2 -> 34.239585 | Q5: ωдj, рад/с | S5: =Главная!B72 -> 362.05 | T5: =Главная!D72 -> 391.75 | V5: =Главная!E72 -> 406.6 | X5: =Главная!F72 -> 461.32 | Z5: =Главная!G72 -> 611.39 | AB5: =Главная!H72 -> 630
A6: =Главная!A62 -> 520 | B6: =Главная!P62 -> 103.25168 | D6: ρλн95 | E6: =Главная!O58 -> 0.88 | G6: =$E$1*($E$7^5)*A6^2 -> 231.05775 | H6: =$E$2*($E$7^5)*A6^2 -> 194.52688 | I6: =$E$3*($E$7^5)*A6^2 -> 179.91453 | J6: =$E$4*($E$7^5)*A6^2 -> 136.99076 | K6: =$E$5*($E$7^5)*A6^2 -> 66.212202 | L6: =$E$6*($E$7^5)*A6^2 -> 40.183957 | Q6: KTj | S6: =Главная!B73 -> 2.45 | T6: =Главная!D73 -> 1.71 | V6: =Главная!E73 -> 1.52 | X6: =Главная!F73 -> 1.11 | Z6: =Главная!G73 -> 1 | AB6: =Главная!H73 -> 1
A7: =Главная!A63 -> 560 | B7: =Главная!P63 -> 98.290306 | D7: Da | E7: =Главная!B54 -> 0.176 | G7: =$E$1*($E$7^5)*A7^2 -> 267.9723 | H7: =$E$2*($E$7^5)*A7^2 -> 225.60514 | I7: =$E$3*($E$7^5)*A7^2 -> 208.65828 | J7: =$E$4*($E$7^5)*A7^2 -> 158.87686 | K7: =$E$5*($E$7^5)*A7^2 -> 76.790482 | L7: =$E$6*($E$7^5)*A7^2 -> 46.603879 | Q7: ηГj | S7: =Главная!B74 -> 0 | T7: =Главная!D74 -> 0.68 | V7: =Главная!E74 -> 0.76 | X7: =Главная!F74 -> 0.88 | Z7: =Главная!G74 -> 0.89 | AB7: =Главная!H74 -> 0.95
A8: =Главная!A64 -> 600 | B8: =Главная!P64 -> 92.842707 | G8: =$E$1*($E$7^5)*A8^2 -> 307.62127 | H8: =$E$2*($E$7^5)*A8^2 -> 258.98549 | I8: =$E$3*($E$7^5)*A8^2 -> 239.53118 | J8: =$E$4*($E$7^5)*A8^2 -> 182.38415 | K8: =$E$5*($E$7^5)*A8^2 -> 88.152339 | L8: =$E$6*($E$7^5)*A8^2 -> 53.499351 | Q8: ωHj, рад/с | S8: =Главная!B75 -> 362.05 | T8: =Главная!D75 -> 391.75 | V8: =Главная!E75 -> 406.6 | X8: =Главная!F75 -> 461.32 | Z8: =Главная!G75 -> 611.39 | AB8: =Главная!H75 -> 630
A9: =Главная!A65 -> 630 | B9: =Главная!P65 -> 89.460317 | G9: =$E$1*($E$7^5)*A9^2 -> 339.15245 | H9: =$E$2*($E$7^5)*A9^2 -> 285.53151 | I9: =$E$3*($E$7^5)*A9^2 -> 264.08313 | J9: =$E$4*($E$7^5)*A9^2 -> 201.07853 | K9: =$E$5*($E$7^5)*A9^2 -> 97.187954 | L9: =$E$6*($E$7^5)*A9^2 -> 58.983034 | Q9: ωTj, рад/с | S9: =Главная!B76 -> 0 | T9: =Главная!D76 -> 156.7 | V9: =Главная!E76 -> 203.3 | X9: =Главная!F76 -> 322.924 | Z9: =Главная!G76 -> 550.251 | AB9: =Главная!H76 -> 598.5
Q10: MHj, Н*м | S10: =Главная!B77 -> 111.4 | T10: =Главная!D77 -> 110.43 | V10: =Главная!E77 -> 109.95 | X10: =Главная!F77 -> 108.51 | Z10: =Главная!G77 -> 91.7 | AB10: =Главная!H77 -> 59.04
Q11: MTj, Н*м | S11: =Главная!B78 -> 272.93 | T11: =Главная!D78 -> 188.8353 | V11: =Главная!E78 -> 167.124 | X11: =Главная!F78 -> 120.4461 | Z11: =Главная!G78 -> 91.7 | AB11: =Главная!H78 -> 59.04

Sheet Ск-ть ГТК и авто
A1: № передачи | B1: Скорость при 1/Iг:
B2: =Главная!B69 -> 0 | C2: =Главная!C69 -> 0.3 | D2: =Главная!D69 -> 0.4 | E2: =Главная!E69 -> 0.5 | F2: =Главная!F69 -> 0.7 | G2: =Главная!G69 -> 0.9 | H2: =Главная!H69 -> 0.95
A3: 1 | B3: V1T1 | C3: V1T2 | D3: V1T3 | E3: V1T4 | F3: V1T5 | G3: V1T6 | H3: V1T7 | N3: =B2 -> 0 | O3: =C2 -> 0.3 | P3: =D2 -> 0.4 | Q3: =E2 -> 0.5 | R3: =F2 -> 0.7 | S3: =G2 -> 0.9 | T3: =H2 -> 0.95
B4: =(N4*$K$11)/$K$4 -> 0 | C4: =(O4*$K$11)/$K$4 -> 3.3785251 | D4: =(P4*$K$11)/$K$4 -> 4.6246397 | E4: =(Q4*$K$11)/$K$4 -> 5.9999314 | F4: =(R4*$K$11)/$K$4 -> 9.5303583 | G4: =(S4*$K$11)/$K$4 -> 16.239391 | H4: =(T4*$K$11)/$K$4 -> 17.663349 | J4: iмех1 | K4: 8.742 | N4: ='Дин. х-ка автомобиля с ГТК'!C5 -> 0 | O4: ='Дин. х-ка автомобиля с ГТК'!D5 -> 114.477 | P4: ='Дин. х-ка автомобиля с ГТК'!E5 -> 156.7 | Q4: ='Дин. х-ка автомобиля с ГТК'!F5 -> 203.3 | R4: ='Дин. х-ка автомобиля с ГТК'!G5 -> 322.924 | S4: ='Дин. х-ка автомобиля с ГТК'!H5 -> 550.251 | T4: ='Дин. х-ка автомобиля с ГТК'!I5 -> 598.5
A5: 2 | B5: V2T1 | C5: V2T2 | D5: V2T3 | E5: V2T4 | F5: V2T5 | G5: V2T6 | H5: V1T7 | J5: iмех2 | K5: 5
B6: =(N4*$K$11)/$K$5 -> 0 | C6: =(O4*$K$11)/$K$5 -> 5.9070132 | D6: =(P4*$K$11)/$K$5 -> 8.08572 | E6: =(Q4*$K$11)/$K$5 -> 10.49028 | F6: =(R4*$K$11)/$K$5 -> 16.662878 | G6: =(S4*$K$11)/$K$5 -> 28.392952 | H6: =(T4*$K$11)/$K$5 -> 30.8826 | J6: iмех3 | K6: 3.134
A7: 3 | B7: V3T1 | C7: V3T2 | D7: V3T3 | E7: V3T4 | F7: V3T5 | G7: V3T6 | H7: V3T7
B8: =(N4*$K$11)/$K$6 -> 0 | C8: =(O4*$K$11)/$K$6 -> 9.4240798 | D8: =(P4*$K$11)/$K$6 -> 12.9 | E8: =(Q4*$K$11)/$K$6 -> 16.736248 | F8: =(R4*$K$11)/$K$6 -> 26.584043 | G8: =(S4*$K$11)/$K$6 -> 45.298264 | H8: =(T4*$K$11)/$K$6 -> 49.270262
J11: rk | K11: 0.258

Sheet Дин. х-ка автомобиля с ГТК
A1: № передачи | B1: Параметры | C1: Расчётные значения 1/iГj | K1: ηмех | L1: 0.92 | N1: g | O1: 9.81 | P1: м/с^2
C2: ='Ск-ть ГТК и авто'!N3 -> 0 | D2: ='Ск-ть ГТК и авто'!O3 -> 0.3 | E2: ='Ск-ть ГТК и авто'!P3 -> 0.4 | F2: ='Ск-ть ГТК и авто'!Q3 -> 0.5 | G2: ='Ск-ть ГТК и авто'!R3 -> 0.7 | H2: ='Ск-ть ГТК и авто'!S3 -> 0.9 | I2: ='Ск-ть ГТК и авто'!T3 -> 0.95 | N2: ψ | O2: 0.02 | Q2: βϕ | R2: ψ | S2: № передачи | T2: ωд, рад/с | U2: Мд, Н*м/с | V2: Мт, Н*м/с | W2: V, м/с | X2: Pк, Н | Y2: Pψ, Н | Z2: Pw, Н | AA2: D | AB2: j, м/с^2 | AC2: 1/j, с^2/м | AD2: ∆tр, с | AE2: S, м | AF2: Pψ+Pw
B3: ωд, рад/с | C3: =Главная!B72 -> 362.05 | D3: =Главная!C72 -> 381.59 | E3: =Главная!D72 -> 391.75 | F3: =Главная!E72 -> 406.6 | G3: =Главная!F72 -> 461.32 | H3: =Главная!G72 -> 611.39 | I3: =Главная!H72 -> 630 | K3: rk | L3: ='Ск-ть ГТК и авто'!K11 -> 0.258 | N3: iкп1 | O3: =L5/$O$9 -> 2.5048711 | Q3: ='Тяговые и разгонные х-ки'!V4 -> 0.3375 | R3: =$O$2 -> 0.02 | S3: 1 | T3: =$C$3 -> 362.05 | U3: =$C$4 -> 111.4 | V3: =Главная!$B$78 -> 272.93 | W3: =C7 -> 0 | X3: =(U3*$L$1*$L$5)/$L$3 -> 3472.6748 | Y3: =$O$2*$L$14 -> 279.3 | Z3: =$L$12*(W3^2) -> 0 | AA3: =(X3-Z3)/$L$14 -> 0.24866987 | AB3: =(9.81/$O$10)*(AA3-$O$2) -> 1.7376411 | AC3: =1/AB3 -> 0.57549284 | AD3: =W3*AC3 -> 0 | AE3: =W3/2*AD3 -> 0 | AF3: =Y3+Z3 -> 279.3
B4: Мд, Н*м | C4: =Главная!B71 -> 111.4 | D4: =Главная!C71 -> 110.91 | E4: =Главная!D71 -> 110.43 | F4: =Главная!E71 -> 109.95 | G4: =Главная!F71 -> 108.51 | H4: =Главная!G71 -> 91.7 | I4: =Главная!H71 -> 59.04 | N4: iкп2 | O4: =L6/$O$9 -> 1.4326648 | Q4: ='Тяговые и разгонные х-ки'!V5 -> 0.3375 | R4: =$O$2 -> 0.02 | T4: =$D$3 -> 381.59 | U4: =$D$4 -> 110.91 | V4: =Главная!$C$78 -> 210.729 | W4: =D7 -> 3.3785251 | X4: =(U4*$L$1*$L$5)/$L$3 -> 3457.4 | Y4: =$O$2*$L$14 -> 279.3 | Z4: =$L$12*(W4^2) -> 4.1584201 | AA4: =(X4-Z4)/$L$14 -> 0.24727831 | AB4: =(9.81/$O$10)*(AA4-$O$2) -> 1.7270667 | AC4: =1/AB4 -> 0.57901643 | AD4: =W4*AC4 -> 1.9562215 | AE4: =W4/2*AD4 -> 3.3045717 | AF4: =Y4+Z4 -> 283.45842
B5: ωт, рад/с | C5: =Главная!B76 -> 0 | D5: =Главная!C76 -> 114.477 | E5: =Главная!D76 -> 156.7 | F5: =Главная!E76 -> 203.3 | G5: =Главная!F76 -> 322.924 | H5: =Главная!G76 -> 550.251 | I5: =Главная!H76 -> 598.5 | K5: iмех1 | L5: ='Ск-ть ГТК и авто'!K4 -> 8.742 | N5: iкп3 | O5: =L7/$O$9 -> 0.89799427 | Q5: ='Тяговые и разгонные х-ки'!V6 -> 0.3375 | R5: =$O$2 -> 0.02 | T5: =$E$3 -> 391.75 | U5: =$E$4 -> 110.43 | V5: =Главная!$D$78 -> 188.8353 | W5: =E7 -> 4.6246397 | X5: =(U5*$L$1*$L$5)/$L$3 -> 3442.437 | Y5: =$O$2*$L$14 -> 279.3 | Z5: =$L$12*(W5^2) -> 7.7916578 | AA5: =(X5-Z5)/$L$14 -> 0.24594667 | AB5: =(9.81/$O$10)*(AA5-$O$2) -> 1.7169477 | AC5: =1/AB5 -> 0.58242891 | AD5: =W5*AC5 -> 2.6935239 | AE5: =W5/2*AD5 -> 6.2282886 | AF5: =Y5+Z5 -> 287.09166
B6: Кт | C6: =Главная!B73 -> 2.45 | D6: =Главная!C73 -> 1.9 | E6: =Главная!D73 -> 1.71 | F6: =Главная!E73 -> 1.52 | G6: =Главная!F73 -> 1.11 | H6: =Главная!G73 -> 1 | I6: =Главная!H73 -> 1 | K6: iмех2 | L6: ='Ск-ть ГТК и авто'!K5 -> 5 | Q6: ='Тяговые и разгонные х-ки'!V7 -> 0.3375 | R6: =$O$2 -> 0.02 | T6: =$F$3 -> 406.6 | U6: =$F$4 -> 109.95 | V6: =Главная!$E$78 -> 167.124 | W6: =F7 -> 5.9999314 | X6: =(U6*$L$1*$L$5)/$L$3 -> 3427.4739 | Y6: =$O$2*$L$14 -> 279.3 | Z6: =$L$12*(W6^2) -> 13.11495 | AA6: =(X6-Z6)/$L$14 -> 0.24449402 | AB6: =(9.81/$O$10)*(AA6-$O$2) -> 1.7059091 | AC6: =1/AB6 -> 0.5861977 | AD6: =W6*AC6 -> 3.5171459 | AE6: =W6/2*AD6 -> 10.551317 | AF6: =Y6+Z6 -> 292.41495
A7: 1 | B7: V, м/с | C7: ='Ск-ть ГТК и авто'!B4 -> 0 | D7: ='Ск-ть ГТК и авто'!C4 -> 3.3785251 | E7: ='Ск-ть ГТК и авто'!D4 -> 4.6246397 | F7: ='Ск-ть ГТК и авто'!E4 -> 5.9999314 | G7: ='Ск-ть ГТК и авто'!F4 -> 9.5303583 | H7: ='Ск-ть ГТК и авто'!G4 -> 16.239391 | I7: ='Ск-ть ГТК и авто'!H4 -> 17.663349 | K7: iмех3 | L7: ='Ск-ть ГТК и авто'!K6 -> 3.134 | Q7: ='Тяговые и разгонные х-ки'!V8 -> 0.3375 | R7: =$O$2 -> 0.02 | T7: =$G$3 -> 461.32 | U7: =$G$4 -> 108.51 | V7: =Главная!$F$78 -> 120.4461 | W7: =G7 -> 9.5303583 | X7: =(U7*$L$1*$L$5)/$L$3 -> 3382.5848 | Y7: =$O$2*$L$14 -> 279.3 | Z7: =$L$12*(W7^2) -> 33.089677 | AA7: =(X7-Z7)/$L$14 -> 0.23984927 | AB7: =(9.81/$O$10)*(AA7-$O$2) -> 1.6706141 | AC7: =1/AB7 -> 0.59858227 | AD7: =W7*AC7 -> 5.7047035 | AE7: =W7/2*AD7 -> 27.183934 | AF7: =Y7+Z7 -> 312.38968
B8: Pk, Н | C8: =(C4*$L$5*$L$1)/$L$3 -> 3472.6748 | D8: =(D4*$L$5*$L$1)/$L$3 -> 3457.4 | E8: =(E4*$L$5*$L$1)/$L$3 -> 3442.437 | F8: =(F4*$L$5*$L$1)/$L$3 -> 3427.4739 | G8: =(G4*$L$5*$L$1)/$L$3 -> 3382.5848 | H8: =(H4*$L$5*$L$1)/$L$3 -> 2858.5662 | I8: =(I4*$L$5*$L$1)/$L$3 -> 1840.4553 | Q8: ='Тяговые и разгонные х-ки'!V9 -> 0.3375 | R8: =$O$2 -> 0.02 | T8: =$H$3 -> 611.39 | U8: =$H$4 -> 91.7 | V8: =Главная!$G$78 -> 91.7 | W8: =H7 -> 16.239391 | X8: =(U8*$L$1*$L$5)/$L$3 -> 2858.5662 | Y8: =$O$2*$L$14 -> 279.3 | Z8: =$L$12*(W8^2) -> 96.075701 | AA8: =(X8-Z8)/$L$14 -> 0.19781529 | AB8: =(9.81/$O$10)*(AA8-$O$2) -> 1.3512018 | AC8: =1/AB8 -> 0.74008189 | AD8: =W8*AC8 -> 12.018479 | AE8: =W8/2*AD8 -> 97.586394 | AF8: =Y8+Z8 -> 375.3757
B9: Pw, Н | C9: =$L$12*(C7^2) -> 0 | D9: =$L$12*(D7^2) -> 4.1584201 | E9: =$L$12*(E7^2) -> 7.7916578 | F9: =$L$12*(F7^2) -> 13.11495 | G9: =$L$12*(G7^2) -> 33.089677 | H9: =$L$12*(H7^2) -> 96.075701 | I9: =$L$12*(I7^2) -> 113.66328 | N9: iгп | O9: 3.49 | Q9: ='Тяговые и разгонные х-ки'!V10 -> 0.3375 | R9: =$O$2 -> 0.02 | T9: =$I$3 -> 630 | U9: =$I$4 -> 59.04 | V9: =Главная!$H$78 -> 59.04 | W9: =I7 -> 17.663349 | X9: =(U9*$L$1*$L$5)/$L$3 -> 1840.4553 | Y9: =$O$2*$L$14 -> 279.3 | Z9: =$L$12*(W9^2) -> 113.66328 | AA9: =(X9-Z9)/$L$14 -> 0.12365142 | AB9: =(9.81/$O$10)*(AA9-$O$2) -> 0.78763745 | AC9: =1/AB9 -> 1.2696197 | AD9: =W9*AC9 -> 22.425736 | AE9: =W9/2*AD9 -> 198.0568 | AF9: =Y9+Z9 -> 392.96328
B10: D I | C10: =(C8-C9)/$L$14 -> 0.24866987 | D10: =(D8-D9)/$L$14 -> 0.24727831 | E10: =(E8-E9)/$L$14 -> 0.24594667 | F10: =(F8-F9)/$L$14 -> 0.24449402 | G10: =(G8-G9)/$L$14 -> 0.23984927 | H10: =(H8-H9)/$L$14 -> 0.19781529 | I10: =(I8-I9)/$L$14 -> 0.12365142 | N10: δ1 | O10: =1.04+0.04*(O3^2) -> 1.2909752 | Q10: ='Тяговые и разгонные х-ки'!V11 -> 0.3375 | R10: =$O$2 -> 0.02 | S10: 2 | T10: =$C$3 -> 362.05 | U10: =$C$4 -> 111.4 | V10: =Главная!$B$78 -> 272.93 | W10: =C11 -> 0 | X10: =(U10*$L$1*$L$6)/$L$3 -> 1986.2016 | Y10: =$O$2*$L$14 -> 279.3 | Z10: =$L$12*(W10^2) -> 0 | AA10: =(X10-Z10)/$L$14 -> 0.14222711 | AB10: =(9.81/$O$11)*(AA10-$O$2) -> 1.0685738 | AC10: =1/AB10 -> 0.93582676 | AD10: =W10+AVERAGE(AC10,AC3) -> 0.7556598 | AE10: =W10/2*AD10 -> 0 | AF10: =Y10+Z10 -> 279.3
A11: 2 | B11: V, м/с | C11: ='Ск-ть ГТК и авто'!B6 -> 0 | D11: ='Ск-ть ГТК и авто'!C6 -> 5.9070132 | E11: ='Ск-ть ГТК и авто'!D6 -> 8.08572 | F11: ='Ск-ть ГТК и авто'!E6 -> 10.49028 | G11: ='Ск-ть ГТК и авто'!F6 -> 16.662878 | H11: ='Ск-ть ГТК и авто'!G6 -> 28.392952 | I11: ='Ск-ть ГТК и авто'!H6 -> 30.8826 | N11: δ2 | O11: =1.04+0.04*(O4^2) -> 1.1221011 | Q11: ='Тяговые и разгонные х-ки'!V12 -> 0.3375 | R11: =$O$2 -> 0.02 | T11: =$D$3 -> 381.59 | U11: =$D$4 -> 110.91 | V11: =Главная!$C$78 -> 210.729 | W11: =D11 -> 5.9070132 | X11: =(U11*$L$1*$L$6)/$L$3 -> 1977.4651 | Y11: =$O$2*$L$14 -> 279.3 | Z11: =$L$12*(W11^2) -> 12.711885 | AA11: =(X11-Z11)/$L$14 -> 0.14069124 | AB11: =(9.81/$O$11)*(AA11-$O$2) -> 1.0551465 | AC11: =1/AB11 -> 0.94773567 | AD11: =W11+AVERAGE(AC11,AC4) -> 6.6703893 | AE11: =W11/2*AD11 -> 19.701039 | AF11: =Y11+Z11 -> 292.01189
B12: Pk, Н | C12: =(C4*$L$6*$L$1)/$L$3 -> 1986.2016 | D12: =(D4*$L$6*$L$1)/$L$3 -> 1977.4651 | E12: =(E4*$L$6*$L$1)/$L$3 -> 1968.907 | F12: =(F4*$L$6*$L$1)/$L$3 -> 1960.3488 | G12: =(G4*$L$6*$L$1)/$L$3 -> 1934.6744 | H12: =(H4*$L$6*$L$1)/$L$3 -> 1634.9612 | I12: =(I4*$L$6*$L$1)/$L$3 -> 1052.6512 | K12: cρF | L12: =0.15*1.25*1.943 -> 0.3643125 | N12: δ3 | O12: =1.04+0.04*(O5^2) -> 1.0722557 | Q12: ='Тяговые и разгонные х-ки'!V13 -> 0.3375 | R12: =$O$2 -> 0.02 | T12: =$E$3 -> 391.75 | U12: =$E$4 -> 110.43 | V12: =Главная!$D$78 -> 188.8353 | W12: =E11 -> 8.08572 | X12: =(U12*$L$1*$L$6)/$L$3 -> 1968.907 | Y12: =$O$2*$L$14 -> 279.3 | Z12: =$L$12*(W12^2) -> 23.818339 | AA12: =(X12-Z12)/$L$14 -> 0.13928311 | AB12: =(9.81/$O$11)*(AA12-$O$2) -> 1.0428359 | AC12: =1/AB12 -> 0.95892367 | AD12: =W12+AVERAGE(AC12,AC5) -> 8.8563963 | AE12: =W12/2*AD12 -> 35.80517 | AF12: =Y12+Z12 -> 303.11834
B13: Pw, Н | C13: =$L$12*(C11^2) -> 0 | D13: =$L$12*(D11^2) -> 12.711885 | E13: =$L$12*(E11^2) -> 23.818339 | F13: =$L$12*(F11^2) -> 40.091124 | G13: =$L$12*(G11^2) -> 101.15192 | H13: =$L$12*(H11^2) -> 293.69406 | I13: =$L$12*(I11^2) -> 347.45758 | Q13: ='Тяговые и разгонные х-ки'!V14 -> 0.3375 | R13: =$O$2 -> 0.02 | T13: =$F$3 -> 406.6 | U13: =$F$4 -> 109.95 | V13: =Главная!$E$78 -> 167.124 | W13: =F11 -> 10.49028 | X13: =(U13*$L$1*$L$6)/$L$3 -> 1960.3488 | Y13: =$O$2*$L$14 -> 279.3 | Z13: =$L$12*(W13^2) -> 40.091124 | AA13: =(X13-Z13)/$L$14 -> 0.13750503 | AB13: =(9.81/$O$11)*(AA13-$O$2) -> 1.0272909 | AC13: =1/AB13 -> 0.97343407 | AD13: =W13+AVERAGE(AC13,AC6) -> 11.270096 | AE13: =W13/2*AD13 -> 59.113231 | AF13: =Y13+Z13 -> 319.39112
B14: D II | C14: =(C12-C13)/$L$14 -> 0.14222711 | D14: =(D12-D13)/$L$14 -> 0.14069124 | E14: =(E12-E13)/$L$14 -> 0.13928311 | F14: =(F12-F13)/$L$14 -> 0.13750503 | G14: =(G12-G13)/$L$14 -> 0.13129413 | H14: =(H12-H13)/$L$14 -> 0.096044911 | I14: =(I12-I13)/$L$14 -> 0.050497214 | K14: gma | L14: =9.8*1425 -> 13965 | Q14: ='Тяговые и разгонные х-ки'!V15 -> 0.3375 | R14: =$O$2 -> 0.02 | T14: =$G$3 -> 461.32 | U14: =$G$4 -> 108.51 | V14: =Главная!$F$78 -> 120.4461 | W14: =G11 -> 16.662878 | X14: =(U14*$L$1*$L$6)/$L$3 -> 1934.6744 | Y14: =$O$2*$L$14 -> 279.3 | Z14: =$L$12*(W14^2) -> 101.15192 | AA14: =(X14-Z14)/$L$14 -> 0.13129413 | AB14: =(9.81/$O$11)*(AA14-$O$2) -> 0.97299198 | AC14: =1/AB14 -> 1.0277577 | AD14: =W14+AVERAGE(AC14,AC7) -> 17.476048 | AE14: =W14/2*AD14 -> 145.60063 | AF14: =Y14+Z14 -> 380.45192
A15: 3 | B15: V, м/с | C15: ='Ск-ть ГТК и авто'!B8 -> 0 | D15: ='Ск-ть ГТК и авто'!C8 -> 9.4240798 | E15: ='Ск-ть ГТК и авто'!D8 -> 12.9 | F15: ='Ск-ть ГТК и авто'!E8 -> 16.736248 | G15: ='Ск-ть ГТК и авто'!F8 -> 26.584043 | H15: ='Ск-ть ГТК и авто'!G8 -> 45.298264 | I15: ='Ск-ть ГТК и авто'!H8 -> 49.270262 | Q15: ='Тяговые и разгонные х-ки'!V16 -> 0.3375 | R15: =$O$2 -> 0.02 | T15: =$H$3 -> 611.39 | U15: =$H$4 -> 91.7 | V15: =Главная!$G$78 -> 91.7 | W15: =H11 -> 28.392952 | X15: =(U15*$L$1*$L$6)/$L$3 -> 1634.9612 | Y15: =$O$2*$L$14 -> 279.3 | Z15: =$L$12*(W15^2) -> 293.69406 | AA15: =(X15-Z15)/$L$14 -> 0.096044911 | AB15: =(9.81/$O$11)*(AA15-$O$2) -> 0.66482473 | AC15: =1/AB15 -> 1.5041558 | AD15: =W15+AVERAGE(AC15,AC8) -> 29.51507 | AE15: =W15/2*AD15 -> 419.00998 | AF15: =Y15+Z15 -> 572.99406
B16: Pk, Н | C16: =(C4*$L$7*$L$1)/$L$3 -> 1244.9511 | D16: =(D4*$L$7*$L$1)/$L$3 -> 1239.4751 | E16: =(E4*$L$7*$L$1)/$L$3 -> 1234.1109 | F16: =(F4*$L$7*$L$1)/$L$3 -> 1228.7467 | G16: =(G4*$L$7*$L$1)/$L$3 -> 1212.6539 | H16: =(H4*$L$7*$L$1)/$L$3 -> 1024.7937 | I16: =(I4*$L$7*$L$1)/$L$3 -> 659.80175 | Q16: ='Тяговые и разгонные х-ки'!V17 -> 0.3375 | R16: =$O$2 -> 0.02 | T16: =$I$3 -> 630 | U16: =$I$4 -> 59.04 | V16: =Главная!$H$78 -> 59.04 | W16: =I11 -> 30.8826 | X16: =(U16*$L$1*$L$6)/$L$3 -> 1052.6512 | Y16: =$O$2*$L$14 -> 279.3 | Z16: =$L$12*(W16^2) -> 347.45758 | AA16: =(X16-Z16)/$L$14 -> 0.050497214 | AB16: =(9.81/$O$11)*(AA16-$O$2) -> 0.26662273 | AC16: =1/AB16 -> 3.750618 | AD16: =W16+AVERAGE(AC16,AC9) -> 33.392719 | AE16: =W16/2*AD16 -> 515.62699 | AF16: =Y16+Z16 -> 626.75758
B17: Pw, Н | C17: =$L$12*(C15^2) -> 0 | D17: =$L$12*(D15^2) -> 32.355788 | E17: =$L$12*(E15^2) -> 60.625243 | F17: =$L$12*(F15^2) -> 102.04465 | G17: =$L$12*(G15^2) -> 257.46378 | H17: =$L$12*(H15^2) -> 747.54473 | I17: =$L$12*(I15^2) -> 884.38997 | Q17: ='Тяговые и разгонные х-ки'!V18 -> 0.3375 | R17: =$O$2 -> 0.02 | S17: 3 | T17: =$C$3 -> 362.05 | U17: =$C$4 -> 111.4 | V17: =Главная!$B$78 -> 272.93 | W17: =C15 -> 0 | X17: =(U17*$L$1*$L$7)/$L$3 -> 1244.9511 | Y17: =$O$2*$L$14 -> 279.3 | Z17: =$L$12*(W17^2) -> 0 | AA17: =(X17-Z17)/$L$14 -> 0.089147951 | AB17: =(9.81/$O$11)*(AA17-$O$2) -> 0.60452786 | AC17: =1/AB17 -> 1.6541835 | AD17: =W17+AVERAGE(AC17,AC10) -> 1.2950051 | AE17: =W17/2*AD17 -> 0 | AF17: =Y17+Z17 -> 279.3
B18: D III | C18: =(C16-C17)/$L$14 -> 0.089147951 | D18: =(D16-D17)/$L$14 -> 0.086438908 | E18: =(E16-E17)/$L$14 -> 0.08403048 | F18: =(F16-F17)/$L$14 -> 0.080680415 | G18: =(G16-G17)/$L$14 -> 0.068398864 | H18: =(H16-H17)/$L$14 -> 0.019853131 | I18: =(I16-I17)/$L$14 -> -0.016082222 | Q18: ='Тяговые и разгонные х-ки'!V19 -> 0.3375 | R18: =$O$2 -> 0.02 | T18: =$D$3 -> 381.59 | U18: =$D$4 -> 110.91 | V18: =Главная!$C$78 -> 210.729 | W18: =D15 -> 9.4240798 | X18: =(U18*$L$1*$L$7)/$L$3 -> 1239.4751 | Y18: =$O$2*$L$14 -> 279.3 | Z18: =$L$12*(W18^2) -> 32.355788 | AA18: =(X18-Z18)/$L$14 -> 0.086438908 | AB18: =(9.81/$O$11)*(AA18-$O$2) -> 0.58084398 | AC18: =1/AB18 -> 1.7216327 | AD18: =W18+AVERAGE(AC18,AC11) -> 10.758764 | AE18: =W18/2*AD18 -> 50.695725 | AF18: =Y18+Z18 -> 311.65579
B19: ψ | C19: =$R$3 -> 0.02 | D19: =$R$3 -> 0.02 | E19: =$R$3 -> 0.02 | F19: =$R$3 -> 0.02 | G19: =$R$3 -> 0.02 | H19: =$R$3 -> 0.02 | I19: =$R$3 -> 0.02 | Q19: ='Тяговые и разгонные х-ки'!V20 -> 0.3375 | R19: =$O$2 -> 0.02 | T19: =$E$3 -> 391.75 | U19: =$E$4 -> 110.43 | V19: =Главная!$D$78 -> 188.8353 | W19: =E15 -> 12.9 | X19: =(U19*$L$1*$L$7)/$L$3 -> 1234.1109 | Y19: =$O$2*$L$14 -> 279.3 | Z19: =$L$12*(W19^2) -> 60.625243 | AA19: =(X19-Z19)/$L$14 -> 0.08403048 | AB19: =(9.81/$O$11)*(AA19-$O$2) -> 0.55978823 | AC19: =1/AB19 -> 1.7863898 | AD19: =W19+AVERAGE(AC19,AC12) -> 14.272657 | AE19: =W19/2*AD19 -> 92.058636 | AF19: =Y19+Z19 -> 339.92524
B20: βϕ | C20: =$Q$3 -> 0.3375 | D20: =$Q$3 -> 0.3375 | E20: =$Q$3 -> 0.3375 | F20: =$Q$3 -> 0.3375 | G20: =$Q$3 -> 0.3375 | H20: =$Q$3 -> 0.3375 | I20: =$Q$3 -> 0.3375 | Q20: ='Тяговые и разгонные х-ки'!V21 -> 0.3375 | R20: =$O$2 -> 0.02 | T20: =$F$3 -> 406.6 | U20: =$F$4 -> 109.95 | V20: =Главная!$E$78 -> 167.124 | W20: =F15 -> 16.736248 | X20: =(U20*$L$1*$L$7)/$L$3 -> 1228.7467 | Y20: =$O$2*$L$14 -> 279.3 | Z20: =$L$12*(W20^2) -> 102.04465 | AA20: =(X20-Z20)/$L$14 -> 0.080680415 | AB20: =(9.81/$O$11)*(AA20-$O$2) -> 0.5305002 | AC20: =1/AB20 -> 1.8850134 | AD20: =W20+AVERAGE(AC20,AC13) -> 18.165471 | AE20: =W20/2*AD20 -> 152.01091 | AF20: =Y20+Z20 -> 381.34465
Q21: ='Тяговые и разгонные х-ки'!V22 -> 0.3375 | R21: =$O$2 -> 0.02 | T21: =$G$3 -> 461.32 | U21: =$G$4 -> 108.51 | V21: =Главная!$F$78 -> 120.4461 | W21: =G15 -> 26.584043 | X21: =(U21*$L$1*$L$7)/$L$3 -> 1212.6539 | Y21: =$O$2*$L$14 -> 279.3 | Z21: =$L$12*(W21^2) -> 257.46378 | AA21: =(X21-Z21)/$L$14 -> 0.068398864 | AB21: =(9.81/$O$11)*(AA21-$O$2) -> 0.4231284 | AC21: =1/AB21 -> 2.3633488 | AD21: =W21+AVERAGE(AC21,AC14) -> 28.279597 | AE21: =W21/2*AD21 -> 375.89301 | AF21: =Y21+Z21 -> 536.76378
Q22: ='Тяговые и разгонные х-ки'!V23 -> 0.3375 | R22: =$O$2 -> 0.02 | T22: =$H$3 -> 611.39 | U22: =$H$4 -> 91.7 | V22: =Главная!$G$78 -> 91.7 | W22: =H15 -> 45.298264 | X22: =(U22*$L$1*$L$7)/$L$3 -> 1024.7937 | Y22: =$O$2*$L$14 -> 279.3 | Z22: =$L$12*(W22^2) -> 747.54473 | AA22: =(X22-Z22)/$L$14 -> 0.019853131 | AB22: =(9.81/$O$11)*(AA22-$O$2) -> -0.0012840026 | AC22: 8 | AD22: =W22+AVERAGE(AC22,AC15) -> 50.050341 | AE22: =W22/2*AD22 -> 1133.5968 | AF22: =Y22+Z22 -> 1026.8447
Q23: ='Тяговые и разгонные х-ки'!V24 -> 0.3375 | R23: =$O$2 -> 0.02 | T23: =$I$3 -> 630 | U23: =$I$4 -> 59.04 | V23: =Главная!$H$78 -> 59.04 | W23: =I15 -> 49.270262 | X23: =(U23*$L$1*$L$7)/$L$3 -> 659.80175 | Y23: =$O$2*$L$14 -> 279.3 | Z23: =$L$12*(W23^2) -> 884.38997 | AA23: =(X23-Z23)/$L$14 -> -0.016082222 | AB23: =(9.81/$O$11)*(AA23-$O$2) -> -0.31544981 | AC23: 25 | AD23: =W23+AVERAGE(AC23,AC16) -> 63.645571 | AE23: =W23/2*AD23 -> 1567.917 | AF23: =Y23+Z23 -> 1163.69
Q25: 0.245
Q26: 0.245

Sheet Тяговые и разгонные х-ки
B2: Тяговые и разгонные х-ки автомобиля | U2: Верхнее и нижнее ограничение тяговой силы колёс
B3: № передачи | C3: ωд, рад/с | D3: Мд, Н*м/с | E3: V, м/с | F3: Pк, Н | G3: Pψ, Н | H3: Pw, Н | I3: D | J3: j, м/с^2 | K3: 1/j, с^2/м | L3: ∆tр, с | M3: S, м | N3: Pψ+Pw | O3: iтр1 | P3: =P7*$P$10 -> 8.742 | U3: V, м/с | V3: βϕ | W3: ψ | Y3: β | Z3: 0.45 | AD3: Vo (м/с) | AE3: 5 | AF3: 10 | AG3: 15 | AH3: 20 | AI3: 25 | AJ3: 30 | AK3: 35 | AL3: 40 | AM3: 45
B4: 1 | C4: =C12 -> 360 | D4: =Главная!K14 -> 111.46914 | E4: =(C4*$P$12)/$P$3 -> 10.624571 | F4: =(D4*$P$13*$P$3)/$P$12 -> 3474.83 | G4: =$P$14*$P$15*$P$16 -> 279.585 | H4: =$P$17*$P$18*$P$19*(E4^2) -> 41.12986 | I4: =(F4-H4)/($P$15*$P$16) -> 0.24562835 | J4: =($P$16/$S$7)*(I4-$P$14) -> 1.7145288 | K4: =1/J4 -> 0.58325062 | L4: =E4*K4 -> 6.1967877 | M4: =E4/2*L4 -> 32.919106 | N4: =G4+H4 -> 320.71486 | O4: iтр2 | P4: =P8*$P$10 -> 5 | U4: =E4 -> 10.624571 | V4: =$Z$3*$Z$4 -> 0.3375 | W4: ='Дин. х-ка автомобиля с ГТК'!$O$2 -> 0.02 | Y4: ϕ | Z4: 0.75 | AD4: S(t) (фи=0.7)
C5: =Главная!A15 -> 400 | D5: =Главная!K15 -> 110.32595 | E5: =(C5*$P$12)/$P$3 -> 11.805079 | F5: =(D5*$P$13*$P$3)/$P$12 -> 3439.1935 | G5: =$P$14*$P$15*$P$16 -> 279.585 | H5: =$P$17*$P$18*$P$19*(E5^2) -> 50.777604 | I5: =(F5-H5)/($P$15*$P$16) -> 0.24238896 | J5: =($P$16/$S$7)*(I5-$P$14) -> 1.689913 | K5: =1/J5 -> 0.59174644 | L5: =E5*K5 -> 6.9856134 | M5: =E5/2*L5 -> 41.232859 | N5: =G5+H5 -> 330.3626 | O5: iтр3 | P5: ='Ск-ть ГТК и авто'!K6 -> 3.134 | U5: =E5 -> 11.805079 | V5: =$Z$3*$Z$4 -> 0.3375 | W5: ='Дин. х-ка автомобиля с ГТК'!$O$2 -> 0.02 | AD5: S(t) (фи=0.4)
C6: =Главная!A16 -> 440 | D6: =Главная!K16 -> 108.99775 | E6: =(C6*$P$12)/$P$3 -> 12.985587 | F6: =(D6*$P$13*$P$3)/$P$12 -> 3397.7893 | G6: =$P$14*$P$15*$P$16 -> 279.585 | H6: =$P$17*$P$18*$P$19*(E6^2) -> 61.440901 | I6: =(F6-H6)/($P$15*$P$16) -> 0.23866433 | J6: =($P$16/$S$7)*(I6-$P$14) -> 1.6616099 | K6: =1/J6 -> 0.60182598 | L6: =E6*K6 -> 7.8150635 | M6: =E6/2*L6 -> 50.741593 | N6: =G6+H6 -> 341.0259 | U6: =E6 -> 12.985587 | V6: =$Z$3*$Z$4 -> 0.3375 | W6: ='Дин. х-ка автомобиля с ГТК'!$O$2 -> 0.02 | AD6: S(t) (фи=0.2)
C7: =Главная!A17 -> 480 | D7: =Главная!K17 -> 107.50208 | E7: =(C7*$P$12)/$P$3 -> 14.166095 | F7: =(D7*$P$13*$P$3)/$P$12 -> 3351.1647 | G7: =$P$14*$P$15*$P$16 -> 279.585 | H7: =$P$17*$P$18*$P$19*(E7^2) -> 73.11975 | I7: =(F7-H7)/($P$15*$P$16) -> 0.23449362 | J7: =($P$16/$S$7)*(I7-$P$14) -> 1.629917 | K7: =1/J7 -> 0.61352816 | L7: =E7*K7 -> 8.691298 | M7: =E7/2*L7 -> 61.560875 | N7: =G7+H7 -> 352.70475 | O7: iкп1 | P7: ='Дин. х-ка автомобиля с ГТК'!O3 -> 2.5048711 | R7: δ1 | S7: =1.04+0.04*(P7^2) -> 1.2909752 | U7: =E7 -> 14.166095 | V7: =$Z$3*$Z$4 -> 0.3375 | W7: ='Дин. х-ка автомобиля с ГТК'!$O$2 -> 0.02
C8: =Главная!A18 -> 520 | D8: =Главная!K18 -> 103.25168 | E8: =(C8*$P$12)/$P$3 -> 15.346603 | F8: =(D8*$P$13*$P$3)/$P$12 -> 3218.6669 | G8: =$P$14*$P$15*$P$16 -> 279.585 | H8: =$P$17*$P$18*$P$19*(E8^2) -> 85.814152 | I8: =(F8-H8)/($P$15*$P$16) -> 0.22410736 | J8: =($P$16/$S$7)*(I8-$P$14) -> 1.5509928 | K8: =1/J8 -> 0.64474832 | L8: =E8*K8 -> 9.8946962 | M8: =E8/2*L8 -> 75.924985 | N8: =G8+H8 -> 365.39915 | O8: iкп2 | P8: ='Дин. х-ка автомобиля с ГТК'!O4 -> 1.4326648 | R8: δ2 | S8: =1.04+0.04*(P8^2) -> 1.1221011 | U8: =E8 -> 15.346603 | V8: =$Z$3*$Z$4 -> 0.3375 | W8: ='Дин. х-ка автомобиля с ГТК'!$O$2 -> 0.02
C9: =Главная!A19 -> 560 | D9: =Главная!K19 -> 98.290306 | E9: =(C9*$P$12)/$P$3 -> 16.527111 | F9: =(D9*$P$13*$P$3)/$P$12 -> 3064.006 | G9: =$P$14*$P$15*$P$16 -> 279.585 | H9: =$P$17*$P$18*$P$19*(E9^2) -> 99.524105 | I9: =(F9-H9)/($P$15*$P$16) -> 0.21206301 | J9: =($P$16/$S$7)*(I9-$P$14) -> 1.4594689 | K9: =1/J9 -> 0.68518073 | L9: =E9*K9 -> 11.324058 | M9: =E9/2*L9 -> 93.576976 | N9: =G9+H9 -> 379.1091 | O9: iкп3 | P9: ='Дин. х-ка автомобиля с ГТК'!O5 -> 0.89799427 | R9: δ3 | S9: =1.04+0.04*(P9^2) -> 1.0722557 | U9: =E9 -> 16.527111 | V9: =$Z$3*$Z$4 -> 0.3375 | W9: ='Дин. х-ка автомобиля с ГТК'!$O$2 -> 0.02
C10: =Главная!A20 -> 600 | D10: =Главная!K20 -> 92.842707 | E10: =(C10*$P$12)/$P$3 -> 17.707618 | F10: =(D10*$P$13*$P$3)/$P$12 -> 2894.1879 | G10: =$P$14*$P$15*$P$16 -> 279.585 | H10: =$P$17*$P$18*$P$19*(E10^2) -> 114.24961 | I10: =(F10-H10)/($P$15*$P$16) -> 0.19886176 | J10: =($P$16/$S$7)*(I10-$P$14) -> 1.3591539 | K10: =1/J10 -> 0.73575188 | L10: =E10*K10 -> 13.028413 | M10: =E10/2*L10 -> 115.35109 | N10: =G10+H10 -> 393.83461 | O10: iгп | P10: ='Дин. х-ка автомобиля с ГТК'!O9 -> 3.49 | U10: =E10 -> 17.707618 | V10: =$Z$3*$Z$4 -> 0.3375 | W10: ='Дин. х-ка автомобиля с ГТК'!$O$2 -> 0.02
C11: =Главная!A21 -> 630 | D11: =Главная!K21 -> 89.460317 | E11: =(C11*$P$12)/$P$3 -> 18.592999 | F11: =(D11*$P$13*$P$3)/$P$12 -> 2788.7486 | G11: =$P$14*$P$15*$P$16 -> 279.585 | H11: =$P$17*$P$18*$P$19*(E11^2) -> 125.9602 | I11: =(F11-H11)/($P$15*$P$16) -> 0.19048149 | J11: =($P$16/$S$7)*(I11-$P$14) -> 1.295473 | K11: =1/J11 -> 0.77191885 | L11: =E11*K11 -> 14.352287 | M11: =E11/2*L11 -> 133.42603 | N11: =G11+H11 -> 405.5452 | U11: =E11 -> 18.592999 | V11: =$Z$3*$Z$4 -> 0.3375 | W11: ='Дин. х-ка автомобиля с ГТК'!$O$2 -> 0.02
B12: 2 | C12: =Главная!A14 -> 360 | D12: =Главная!K14 -> 111.46914 | E12: =(C12*$P$12)/$P$4 -> 18.576 | F12: =(D12*$P$13*$P$4)/$P$12 -> 1987.4342 | G12: =$P$14*$P$15*$P$16 -> 279.585 | H12: =$P$17*$P$18*$P$19*(E12^2) -> 125.72997 | I12: =(F12-H12)/($P$15*$P$16) -> 0.13317626 | J12: =($P$16/$S$8)*(I12-$P$14) -> 0.98944656 | K12: =1/J12 -> 1.010666 | L12: =E12*K12 -> 18.774132 | M12: =E12/2*L12 -> 174.37413 | N12: =G12+H12 -> 405.31497 | O12: rк | P12: ='Дин. х-ка автомобиля с ГТК'!L3 -> 0.258 | Q12: м | U12: =E12 -> 18.576 | V12: =$Z$3*$Z$4 -> 0.3375 | W12: ='Дин. х-ка автомобиля с ГТК'!$O$2 -> 0.02
C13: =Главная!A15 -> 400 | D13: =Главная!K15 -> 110.32595 | E13: =(C13*$P$12)/$P$4 -> 20.64 | F13: =(D13*$P$13*$P$4)/$P$12 -> 1967.0519 | G13: =$P$14*$P$15*$P$16 -> 279.585 | H13: =$P$17*$P$18*$P$19*(E13^2) -> 155.22219 | I13: =(F13-H13)/($P$15*$P$16) -> 0.1296085 | J13: =($P$16/$S$8)*(I13-$P$14) -> 0.95825536 | K13: =1/J13 -> 1.0435632 | L13: =E13*K13 -> 21.539144 | M13: =E13/2*L13 -> 222.28396 | N13: =G13+H13 -> 434.80719 | O13: ηтр макс | P13: ='Дин. х-ка автомобиля с ГТК'!L1 -> 0.92 | U13: =E13 -> 20.64 | V13: =$Z$3*$Z$4 -> 0.3375 | W13: ='Дин. х-ка автомобиля с ГТК'!$O$2 -> 0.02
C14: =Главная!A16 -> 440 | D14: =Главная!K16 -> 108.99775 | E14: =(C14*$P$12)/$P$4 -> 22.704 | F14: =(D14*$P$13*$P$4)/$P$12 -> 1943.3707 | G14: =$P$14*$P$15*$P$16 -> 279.585 | H14: =$P$17*$P$18*$P$19*(E14^2) -> 187.81885 | I14: =(F14-H14)/($P$15*$P$16) -> 0.12558269 | J14: =($P$16/$S$8)*(I14-$P$14) -> 0.92305957 | K14: =1/J14 -> 1.0833537 | L14: =E14*K14 -> 24.596462 | M14: =E14/2*L14 -> 279.21904 | N14: =G14+H14 -> 467.40385 | O14: ψ | P14: ='Дин. х-ка автомобиля с ГТК'!O2 -> 0.02 | U14: =E14 -> 22.704 | V14: =$Z$3*$Z$4 -> 0.3375 | W14: ='Дин. х-ка автомобиля с ГТК'!$O$2 -> 0.02
C15: =Главная!A17 -> 480 | D15: =Главная!K17 -> 107.50208 | E15: =(C15*$P$12)/$P$4 -> 24.768 | F15: =(D15*$P$13*$P$4)/$P$12 -> 1916.7037 | G15: =$P$14*$P$15*$P$16 -> 279.585 | H15: =$P$17*$P$18*$P$19*(E15^2) -> 223.51995 | I15: =(F15-H15)/($P$15*$P$16) -> 0.12112121 | J15: =($P$16/$S$8)*(I15-$P$14) -> 0.88405499 | K15: =1/J15 -> 1.1311514 | L15: =E15*K15 -> 28.016357 | M15: =E15/2*L15 -> 346.95456 | N15: =G15+H15 -> 503.10495 | O15: ma | P15: 1425 | Q15: кг | U15: =E15 -> 24.768 | V15: =$Z$3*$Z$4 -> 0.3375 | W15: ='Дин. х-ка автомобиля с ГТК'!$O$2 -> 0.02
C16: =Главная!A18 -> 520 | D16: =Главная!K18 -> 103.25168 | E16: =(C16*$P$12)/$P$4 -> 26.832 | F16: =(D16*$P$13*$P$4)/$P$12 -> 1840.9214 | G16: =$P$14*$P$15*$P$16 -> 279.585 | H16: =$P$17*$P$18*$P$19*(E16^2) -> 262.3255 | I16: =(F16-H16)/($P$15*$P$16) -> 0.11292422 | J16: =($P$16/$S$8)*(I16-$P$14) -> 0.81239254 | K16: =1/J16 -> 1.230932 | L16: =E16*K16 -> 33.028368 | M16: =E16/2*L16 -> 443.10859 | N16: =G16+H16 -> 541.9105 | O16: g | P16: 9.81 | Q16: м/с^2 | U16: =E16 -> 26.832 | V16: =$Z$3*$Z$4 -> 0.3375 | W16: ='Дин. х-ка автомобиля с ГТК'!$O$2 -> 0.02
C17: =Главная!A19 -> 560 | D17: =Главная!K19 -> 98.290306 | E17: =(C17*$P$12)/$P$4 -> 28.896 | F17: =(D17*$P$13*$P$4)/$P$12 -> 1752.4628 | G17: =$P$14*$P$15*$P$16 -> 279.585 | H17: =$P$17*$P$18*$P$19*(E17^2) -> 304.23549 | I17: =(F17-H17)/($P$15*$P$16) -> 0.10359836 | J17: =($P$16/$S$8)*(I17-$P$14) -> 0.73086093 | K17: =1/J17 -> 1.3682494 | L17: =E17*K17 -> 39.536934 | M17: =E17/2*L17 -> 571.22962 | N17: =G17+H17 -> 583.82049 | O17: c | P17: 0.15 | U17: =E17 -> 28.896 | V17: =$Z$3*$Z$4 -> 0.3375 | W17: ='Дин. х-ка автомобиля с ГТК'!$O$2 -> 0.02
C18: =Главная!A20 -> 600 | D18: =Главная!K20 -> 92.842707 | E18: =(C18*$P$12)/$P$4 -> 30.96 | F18: =(D18*$P$13*$P$4)/$P$12 -> 1655.3351 | G18: =$P$14*$P$15*$P$16 -> 279.585 | H18: =$P$17*$P$18*$P$19*(E18^2) -> 349.24993 | I18: =(F18-H18)/($P$15*$P$16) -> 0.093430275 | J18: =($P$16/$S$8)*(I18-$P$14) -> 0.6419662 | K18: =1/J18 -> 1.5577144 | L18: =E18*K18 -> 48.226838 | M18: =E18/2*L18 -> 746.55146 | N18: =G18+H18 -> 628.83493 | O18: ρ | P18: 1.25 | Q18: кг/м^3 | U18: =E18 -> 30.96 | V18: =$Z$3*$Z$4 -> 0.3375 | W18: ='Дин. х-ка автомобиля с ГТК'!$O$2 -> 0.02
C19: =Главная!A21 -> 630 | D19: =Главная!K21 -> 89.460317 | E19: =(C19*$P$12)/$P$4 -> 32.508 | F19: =(D19*$P$13*$P$4)/$P$12 -> 1595.0289 | G19: =$P$14*$P$15*$P$16 -> 279.585 | H19: =$P$17*$P$18*$P$19*(E19^2) -> 385.04804 | I19: =(F19-H19)/($P$15*$P$16) -> 0.086555493 | J19: =($P$16/$S$8)*(I19-$P$14) -> 0.58186323 | K19: =1/J19 -> 1.7186169 | L19: =E19*K19 -> 55.8688 | M19: =E19/2*L19 -> 908.09147 | N19: =G19+H19 -> 664.63304 | O19: F | P19: =0.85*$P$20*$P$21 -> 1.94327 | Q19: м^2 | U19: =E19 -> 32.508 | V19: =$Z$3*$Z$4 -> 0.3375 | W19: ='Дин. х-ка автомобиля с ГТК'!$O$2 -> 0.02
B20: 3 | C20: =Главная!A14 -> 360 | D20: =Главная!K14 -> 111.46914 | E20: =(C20*$P$12)/$P$5 -> 29.636248 | F20: =(D20*$P$13*$P$5)/$P$12 -> 1245.7238 | G20: =$P$14*$P$15*$P$16 -> 279.585 | H20: =$P$17*$P$18*$P$19*(E20^2) -> 320.02275 | I20: =(F20-H20)/($P$15*$P$16) -> 0.066219648 | J20: =($P$16/$S$9)*(I20-$P$14) -> 0.42286063 | K20: =1/J20 -> 2.3648453 | L20: =E20*K20 -> 70.085142 | M20: =E20/2*L20 -> 1038.5303 | N20: =G20+H20 -> 599.60775 | O20: B | P20: 1.61 | Q20: м | U20: =E20 -> 29.636248 | V20: =$Z$3*$Z$4 -> 0.3375 | W20: ='Дин. х-ка автомобиля с ГТК'!$O$2 -> 0.02
C21: =Главная!A15 -> 400 | D21: =Главная!K15 -> 110.32595 | E21: =(C21*$P$12)/$P$5 -> 32.929164 | F21: =(D21*$P$13*$P$5)/$P$12 -> 1232.9481 | G21: =$P$14*$P$15*$P$16 -> 279.585 | H21: =$P$17*$P$18*$P$19*(E21^2) -> 395.08981 | I21: =(F21-H21)/($P$15*$P$16) -> 0.059935855 | J21: =($P$16/$S$9)*(I21-$P$14) -> 0.36537061 | K21: =1/J21 -> 2.736947 | L21: =E21*K21 -> 90.125377 | M21: =E21/2*L21 -> 1483.8767 | N21: =G21+H21 -> 674.67481 | O21: H | P21: 1.42 | Q21: м | U21: =E21 -> 32.929164 | V21: =$Z$3*$Z$4 -> 0.3375 | W21: ='Дин. х-ка автомобиля с ГТК'!$O$2 -> 0.02
C22: =Главная!A16 -> 440 | D22: =Главная!K16 -> 108.99775 | E22: =(C22*$P$12)/$P$5 -> 36.22208 | F22: =(D22*$P$13*$P$5)/$P$12 -> 1218.1047 | G22: =$P$14*$P$15*$P$16 -> 279.585 | H22: =$P$17*$P$18*$P$19*(E22^2) -> 478.05867 | I22: =(F22-H22)/($P$15*$P$16) -> 0.052938896 | J22: =($P$16/$S$9)*(I22-$P$14) -> 0.30135588 | K22: =1/J22 -> 3.3183358 | L22: =E22*K22 -> 120.19703 | M22: =E22/2*L22 -> 2176.8932 | N22: =G22+H22 -> 757.64367 | U22: =E22 -> 36.22208 | V22: =$Z$3*$Z$4 -> 0.3375 | W22: ='Дин. х-ка автомобиля с ГТК'!$O$2 -> 0.02
C23: =Главная!A17 -> 480 | D23: =Главная!K17 -> 107.50208 | E23: =(C23*$P$12)/$P$5 -> 39.514997 | F23: =(D23*$P$13*$P$5)/$P$12 -> 1201.3899 | G23: =$P$14*$P$15*$P$16 -> 279.585 | H23: =$P$17*$P$18*$P$19*(E23^2) -> 568.92933 | I23: =(F23-H23)/($P$15*$P$16) -> 0.045242809 | J23: =($P$16/$S$9)*(I23-$P$14) -> 0.23094486 | K23: =1/J23 -> 4.3300379 | L23: =E23*K23 -> 171.10143 | M23: =E23/2*L23 -> 3380.5363 | N23: =G23+H23 -> 848.51433 | U23: =E23 -> 39.514997 | V23: =$Z$3*$Z$4 -> 0.3375 | W23: ='Дин. х-ка автомобиля с ГТК'!$O$2 -> 0.02
C24: =Главная!A18 -> 520 | D24: =Главная!K18 -> 103.25168 | E24: =(C24*$P$12)/$P$5 -> 42.807913 | F24: =(D24*$P$13*$P$5)/$P$12 -> 1153.8895 | G24: =$P$14*$P$15*$P$16 -> 279.585 | H24: =$P$17*$P$18*$P$19*(E24^2) -> 667.70178 | I24: =(F24-H24)/($P$15*$P$16) -> 0.034779244 | J24: =($P$16/$S$9)*(I24-$P$14) -> 0.13521437 | K24: =1/J24 -> 7.3956638 | L24: =E24*K24 -> 316.59293 | M24: =E24/2*L24 -> 6776.3414 | N24: =G24+H24 -> 947.28678 | U24: =E24 -> 42.807913 | V24: =$Z$3*$Z$4 -> 0.3375 | W24: ='Дин. х-ка автомобиля с ГТК'!$O$2 -> 0.02
C25: =Главная!A19 -> 560 | D25: =Главная!K19 -> 98.290306 | E25: =(C25*$P$12)/$P$5 -> 46.10083 | F25: =(D25*$P$13*$P$5)/$P$12 -> 1098.4437 | G25: =$P$14*$P$15*$P$16 -> 279.585 | H25: =$P$17*$P$18*$P$19*(E25^2) -> 774.37603 | I25: =(F25-H25)/($P$15*$P$16) -> 0.023182049 | J25: =($P$16/$S$9)*(I25-$P$14) -> 0.029112369 | K25: =1/J25 -> 34.349661 | L25: =E25*K25 -> 1583.5479 | M25: =E25/2*L25 -> 36501.435 | N25: =G25+H25 -> 1053.961 | U25: =E25 -> 46.10083 | V25: =$Z$3*$Z$4 -> 0.3375 | W25: ='Дин. х-ка автомобиля с ГТК'!$O$2 -> 0.02
C26: =Главная!A20 -> 600 | D26: =Главная!K20 -> 92.842707 | E26: =(C26*$P$12)/$P$5 -> 49.393746 | F26: =(D26*$P$13*$P$5)/$P$12 -> 1037.564 | G26: =$P$14*$P$15*$P$16 -> 279.585 | H26: =$P$17*$P$18*$P$19*(E26^2) -> 888.95207 | I26: =(F26-H26)/($P$15*$P$16) -> 0.010630897 | J26: =($P$16/$S$9)*(I26-$P$14) -> -0.085717332 | K26: =1/J26 -> -11.666252 | L26: =E26*K26 -> -576.23989 | M26: =E26/2*L26 -> -14231.323 | N26: =G26+H26 -> 1168.5371 | U26: =E26 -> 49.393746 | V26: =$Z$3*$Z$4 -> 0.3375 | W26: ='Дин. х-ка автомобиля с ГТК'!$O$2 -> 0.02
C27: =Главная!A21 -> 630 | D27: =Главная!K21 -> 89.460317 | E27: =(C27*$P$12)/$P$5 -> 51.863433 | F27: =(D27*$P$13*$P$5)/$P$12 -> 999.76412 | G27: =$P$14*$P$15*$P$16 -> 279.585 | H27: =$P$17*$P$18*$P$19*(E27^2) -> 980.06966 | I27: =(F27-H27)/($P$15*$P$16) -> 0.0014088356 | J27: =($P$16/$S$9)*(I27-$P$14) -> -0.17008939 | K27: =1/J27 -> -5.8792616 | L27: =E27*K27 -> -304.91869 | M27: =E27/2*L27 -> -7907.0651 | N27: =G27+H27 -> 1259.6547 | U27: =E27 -> 51.863433 | V27: =$Z$3*$Z$4 -> 0.3375 | W27: ='Дин. х-ка автомобиля с ГТК'!$O$2 -> 0.02
